BEGIN:VCALENDAR
VERSION:2.0
PRODID:-//https://techplay.jp//JP
CALSCALE:GREGORIAN
METHOD:PUBLISH
X-WR-CALDESC:まさかの大逆転！競馬予想システム開発を支
 えたAIコーディング支援ツール使い倒し術
X-WR-CALNAME:まさかの大逆転！競馬予想システム開発を支
 えたAIコーディング支援ツール使い倒し術
X-WR-TIMEZONE:Asia/Tokyo
BEGIN:VTIMEZONE
TZID:Asia/Tokyo
BEGIN:STANDARD
DTSTART:19700101T000000
TZOFFSETFROM:+0900
TZOFFSETTO:+0900
TZNAME:JST
END:STANDARD
END:VTIMEZONE
BEGIN:VEVENT
UID:977100@techplay.jp
SUMMARY:まさかの大逆転！競馬予想システム開発を支えたA
 Iコーディング支援ツール使い倒し術
DTSTART;TZID=Asia/Tokyo:20250416T200000
DTEND;TZID=Asia/Tokyo:20250416T213000
DTSTAMP:20260425T173014Z
CREATED:20250325T045810Z
DESCRIPTION:イベント詳細はこちら\nhttps://techplay.jp/event/97710
 0?utm_medium=referral&utm_source=ics&utm_campaign=ics\n\nYouTubeの視聴
 URLを公開しました！\n視聴はこちらからどうぞ。\nhttps:
 //www.youtube.com/live/y6L6R5VH9AQ\nまさかの大逆転！競馬予想
 システム開発を支えたAIコーディング支援ツール使い
 倒し術\n概要\n2024年11月に開催された「生成AIなんでも
 展示会 Vol.2」にて、一際大きな話題となった展示があ
 りました。玉置絢さん（@OKtamajun）による「AI競馬予想
 システム」です。8人のAIの女の子たちが、リアルタイ
 ムに行われている競馬の結果を予想し、玉置さんが実
 際に言われるがままに馬券を購入するというもので、
 ブースには常に人だかりができていました。最終レー
 スまで収支はマイナス。大金を失って終了かと思いき
 や・・・なんと最終レースでオッズ2000倍の馬券が的中
 して大逆転するという劇的な結末となりました。\n玉
 置さんは趣味としてこのシステムを開発されているの
 ですが、AIコーディングツールの登場とそれを使い倒
 すことで格段に開発が楽になったとか。限られた時間
 内で想像を形にするためには、AIコーディングツール
 の活用がもはや不可欠と言えるでしょう。今回のイベ
 ントでは競馬予想システムを例にして、玉置さんのAI
 コーディングツール活用術をお話しいただきます。\nCu
 rsor、Cline、Windsurf、GitHub CopilotなどAIコーディングツー
 ルが立て続けに発表され、プログラマーの間ではその
 活用方法に注目が集まっています。玉置さんはこれら
 のツールをどのように使いこなしているのでしょうか
 。\n後半のディスカッションではsaldraさん（@sald_ra）と
 ようさん（@ayousanz）にもご参加いただきます。\n三回
 目の開催となる生成AIなんでも展示会 Vol.3もお申し込
 み受付中です。ぜひよろしくお願いいたします。\nタ
 イムスケジュール\n\n\n\n時間\n内容\n\n\n\n\n20:00〜20:05\n
 オープニング\n\n\n20:05〜20:35\nAIコーディング支援ツー
 ル使い倒し術玉置さん\n\n\n20:35〜21:05\nディスカッショ
 ン玉置さんsaldraさん　ようさん\n\n\n21:05〜21:25\n質疑応
 答\n\n\n21:25〜21:30\nクロージング\n\n\n\n※ 当日予告なく
 時間配分・内容が変更になる可能性がございます。\n
 登壇者\n\n玉置絢さん\nX: @OKtamajun\n普段はゲーム会社で
 企画屋をしている。プログラムは趣味。学生時代に同
 人ゲームを作っていた頃はC++でゲームを作っていたが
 、生成AI時代が来てpythonを覚えた。土日は気が向けばCu
 rsor＋ClineでAIアプリを仮組みして試している。実家が
 京都競馬場の近くだが、京都競馬場で一番損している
 。今年の回収率は84%。\n\n\n\nsaldraさん\nx: @sald_ra著書：
 「AI Tuberを作ってみたら生成AIプログラミングがよくわ
 かった件」（日経BP）「AITuberを作ってみたらプロンプ
 トエンジニアリングがよくわかった件」（日経BP）\n199
 8年東京生まれ。エンジニアであり、AIキャラクターを
 配信する「AITuber」の開発に従事。現在は生成AIに関す
 るイベントを主催し、「ローカルLLMに向き合う会」な
 どのLLMコミュニティの運営や登壇を継続的に行ってい
 る。\n\n\n\nようさん\nX: @ayousanz\nゲーム会社でUnityエン
 ジニアとしてゲーム開発に従事。 個人活動として、 AI
 キャラクターの開発や日本語TTSモデル学習にも注力し
 ています。\nゲーム開発で培った技術とAIの知見を組み
 合わせ、新しいエンターテイメント体験を探求してい
 ます。\n\n参加費\n無料\n注意事項\n\nリクルーティング
 、勧誘など、採用目的でのイベント参加はお断りして
 おります。\nキャンセル待ち・補欠・落選の方はご参
 加いただくことが出来ませんのでご了承ください。\n
 欠席される場合は、お手数ですが速やかにキャンセル
 処理をお願い致します。\n無断キャンセルや欠席が続
 く場合、次回以降の参加をお断りさせていただく場合
 がございます。\n
LOCATION:
URL:https://techplay.jp/event/977100?utm_medium=referral&utm_source=ics&utm
 _campaign=ics
END:VEVENT
END:VCALENDAR
