BEGIN:VCALENDAR
VERSION:2.0
PRODID:-//https://techplay.jp//JP
CALSCALE:GREGORIAN
METHOD:PUBLISH
X-WR-CALDESC:【4/24開催】量子コンピュータ時代の最適化プ
 ログラミング体験セミナー『ブラックボックス最適化
 による特微量選択・コスト削減・精度向上』
X-WR-CALNAME:【4/24開催】量子コンピュータ時代の最適化プ
 ログラミング体験セミナー『ブラックボックス最適化
 による特微量選択・コスト削減・精度向上』
X-WR-TIMEZONE:Asia/Tokyo
BEGIN:VTIMEZONE
TZID:Asia/Tokyo
BEGIN:STANDARD
DTSTART:19700101T000000
TZOFFSETFROM:+0900
TZOFFSETTO:+0900
TZNAME:JST
END:STANDARD
END:VTIMEZONE
BEGIN:VEVENT
UID:977641@techplay.jp
SUMMARY:【4/24開催】量子コンピュータ時代の最適化プログ
 ラミング体験セミナー『ブラックボックス最適化によ
 る特微量選択・コスト削減・精度向上』
DTSTART;TZID=Asia/Tokyo:20250424T140000
DTEND;TZID=Asia/Tokyo:20250424T160000
DTSTAMP:20260422T040815Z
CREATED:20250331T055555Z
DESCRIPTION:イベント詳細はこちら\nhttps://techplay.jp/event/97764
 1?utm_medium=referral&utm_source=ics&utm_campaign=ics\n\n概要\n株式
 会社Fixstars Amplifyでは、最適化クラウド「Fixstars Amplify
 」を活用した社会課題の解決と実業務への適用を進め
 ています。\n本セミナーでは、組合せ最適化問題の概
 要や、組合せ最適化問題を解くための専用マシンであ
 る量子アニーリング・イジングマシンをご紹介した後
 、多方面より注目を集めている量子アニーリング・イ
 ジングマシンを活用したブラックボックス最適化の概
 要を紹介します。その後、ブラックボックス最適化を
 活用した機械学習の特徴量選択に関するワークショッ
 プを行います。ワークショップでは、無料版のFixstars A
 mplifyと弊社が提供するサンプルコードを活用して、ご
 自身のPCより実際にブラックボックス最適化問題を解
 いていただきます。\n量子アニーリング・イジングマ
 シンの活用事例や活用方法をお知りになりたい方、ブ
 ラックボックス最適化にご興味がある方、機械学習の
 学習・推論コストの削減やモデル性能の向上にご興味
 がある方におすすめの内容となっています。\nぜひご
 参加ください。\n講演内容\n\nはじめに\n会社および量
 子コンピューティングクラウド「Fixstars Amplify」のご紹
 介\nブラックボックス最適化の概要のご紹介\nFixstars Amp
 lifyを用いたブラックボックス最適化のワークショップ
 ・機械学習の特徴量選択・コスト削減・精度向上\nそ
 の他の事例や今後の学習の進め方等のご紹介\nQ&A\n\n※ 
 途中に休憩をはさみます※ 当日は予告なく時間配分・
 内容等が変更になる可能性があります※ 途中入退室は
 可能です\n登壇者\n源 勇気株式会社Fixstars Amplify ディレ
 クター\n轟 貴久株式会社Fixstars Amplify シニアディレク
 ター\n参加対象\n\n量子アニーリング・イジングマシン
 の活用事例や活用方法をお知りになりたい方\nブラッ
 クボックス最適化にご興味がある方\n機械学習の学習
 ・推論コストの削減やモデル性能の向上にご興味があ
 る方\n\n参加費\n\n無料\n\n製品紹介\n\nFixstars Amplify製品
 サイトhttps://amplify.fixstars.com/ja/product#amplifyis\n\nFixstars Am
 plifyお客様事例・研究事例https://amplify.fixstars.com/ja/custom
 ers\n\nブラックボックス最適化に関するデモ&チュート
 リアルhttps://amplify.fixstars.com/ja/demo#blackbox\n\n\n注意事項\
 n\nご参加前に事前準備をお願いします\n配信映像や音
 声は各自の通信環境に依存します。なるべく通信環境
 の良い状態で視聴ください\n参加を辞退する場合は、
 詳細ページよりお申し込みのキャンセルをお願いしま
 す\nリクルーティング、勧誘などのご参加はお断りし
 ております\n\n
LOCATION:
URL:https://techplay.jp/event/977641?utm_medium=referral&utm_source=ics&utm
 _campaign=ics
END:VEVENT
END:VCALENDAR
