BEGIN:VCALENDAR
VERSION:2.0
PRODID:-//https://techplay.jp//JP
CALSCALE:GREGORIAN
METHOD:PUBLISH
X-WR-CALDESC:Google AIによる概要の影響と AI時代のSEO対策 - De
 mandSphere
X-WR-CALNAME:Google AIによる概要の影響と AI時代のSEO対策 - De
 mandSphere
X-WR-TIMEZONE:Asia/Tokyo
BEGIN:VTIMEZONE
TZID:Asia/Tokyo
BEGIN:STANDARD
DTSTART:19700101T000000
TZOFFSETFROM:+0900
TZOFFSETTO:+0900
TZNAME:JST
END:STANDARD
END:VTIMEZONE
BEGIN:VEVENT
UID:977687@techplay.jp
SUMMARY:Google AIによる概要の影響と AI時代のSEO対策 - DemandS
 phere
DTSTART;TZID=Asia/Tokyo:20250425T130000
DTEND;TZID=Asia/Tokyo:20250425T140000
DTSTAMP:20260420T082122Z
CREATED:20250331T071711Z
DESCRIPTION:イベント詳細はこちら\nhttps://techplay.jp/event/97768
 7?utm_medium=referral&utm_source=ics&utm_campaign=ics\n\n最新の情報
 をもとに、今後のSEO対策を考える\nGoogleの「AI による
 概要※」 が日本でも本格リリースされました！\n※当
 社製品では、Googleが検索結果画面に表示する「AIによ
 る概要」を「AIオーバービュー」と表記します。\nAI時
 代の到来により、検索結果画面が急速に変化していく
 ことが予想されます。また、ユーザーの検索行動自体
 も、これまでのキーワード検索から、AIに質問をする
 ような文章ベースの検索方法がより増えてくることで
 しょう。\n本ウェビナーでは、この変化が SEOやコンテ
 ンツ制作にどのような影響を与えるのか、そしてこれ
 からのSEO対策として何が求められるのかを、DemandSphere
 カントリーマネージャーの室屋が分かりやすく解説し
 ます。\nAI時代のSEO対策を考える上で必聴のウェビナー
 です！ぜひご参加ください。\nこんな方におすすめ\n　
 ✓Googleの「AIによる概要」が何かを詳しく理解したい
 　✓ AIが今後の検索体験をどう変えるのか知りたい　
 ✓ 自社サイトやコンテンツへの影響を考えたい\nイベ
 ント内容\n　1. Googleの「AIによる概要」とは？　2. 「AI
 による概要」が検索結果画面やSEOに与える影響　3. 今
 後のSEO対策に必要な視点　4. 質疑応答（事前質問・当
 日質問）\nイベント詳細\n　・日時：2025年4月25日(金) 13
 :00〜14:00　・参加費：無料　・参加方法：Zoom（アーカ
 イブ配信あり）
LOCATION:
URL:https://techplay.jp/event/977687?utm_medium=referral&utm_source=ics&utm
 _campaign=ics
END:VEVENT
END:VCALENDAR
