BEGIN:VCALENDAR
VERSION:2.0
PRODID:-//https://techplay.jp//JP
CALSCALE:GREGORIAN
METHOD:PUBLISH
X-WR-CALDESC:【オフライン】中央区(東京)でTableauもくもく
 会(日本橋・茅場町) 4/12(土) 9:00-12:00
X-WR-CALNAME:【オフライン】中央区(東京)でTableauもくもく
 会(日本橋・茅場町) 4/12(土) 9:00-12:00
X-WR-TIMEZONE:Asia/Tokyo
BEGIN:VTIMEZONE
TZID:Asia/Tokyo
BEGIN:STANDARD
DTSTART:19700101T000000
TZOFFSETFROM:+0900
TZOFFSETTO:+0900
TZNAME:JST
END:STANDARD
END:VTIMEZONE
BEGIN:VEVENT
UID:978151@techplay.jp
SUMMARY:【オフライン】中央区(東京)でTableauもくもく会(日
 本橋・茅場町) 4/12(土) 9:00-12:00
DTSTART;TZID=Asia/Tokyo:20250412T090000
DTEND;TZID=Asia/Tokyo:20250412T120000
DTSTAMP:20260423T110837Z
CREATED:20250403T124846Z
DESCRIPTION:イベント詳細はこちら\nhttps://techplay.jp/event/97815
 1?utm_medium=referral&utm_source=ics&utm_campaign=ics\n\n【オフライ
 ン】中央区でTableauもくもく会(日本橋・茅場町)\n※今
 回は和室です。座卓です。\n概要\n中央区の会議室を借
 り、ゆるい感じでもくもく会をやります。各自やりた
 い作業をしたり、雑談したりします。\n途中参加・早
 退OKです！気軽にご参加ください！※途中参加の方は
 事前に連絡いただけると助かります。\n参加対象\n\nTabl
 eauに関係する方\n\n\nこんな人におススメ\n\n家だと作業
 しづらいので外で作業したい\n誰かに相談したい\nTablea
 uの話がしたい\nオフラインで誰かと繋がりたい\n\n\n場
 所・参加費\n\n場所：新馬橋区民館 3号和室\n費用：会
 議室代(700円)を人数割り。\n\n主催者紹介\nSeiji_Suna https:
 //x.com/Seiji_Suna\n2018年からTableauを利用。仕事ではTableau
 のダッシュボード構築・運用を行う。小売業や商業施
 設のデータが得意。\n趣味はテニス、東海道53次ウォー
 キング、ちいかわ。Tableauうまうま会幹事。\n\n注意事
 項\n\n開催前日の18時までに2人以上集まらない場合は中
 止とします。\nリクルーティング、勧誘など、採用目
 的でのイベント参加はお断りしております。\nキャン
 セル待ち・補欠・落選の方はご参加いただくことが出
 来ませんのでご了承ください。\n欠席される場合は、
 お手数ですが速やかにキャンセル処理をお願い致しま
 す。\n無断キャンセルや欠席が続く場合、次回以降の
 参加をお断りさせていただく場合がございます。\n
LOCATION:新場橋区民館 東京都中央区日本橋兜町11番9号
URL:https://techplay.jp/event/978151?utm_medium=referral&utm_source=ics&utm
 _campaign=ics
END:VEVENT
END:VCALENDAR
