BEGIN:VCALENDAR
VERSION:2.0
PRODID:-//https://techplay.jp//JP
CALSCALE:GREGORIAN
METHOD:PUBLISH
X-WR-CALDESC:【第2弾】今すぐ効率化!生成AIまるわかりウェ
 ビナー～ビジネス応用編～【参加無料】
X-WR-CALNAME:【第2弾】今すぐ効率化!生成AIまるわかりウェ
 ビナー～ビジネス応用編～【参加無料】
X-WR-TIMEZONE:Asia/Tokyo
BEGIN:VTIMEZONE
TZID:Asia/Tokyo
BEGIN:STANDARD
DTSTART:19700101T000000
TZOFFSETFROM:+0900
TZOFFSETTO:+0900
TZNAME:JST
END:STANDARD
END:VTIMEZONE
BEGIN:VEVENT
UID:978244@techplay.jp
SUMMARY:【第2弾】今すぐ効率化!生成AIまるわかりウェビナ
 ー～ビジネス応用編～【参加無料】
DTSTART;TZID=Asia/Tokyo:20250404T160000
DTEND;TZID=Asia/Tokyo:20250430T170000
DTSTAMP:20260423T215610Z
CREATED:20250404T061816Z
DESCRIPTION:イベント詳細はこちら\nhttps://techplay.jp/event/97824
 4?utm_medium=referral&utm_source=ics&utm_campaign=ics\n\n【好評につ
 き延長!】今すぐ効率化!生成AIまるわかりウェビナー【
 参加無料】\n概要\n当社では昨年まで【今すぐ効率化！
 生成AIまるわかりウェビナー】をオンデマンド開催し
 ておりました。たくさんの方にお申込みいただいたこ
 のウェビナーですが、大好評につき、開催を延長いた
 します！\n第1弾の基本編でお話しできなかった、より
 実践的な生成AIの活用法を解説した内容となっており
 ます。生成AIを使い倒している先行企業の活用事例か
 ら、ビジネス利用で必須の「RAG機能」まで幅広く、そ
 して深く解説しております。\nオンデマンドでの配信
 のため、いつでも、どこでも、そして何回でも視聴可
 能！自分のペースで学びたいという方にぴったりです
 。もちろん参加無料です！「生成AIについてなんとな
 く知っているけど、社内で活用できていない･･･」
 「第1弾を見て、より深いビジネス活用法が知りたい！
 」そんな皆様必見です！是非どなたでもお気軽にお申
 込みください♪\nウェビナーの詳細はこちら【第1弾】
 生成AIまるわかりウェビナー ～基本編～\n＊＊＊\nChatGP
 Tって、話題だから使い始めたけれどいまいち活用しき
 れてないかも･･･そんなお声を度々耳にするように
 なりました。本ウェビナーではそんなお悩みに寄り添
 い、実践的に生成AIを活用するヒントを伝授します！\n
 実際に昨年から生成AIを使い倒している先行企業の事
 例を大公開！全社の各部門でどのように生成AIを利用
 しているのか、具体的な活用事例をご紹介します。ま
 た、ビジネス利用に必須の機能である**「RAG*（検索拡
 張生成）」**についても分かりやすく解説しています
 。*RAGとは、自社の独自情報を生成AIに学習させること
 で、「自社専用チャットボット」をつくれる技術のこ
 とです。\nウェビナーでは、OpenAI社の「GPTs」や、会話
 型AI開発サービス「miibo」の２つを使い、実際のRAG構築
 作業とチャットボットの動きをお見せします。ぜひイ
 メージを掴んでみてください。\n詳細はこちら\n\nまた
 、当社では「生成AIはてな解消会」を開催しています
 。「生成AIって実際どうなの？」「自社に合った活用
 方法を知りたい！」など、相談内容はどんな些細なこ
 とでもOKです♪まずはお気軽にご利用ください。\nはて
 な解消会のお申込みはこちら\n\n【ウェビナー内容】生
 成AIまるわかりウェビナー 第1弾のおさらい最新生成AI
 動向とAGI・ASIへ生成AI活用 先行企業の導入効果生成AI
 早期活用の意義ビジネス活用の具体例（デモンストレ
 ーションあり）\n【視聴方法】オンライン（Zoomによる
 オンデマンド開催）参加者の皆様の顔出しはございま
 せん。お申込みいただいた方には、メールにて視聴用U
 RLをお送りいたします。\n日時\nオンデマンド配信です
 ！お好きな時間にいつでもご視聴いただけます。\n参
 加費\n無料\n
LOCATION:
URL:https://techplay.jp/event/978244?utm_medium=referral&utm_source=ics&utm
 _campaign=ics
END:VEVENT
END:VCALENDAR
