BEGIN:VCALENDAR
VERSION:2.0
PRODID:-//https://techplay.jp//JP
CALSCALE:GREGORIAN
METHOD:PUBLISH
X-WR-CALDESC:【現役フリーランスが語る】インフラエンジ
 ニアの市場価値と今後のキャリア
X-WR-CALNAME:【現役フリーランスが語る】インフラエンジ
 ニアの市場価値と今後のキャリア
X-WR-TIMEZONE:Asia/Tokyo
BEGIN:VTIMEZONE
TZID:Asia/Tokyo
BEGIN:STANDARD
DTSTART:19700101T000000
TZOFFSETFROM:+0900
TZOFFSETTO:+0900
TZNAME:JST
END:STANDARD
END:VTIMEZONE
BEGIN:VEVENT
UID:978659@techplay.jp
SUMMARY:【現役フリーランスが語る】インフラエンジニア
 の市場価値と今後のキャリア
DTSTART;TZID=Asia/Tokyo:20250425T190000
DTEND;TZID=Asia/Tokyo:20250425T213000
DTSTAMP:20260423T024854Z
CREATED:20250409T015506Z
DESCRIPTION:イベント詳細はこちら\nhttps://techplay.jp/event/97865
 9?utm_medium=referral&utm_source=ics&utm_campaign=ics\n\nフリーラン
 スにおけるインフラエンジニアの市場価値と今後のキ
 ャリア\n概要\n「フリーランスとしてスキルアップ・単
 価アップしたい」「今は正社員だけど、フリーランス
 も選択肢として考えている」そんなエンジニアの方へ
 向けたトークセッションを開催します！\n本イベント
 では、実際に正社員からフリーランスに転身された現
 役のフリーランスエンジニアをゲストに迎え、フリー
 ランス転身のきっかけや、現在の働き方、正社員との
 違い、さらには単価アップのために必要なスキルやキ
 ャリア設計についてリアルな話をお届けします。\nま
 た、今回はDatadog様の会場をお借りしてオフラインで開
 催します！スポンサーセッションでは、Datadogのプロダ
 クトや技術についてお話いただきます。セッション終
 了後には懇親会もご用意しています！ポジション問わ
 ずさまざまな分野のエンジニアの方々と交流いただけ
 る場となっておりますのでお気軽にご参加ください！
 ！フリーランス、正社員関わらずお知り合いのエンジ
 ニアの方とのご参加も大歓迎です！\nタイムスケジュ
 ール\n\n\n\n時間\n内容\n\n\n\n\n18:30～\n受付開始\n\n\n19:00
 ～19:45\nトークセッション\n\n\n19:45～19:55\n質疑応答\n\n\n
 20:00～20:15\nDatadogスポンサーセッション\n\n\n20:25～21:15\n
 懇親会\n\n\n21:30\n終了\n\n\n\n※ 当日予告なく時間配分・
 内容が変更にな可能性がございます。\n登壇者情報\nパ
 ネリスト\n\nうえすとさん｜SRE\n（@westhouse_k）\n大学院
 修了後、新卒で大手生花店に入社。海外からノマドワ
 ークすることを夢見て、SES企業に転職。\n2年強POSレジ
 のシステム開発をした後、自社開発メガベンチャーに
 入社。求人メディアの新規開発案件に参画し、\nアプ
 リケーションエンジニアからインフラエンジニアに転
 向。\n2年弱で退職し、SRE領域のフリーランスに転向し
 、世界27ヶ国からノマドワークを実現。\n現在、日本に
 帰国し、箱根からフルリモートでSRE案件、技術支援の2
 案件に参画\n\n\n\nTakumaさん｜インフラエンジニア\n（@aw
 s_TakS07）\n大学卒業後、紳士服業界で5年間勤務。その
 後フィリピンに渡り、外資系SIer企業にてブリッジSEと
 して4年半従事。\nコロナをきっかけに帰国後、プログ
 ラミングスクールで開発言語を学び、SES企業にインフ
 ラエンジニアとして就職。\n1年後に独立し、フリーラ
 ンスとして活動を開始。現在は法人を設立し、エンジ
 ニア業務に加え、その他の分野にも事業を\n展開中。\n
 \n\nファシリテーター\n\n斎藤健太｜Relance事業部　事業
 部長\n（@relance_kenta）\n複数の人材紹介会社でエージェ
 ントとして活動した後、2021年にフリーランスエンジニ
 アに特化した\n人材紹介事業「Relance（リランス）」の
 立ち上げ拡大をミッションに、スリーシェイクへ入社
 。\nエージェント事業の拡大と並行してマッチングプ
 ラットフォーム　「Relance Comm（リラコム）」の立ち上
 げや、\nHRBPコンサルティング業務も行う。\n\n\nスポン
 サーセッション\n\nAnnosuke Yokooさん｜Datadog Japan合同会社
 　Sales Engineer\n（@866mfs）\nSoftware Engineerとして、とある
 スタートアップでキャリアをスタート。\nよりサービ
 スの信頼性に関わるロールを経験したいと思い、Relance
 運営元であるスリーシェイクに入社し、\n主にEnterprise
 向けのSREとして従事。 Datadogでは、Sales EngineerとしてObs
 ervabilityの導入支援を実施中。\n2023 AWS Jr.Champions\, 2025 Go
 ogle Cloud Partner Top Engineer Fellowなどパブリッククラウド
 に関する\nAwardsを複数受賞。\n\n参加費\n無料\n行動規範
  (Code of Conduct) について\n本イベントは、フリーランス
 エンジニアに関連する情報について参加者と共有する
 ための場です。そのため、主催者を含む全ての参加者
 は下記ページに記載される行動規範に同意していただ
 く必要があります。ご理解・ご協力をお願いいたしま
 す。https://3-shake.com/event-code-of-conduct/\n注意事項\n■当日
 、SNSや記事の投稿に利用する写真をスタッフが撮影し
 ます。もし気になる方がいらっしゃれば、写りづらい
 席にご案内いたしますが、映り込む可能性はございま
 す。その際の撮影写真の確認や削除には対応できませ
 んのでご了承ください。■参加者によるイベントの動
 画撮影および音声録音は禁止しております。ブログやS
 NS等で当イベントに関する発信は問題ございません。
 発信する際には、公序良俗に反する内容のないようご
 協力をお願いします。■エンジニア同士の情報交換や
 知識共有を軸にした交流が目的のイベントになります
 。営業や勧誘等、主目的が異なる方のご参加はご遠慮
 ください。■情報商材やサロン、スクールの紹介はご
 遠慮ください。■交流会や飲食のみが目的の方はご遠
 慮ください。\nお問い合わせ・キャンセルついて\n■イ
 ベントに関するご不明点などは以下までお問い合わせ
 ください。relance-pr@3-shake.com■申込み後のキャンセルに
 ついては、当日17:00までにTech Play上でキャンセルをお
 願いします。\n\n
LOCATION:Datadogオフィス 東京都千代田区丸の内２丁目７−
 ２ JPタワー 19F
URL:https://techplay.jp/event/978659?utm_medium=referral&utm_source=ics&utm
 _campaign=ics
END:VEVENT
END:VCALENDAR
