BEGIN:VCALENDAR
VERSION:2.0
PRODID:-//https://techplay.jp//JP
CALSCALE:GREGORIAN
METHOD:PUBLISH
X-WR-CALDESC:5/31(土)【新宿】オフラインTableauもくもく会 Vol
 .24（懇親会）
X-WR-CALNAME:5/31(土)【新宿】オフラインTableauもくもく会 Vol
 .24（懇親会）
X-WR-TIMEZONE:Asia/Tokyo
BEGIN:VTIMEZONE
TZID:Asia/Tokyo
BEGIN:STANDARD
DTSTART:19700101T000000
TZOFFSETFROM:+0900
TZOFFSETTO:+0900
TZNAME:JST
END:STANDARD
END:VTIMEZONE
BEGIN:VEVENT
UID:978993@techplay.jp
SUMMARY:5/31(土)【新宿】オフラインTableauもくもく会 Vol.24
 （懇親会）
DTSTART;TZID=Asia/Tokyo:20250531T181500
DTEND;TZID=Asia/Tokyo:20250531T203000
DTSTAMP:20260424T121320Z
CREATED:20250412T024136Z
DESCRIPTION:イベント詳細はこちら\nhttps://techplay.jp/event/97899
 3?utm_medium=referral&utm_source=ics&utm_campaign=ics\n\n5/31(土)【新
 宿】オフラインTableauもくもく会 Vol.24（懇親会）\n\n概
 要\n5/31(土)【新宿】オフラインTableauもくもく会 Vol.24の
 懇親会です!\nもくもく会参加申し込みページ5/31(土)【
 新宿】オフラインTableauもくもく会 Vol.24\nもくもく会は
 参加できないけど懇親会だけ参加したいという方もウ
 ェルカムです!\nタイムスケジュール\n2025年5月31日(土) 1
 8:15〜20:30\n\n\n\n時間\n内容\n\n\n\n\n18:15\n開場・入室\n\n\n1
 8:20\n乾杯\n\n\n18:20～20:30\n懇親会\n\n\n20:40\n撤収\n\n\n20:45
 ～\n二次会（*希望者）\n\n\n\n※ 当日予告なく時間配分
 ・内容が変更になる可能性がございます。\n場所\nぼで
 ごん亭東京都新宿区新宿２－5－11　甲州屋ビル1階こち
 らのGoogle mapをご参考ください。https://maps.app.goo.gl/Rggq6z
 KLE5nX2TNx8\n主催者\n\nわたるん  @proj_aquabellus\n\nTableau兄
 さん @tableau_nisan\n参加対象\n\nTableauユーザー\nTableauに
 興味のある方\nTableauユーザー同士で交流してみたい方\
 n美味しいご飯を食べながらTableau談義に花を咲かせた
 い方\n\n参加費\n4200円（コース＆飲み放題付き）\n注意
 事項\n決済確定時点で申し込み完了としますキャンセ
 ル時の扱いは下記となります\n\n3日前までのキャンセ
 ル　システム使用料4%を相殺した金額を返金\n2日前以
 降のキャンセル　原則返金不可\n\nキャンセル時は必ず
 グループページトップの【グループに関するお問合せ
 】から連絡をしてくださいTechplay上のキャンセルだと
 確認できない場合があります【非公認】Tableauルノアー
 ルユーザー会トップ
LOCATION:ぼでごん亭 東京都新宿区新宿２－5－11　甲州屋
 ビル1階
URL:https://techplay.jp/event/978993?utm_medium=referral&utm_source=ics&utm
 _campaign=ics
END:VEVENT
END:VCALENDAR
