BEGIN:VCALENDAR
VERSION:2.0
PRODID:-//https://techplay.jp//JP
CALSCALE:GREGORIAN
METHOD:PUBLISH
X-WR-CALDESC:全5回でPowerPointの各機能を学ぶ（３） アニメ
 ーションの活用
X-WR-CALNAME:全5回でPowerPointの各機能を学ぶ（３） アニメ
 ーションの活用
X-WR-TIMEZONE:Asia/Tokyo
BEGIN:VTIMEZONE
TZID:Asia/Tokyo
BEGIN:STANDARD
DTSTART:19700101T000000
TZOFFSETFROM:+0900
TZOFFSETTO:+0900
TZNAME:JST
END:STANDARD
END:VTIMEZONE
BEGIN:VEVENT
UID:979112@techplay.jp
SUMMARY:全5回でPowerPointの各機能を学ぶ（３） アニメーシ
 ョンの活用
DTSTART;TZID=Asia/Tokyo:20250520T190000
DTEND;TZID=Asia/Tokyo:20250520T200000
DTSTAMP:20260420T004404Z
CREATED:20250414T002508Z
DESCRIPTION:イベント詳細はこちら\nhttps://techplay.jp/event/97911
 2?utm_medium=referral&utm_source=ics&utm_campaign=ics\n\n全5回でPowerP
 ointの各機能を学ぶ（３） アニメーションの活用\nクリ
 ーク･アンド･リバー社（C&R社）は、2025年５月20日（
 火）に「全5回でPowerPointの各機能を学ぶ（３） アニメ
 ーションの活用」を実施します。\n「全5回でPowerPointの
 各機能を学ぶ」シリーズは、PowerPointをきちんと学んだ
 ことがなく見よう見まねで使っている方から、普段企
 画書やプレゼン資料を作成している方まで幅広い方々
 を対象としています。図形や画像の取り扱い、アニメ
 ーションやスライドショーなど、各機能に絞って演習
 をしながら進めていく内容です。\n第３回目の今回は
 、「アニメーションの活用」について体系的に理解で
 きるよう、演習を交えながら学んでいきます。\n▼こ
 んなことを学びます。\n\nアニメーションの基本設定\n
 アニメーションの編集とTips\n\n▼こんな方にオススメ
 ！\n\nPowerPointをきちんと学んだことがない方\n普段企画
 書やプレゼン資料を作成している方\nアニメーション
 に興味がある方\n\n▼お申込み前にご確認ください\n・
 講義はWindows・Microsoft365・最新のPowerPointバージョンで
 行います。・下位バージョンやmacとは異なる名称や機
 能が複数あります。下位バージョンやmacに関する質問
 には回答できませんので、予めご了承ください。・当
 日はデュアルモニタで作業画面とZoom画面を投影して作
 業いただくか、作業用PＣの他に、オンライン（Zoom画
 面）視聴用の端末（ＰＣや液晶タブレットなど）を準
 備いただくと作業がしやすいです。\nタイムスケジュ
 ール\n\n\n\n時間\n内容\nspeaker\n\n\n\n\n19：00～19：05\nオー
 プニング\nC&R社\n\n\n19：05～19：50\n講演\n古澤登志美 氏
 \n\n\n19：50～20：00\n質疑応答\n\n\n\n20：00～\nクロージン
 グ\n\n\n\n\n※ 当日予告なく時間配分・内容が変更にな
 る可能性がございます。\n登壇者\n古澤　登志美（ふる
 さわ・としみ）氏\n株式会社ワンズ・ワン代表取締役\n
 2001年、パソコン出張サポート業を起ち上げ、同時にＩ
 Ｔ系セミナー講師としても活動を開始。Excelを始めと
 したOfficeアプリの他、ホームページ作成や画像処理な
 ど、初心者にもわかりやすく伝えることを得意とする
 。現在はＩＴ活用支援を中心に、中小企業向の生産性
 向上に向けたコンサルティングを行っている。2017年、
 中小企業診断士登録。2021年ＩＴコーディネータ認定。
 \n「Excelパワークエリではじめるデータ集計の自動化」
 （インプレス刊）著者。\n「Excelパワーピボットで極め
 る一歩先の集計・分析」（インプレス刊）著者。\n「
 できるDAX関数 Power BI＆Excelパワーピボット対応」（イ
 ンプレス刊）著者。\n\n「Excelパワークエリではじめる
 データ集計の自動化」（インプレス刊）「Excelパワー
 ピボットで極める一歩先の集計・分析」（インプレス
 刊）「できるDAX関数 Power BI＆Excelパワーピボット対応
 」（インプレス刊）\n参加費\n無料\n当ウェビナーにつ
 いて\n\n\nこちらのサイトからもお申込みいただくこと
 ができます。\n\n\n▼C&R社で実施しているオンライン講
 座・ウェビナー　一覧ページhttps://www.c-place.ne.jp/
LOCATION:
URL:https://techplay.jp/event/979112?utm_medium=referral&utm_source=ics&utm
 _campaign=ics
END:VEVENT
END:VCALENDAR
