BEGIN:VCALENDAR
VERSION:2.0
PRODID:-//https://techplay.jp//JP
CALSCALE:GREGORIAN
METHOD:PUBLISH
X-WR-CALDESC:【primeNumer×DearOne】迅速な意思決定を支えるデ
 ータ基盤の作り方　売上を伸ばす施策事例もご紹介
X-WR-CALNAME:【primeNumer×DearOne】迅速な意思決定を支えるデ
 ータ基盤の作り方　売上を伸ばす施策事例もご紹介
X-WR-TIMEZONE:Asia/Tokyo
BEGIN:VTIMEZONE
TZID:Asia/Tokyo
BEGIN:STANDARD
DTSTART:19700101T000000
TZOFFSETFROM:+0900
TZOFFSETTO:+0900
TZNAME:JST
END:STANDARD
END:VTIMEZONE
BEGIN:VEVENT
UID:979534@techplay.jp
SUMMARY:【primeNumer×DearOne】迅速な意思決定を支えるデータ
 基盤の作り方　売上を伸ばす施策事例もご紹介
DTSTART;TZID=Asia/Tokyo:20250521T120000
DTEND;TZID=Asia/Tokyo:20250521T130000
DTSTAMP:20260425T131808Z
CREATED:20250417T092843Z
DESCRIPTION:イベント詳細はこちら\nhttps://techplay.jp/event/97953
 4?utm_medium=referral&utm_source=ics&utm_campaign=ics\n\nマーケティ
 ング施策の成果のカギを握るのは『データ基盤』！\n
 設計方法やデータ基盤を活用した施策事例をご紹介し
 ます\nこんな方にオススメ！\n\n自社データは溜まって
 きているが、データ整備に課題がある\nデータ構築が
 属人化しており、マーケティング施策への活用がしづ
 らい\nDWHを使ったマーケティング施策の事例が知りた
 い\n\nこのウェビナーで学べること\n\n現場で起こりが
 ちなデータ整備の課題\nマーケティング施策に繋げる
 データ基盤構築のポイント\nデータ基盤の活用による
 施策事例\n\n売上に繋げるマーケティング施策を打ち出
 すには、感覚ではなく自社のデータに基づいて判断す
 ることが不可欠です。そしてそのカギを握るのが**「
 データ基盤の作り方」です。単なるデータ収集・蓄積
 ではなく、分析から施策実施までのサイクルを1つのデ
 ータ基盤**で行うことによって、マーケティング施策
 の効果をより高めることができます。\n本ウェビナー
 では、そのようなデータ基盤を構築するために重要な
 データを**”使えるようにする”**観点からの解説や、
 データ基盤によって実現できるマーケティング施策例
 についてもご紹介いたします。\nデータはあるのに活
 用しきれていないなど課題のある方はぜひご参加くだ
 さい！\n開催概要\n日程：2025年5月21日（水）時間：12:00
 ～13:00会場：オンライン参加：無料​※同業者・競合
 する方、個人（フリーランスや学生など）の方からの
 お申込みはお断りさせていただきます。※ご登録情報
 から所属先が不明な方（フリーアドレスなど）は、主
 催者都合によりお申込をお断りする場合がございます
 のでご了承ください。\nTECH PLAYより申し込みされた方
 は、事務局が代理でBizibl登録しています。 Biziblより送
 られてくるメールに視聴URLが記載されておりますので
 、当日はそちらよりご参加ください。\n登壇者\n阿左美
  貴之株式会社primeNumber カスタマーサクセス本部 Senior M
 anager\, Partner Alliance老舗ISP企業に新卒で入社しパートナ
 ーセールスを経験した後、複数の外資系IT企業にてイ
 ンサイドセールス、パートナーセールス、フィールド
 セールスを担当。使って良かったを叶えるカスタマー
 サクセスの実現のためprimeNumberに入社。現在はパート
 ナー様共にお客様のデータ活用を少しでも促進できる
 ように奮闘中。\n小林 佑樹株式会社DearOne グロースマ
 ーケティング部 セールスプランニングユニット リー
 ダー チーフソリューションコンサルタント2021年にDearO
 ne参画。参画後は経営企画から始まりグロースマーケ
 ティング部のソリューションコンサルティング部門な
 どを経験。これまで多くの日本企業への海外MarTechツー
 ルの導入プロジェクトなどを推進。国内大手通信会社
 案件ではAmplitude、Hightouchを活用した数千万以上のユー
 ザーの顧客軸データの連携と分析環境構築を実現。 現
 在は主にHightouchのセールス、セールスエンジニアリン
 グ、カスタマーサクセスまでを担当し日本市場の開拓
 を推進。\n共催\n株式会社DearOne代表取締役社長　河野 
 恭久／〒105-0001 東京都港区虎ノ門 3-8-8 NTT虎ノ門ビル株
 式会社primeNumber代表取締役CEO　田邊 雄樹／〒141-0021 東
 京都品川区上大崎三丁目１番１号JR東急目黒ビル5F\n事
 務局\nwebinar@dearone.io\nセミナーお申込時の個⼈情報の取
 り扱いについて\nセミナーお申込時の個人情報の取扱
 いについて、以下のリンク先をご確認いただき、内容
 に同意した上でお申し込みください。株式会社primeNumbe
 rプライバシーポリシーhttps://primenumber.com/privacy株式会
 社DearOne セミナーお申し込み時の個人情報の取り扱い
 についてhttps://www.dearone.io/privacy/form/
LOCATION:
URL:https://techplay.jp/event/979534?utm_medium=referral&utm_source=ics&utm
 _campaign=ics
END:VEVENT
END:VCALENDAR
