BEGIN:VCALENDAR
VERSION:2.0
PRODID:-//https://techplay.jp//JP
CALSCALE:GREGORIAN
METHOD:PUBLISH
X-WR-CALDESC:【プロンプトも公開！】2025年最新生成AIを活
 用したSEO記事作成セミナー開催！
X-WR-CALNAME:【プロンプトも公開！】2025年最新生成AIを活
 用したSEO記事作成セミナー開催！
X-WR-TIMEZONE:Asia/Tokyo
BEGIN:VTIMEZONE
TZID:Asia/Tokyo
BEGIN:STANDARD
DTSTART:19700101T000000
TZOFFSETFROM:+0900
TZOFFSETTO:+0900
TZNAME:JST
END:STANDARD
END:VTIMEZONE
BEGIN:VEVENT
UID:980081@techplay.jp
SUMMARY:【プロンプトも公開！】2025年最新生成AIを活用し
 たSEO記事作成セミナー開催！
DTSTART;TZID=Asia/Tokyo:20250430T150000
DTEND;TZID=Asia/Tokyo:20250430T160000
DTSTAMP:20260426T033333Z
CREATED:20250422T232047Z
DESCRIPTION:イベント詳細はこちら\nhttps://techplay.jp/event/98008
 1?utm_medium=referral&utm_source=ics&utm_campaign=ics\n\n▌セミナー
 概要\n2025年最新検索上位を獲得するためのSEO記事作成
 方法を徹底解説！\nSEO記事を書くうえで、適切なキー
 ワードの選定、検索意図を踏まえた構成作成、読みや
 すく訴求力のあるライティングは欠かせません。本セ
 ミナーでは、最新のSEOトレンドを押さえながら、検索
 エンジンに評価されやすい記事作成のポイントを学び
 ます。\nさらに、今話題の生成AIを活用し、記事作成の
 効率を大幅に向上させる手法もご紹介！SEOライティン
 グ初心者の方はもちろん、さらに質の高い記事を作り
 たい方にも役立つ内容となっています。\n【お申込み
 はこちら】https://allweb-consulting.co.jp/information/20250430_semin
 ar/\n▌このセミナーで学べること\n✅ 効果的なキーワ
 ード選定のコツ✅ 検索上位を狙う記事構成案の作成方
 法✅ SEOに強いライティングテクニック✅ 生成AIを活用
 した記事作成の実践法\n▌講師紹介\n●江守 義樹（株
 式会社ALL WEB CONSULTING 代表取締役社長）2013年よりアパ
 レルECサイトの店長として出店から運営までを経験。
 出店から約1年で月商1\,000万円達成。その後、複数のEC
 サイトの立ち上げを行い0ベースから月商数千万規模の
 ショップを手掛ける。2017年よりECサイト専門のコンサ
 ル会社にジョインし大規模サイト～小規模サイトまで
 サイト規模問わず数百サイト以上の支援を行う。\n2020
 年より株式会社ALL WEB CONSULTINGを創業し代表取締役に就
 任。WEBアナリストとして過去1\,000サイト以上のデータ
 分析を行ってきた知見を活用し戦略的なSEO対策、サイ
 ト制作、WEBプロモーションなどWEBマーケティング全般
 のスペシャリストとして活動中。\n【お申込みはこち
 ら】https://allweb-consulting.co.jp/information/20250430_seminar/\n▌
 株式会社ALL WEB CONSULTINGについて\nネットショップ・ECサ
 イトの支援に特化したマーケティング会社です。戦略
 立案、サイト解析などのECコンサルティングからWEB広
 告運用、SEO対策、SNSマーケティングなどの集客施策、
 サイト構築、LP制作などのWEB制作、ショップブランデ
 ィングまでEC運営に関わることはすべてワンストップ
 で行っております。また、楽天、Yahoo！、AmazonなどのEC
 ショッピングモールから自社ECサイトまで幅広く対応
 。過去1\,000サイト以上のECサイトで売上向上支援、サ
 イト分析を行っておりノウハウも豊富です。\n＜会社
 概要＞会社名：株式会社ALL WEB CONSULTING所在地：東京都
 渋谷区恵比寿西２丁目１９−９代表者：代表取締役　
 江守 義樹URL ：https://allweb-consulting.co.jp\n事業内容：-ネ
 ットショップ（ECサイト）の運営支援及びコンサルテ
 ィング-ネットショップ（ECサイト）運営支援ツールの
 開発・ご提供-ネットショップ（ECサイト）の運営代行-
 ECサイト制作-商品撮影・商品登録代行-SEO対策-広告運
 用代行-インフルエンサーマーケティング\n▌ 本件に関
 するお問合せ\n株式会社ALL WEB CONSULTINGセミナー運営事
 務局\nTEL：03-6276-8654（代表）MAIL：info@allweb-consulting.co.jp
 URL：https://allweb-consulting.co.jp
LOCATION:
URL:https://techplay.jp/event/980081?utm_medium=referral&utm_source=ics&utm
 _campaign=ics
END:VEVENT
END:VCALENDAR
