BEGIN:VCALENDAR
VERSION:2.0
PRODID:-//https://techplay.jp//JP
CALSCALE:GREGORIAN
METHOD:PUBLISH
X-WR-CALDESC:5/22 (木) AWSの仮想デスクトップで実現する専用
 アプリ環境導入支援ウェビナー開催のお知らせ
X-WR-CALNAME:5/22 (木) AWSの仮想デスクトップで実現する専用
 アプリ環境導入支援ウェビナー開催のお知らせ
X-WR-TIMEZONE:Asia/Tokyo
BEGIN:VTIMEZONE
TZID:Asia/Tokyo
BEGIN:STANDARD
DTSTART:19700101T000000
TZOFFSETFROM:+0900
TZOFFSETTO:+0900
TZNAME:JST
END:STANDARD
END:VTIMEZONE
BEGIN:VEVENT
UID:980082@techplay.jp
SUMMARY:5/22 (木) AWSの仮想デスクトップで実現する専用ア
 プリ環境導入支援ウェビナー開催のお知らせ
DTSTART;TZID=Asia/Tokyo:20250522T150000
DTEND;TZID=Asia/Tokyo:20250522T155000
DTSTAMP:20260425T023912Z
CREATED:20250423T011822Z
DESCRIPTION:イベント詳細はこちら\nhttps://techplay.jp/event/98008
 2?utm_medium=referral&utm_source=ics&utm_campaign=ics\n\n5/22 (木) AWS
 の仮想デスクトップで実現する専用アプリ環境導入支
 援ウェビナー開催のお知らせ\n概要\n株式会社TOKAIコミ
 ュニケーションズは、2025年5月22日（木）にAWSの仮想デ
 スクトップ環境で実現する専用アプリ環境導入支援セ
 ミナーを開催します。※本セミナーは、2024年1月に開
 催したウェビナーのアーカイブ配信となります。\nク
 ラウド上でPC環境を構築できる「仮想デスクトップ」
 。VDIやEUC（エンドユーザーコンピューティング）とも
 呼ばれたりする仮想デスクトップ環境は、インターネ
 ット環境さえあればどこからでもアクセスできて仕事
 ができるという利点がありますが、専用アプリを動か
 すためのハイスペックな環境は従来通りデスクトップP
 Cで用意するべき、とお考えの方も多いと思います。例
 えば、CADはその典型例の一つと言えるでしょう。\n今
 回は、そのようなハイスペックな環境も、AWS上の仮想
 デスクトップで構築可能であることをお伝えいたしま
 す。講演では、例としてCADを取り上げ、専用アプリ環
 境をAWSの仮想デスクトップサービス、Amazon WorkSpacesで
 利用する方法と、導入する上でのつまづきやすいポイ
 ント、そして皆さんが気になる構成例や導入事例、コ
 スト試算例をご紹介します。\nCADに限らず、専用アプ
 リ環境をクラウドに移行したいとお考えの方はもちろ
 ん、これからハイスペックな作業環境を用意したいけ
 どどうすればいいのかヒントが欲しい、という方にも
 是非ご参加いただきたいセミナーです。\nこんな方に
 おすすめです\n・CAD環境をクラウドに移行したい・ハ
 イスペックな環境をクラウドで実現したい・仮想デス
 クトップのメリットを専用アプリの環境でも実現した
 い・ハイスペックな環境をコスパ良く使いたい\nセミ
 ナー名称\nCADも動作可能！業務アプリをクラウドで動
 かすための構築のポイントを徹底解説\nタイムスケジ
 ュール\n\n\n\n時間\n内容\n\n\n\n\n14:45〜15:00\n受付開始\n\n\
 n15:00〜15:05\n講演開始のご案内\n\n\n15:05〜15:20\n製造業の
 設計開発でのDX化講師：アマゾン ウェブ サービス ジ
 ャパン 合同会社\n\n\n15:20〜15:30\nCAD利用におけるAWS EUC
 講師：アマゾン ウェブ サービス ジャパン 合同会社\n\
 n\n15:30〜15:45\n導入時のつまづきやすいポイントを徹底
 解説講師：株式会社TOKAIコミュニケーションズ\n\n\n15:45
 〜15:50\n講演終了のご案内\n\n\n\n※ 当日予告なく時間配
 分・内容が変更になる可能性がございます。\n参加費\n
 無料\n注意事項\n\nリクルーティング、勧誘など、採用
 目的でのイベント参加はお断りしております。\nキャ
 ンセル待ち・補欠・落選の方はご参加いただくことが
 出来ませんのでご了承ください。\n欠席される場合は
 、お手数ですが速やかにキャンセル処理をお願い致し
 ます。\n無断キャンセルや欠席が続く場合、次回以降
 の参加をお断りさせていただく場合がございます。\n
LOCATION:
URL:https://techplay.jp/event/980082?utm_medium=referral&utm_source=ics&utm
 _campaign=ics
END:VEVENT
END:VCALENDAR
