BEGIN:VCALENDAR
VERSION:2.0
PRODID:-//https://techplay.jp//JP
CALSCALE:GREGORIAN
METHOD:PUBLISH
X-WR-CALDESC:ITソリューションマーケット2025 大阪 ～Meet The 
 Future ようこそ最新技術が集まるITフェア～
X-WR-CALNAME:ITソリューションマーケット2025 大阪 ～Meet The 
 Future ようこそ最新技術が集まるITフェア～
X-WR-TIMEZONE:Asia/Tokyo
BEGIN:VTIMEZONE
TZID:Asia/Tokyo
BEGIN:STANDARD
DTSTART:19700101T000000
TZOFFSETFROM:+0900
TZOFFSETTO:+0900
TZNAME:JST
END:STANDARD
END:VTIMEZONE
BEGIN:VEVENT
UID:980142@techplay.jp
SUMMARY:ITソリューションマーケット2025 大阪 ～Meet The Futur
 e ようこそ最新技術が集まるITフェア～
DTSTART;TZID=Asia/Tokyo:20250522T103000
DTEND;TZID=Asia/Tokyo:20250522T180000
DTSTAMP:20260421T045828Z
CREATED:20250423T084246Z
DESCRIPTION:イベント詳細はこちら\nhttps://techplay.jp/event/98014
 2?utm_medium=referral&utm_source=ics&utm_campaign=ics\n\nITソリュー
 ションマーケット2025 大阪 ～Meet The Future ようこそ最新
 技術が集まるITフェア～\n概要\n外資系IT商社のTD SYNNEX
 が主催する最新技術が集まるITフェア「ITソリューショ
 ンマーケット」を大阪で開催いたします。AI活用と進
 業務効率化をテーマに、30社以上の国内外IT企業の展示
 や、講演を行います。一般企業の情報システム部門の
 方や、販売店営業様、中堅中小企業でIT製品の情報収
 集をしたい方などにおすすめです。 どなたでもご参加
 いただけます。皆さまのご参加、心よりお待ちしてお
 ります。\nチラシのダウンロード（PDF）はこちらから
 。お申込みはこちらから。\n※展示の内容は一部変更
 になる場合がございます。あらかじめご了承ください
 。\n見どころ\nAI活用による業務効率化生成AIや、翻訳
 ツール、議事録作成アプリ、PDF編集といった日々の業
 務を効率化する幅広いAIツールをご紹介。 Microsoft 365 Co
 pilot による生成AI、各メーカーによるワークステーシ
 ョンのローカルデモ、IBMのwatsonxやSPSSなど、多彩なソ
 リューションが集結。また、Microsoft 365 Copilot を活用す
 るためのワークショップ（※）や、TDSYNNEXによるAI活用
 ロードマップのセミナーも開催。最新AIとその活用法
 を知り、業務効率化の新たな一歩を踏み出しませんか
 ？※事前申込制。本イベントとは別にお申込みが必要
 です。お申込みが多い場合は抽選とさせていただきま
 す。\n最新のセキュリティ対策最新のエンドポイント
 セキュリティ、ランサムウェア対策、DDoS攻撃防御WAFな
 ど、多岐にわたるサイバー攻撃対策ソリューションを
 展示。貴社のセキュリティを強化する最適解を見つけ
 ましょう。\nクラウドとネットワークインフラ高セキ
 ュリティクラウドストレージ、マルチクラウド対応、
 集中管理など、インフラ最適化ソリューションを展示
 。弊社独自の「Azure Managed Service」他、導入事例のご紹
 介セミナーも開催。インフラ最適化のヒントが得られ
 ます！\nDX推進と働き方支援電子印鑑、ビデオ会議、モ
 バイル管理など、多様な働き方を支える最新ソリュー
 ションが集結。国内外のメーカーによる最新AI PCも必
 見！企業のDXを多角的に支援します。他にも、最新の
 リン酸鉄リチウムイオンバッテリー「ポポフ」 など、
 注目の初出展メーカーの展示も。\n展示内容\n\n\n\n企業
 名\n展示内容\n展示カテゴリー\n\n\n\n\n株式会社アイキ
 ューブドシステムズ\nCLOMOは、政府が定める基準を満た
 したISMAPを取得している国産MDM（モバイルデバイス管
 理）サービスです。マルチOS/マルチデバイス対応で「
 情報漏えい対策」「利用ルールの適用」「利用状況の
 把握」を実現し、全国の多くの企業のDXにおけるモバ
 イルデバイスの運用を支えています。\n※後日ご案内
 いたします\n\n\n日本アイ・ビー・エム株式会社\nSPSSやW
 atsonxの紹介。\n\n\n\n株式会社インターコム\nMaLionCloud従
 業員の勤務状況を見える化・情報漏洩対策。\n\n\n\n日
 本エイ・エム・ディ株式会社\n※決定次第ご案内いた
 します。\n\n\n\nエクイニクス・ジャパン株式会社\nハイ
 ブリッド・マルチクラウドやガバメントクラウドに対
 応する接続サービスを提供しています！この度、エク
 イニクス・ジャパンではTD SYNNEXとのパートナーシップ
 のもと、日本市場におけるデータセンターサービスの
 ディストリビュータービジネスを開始いたしました。E
 quinix Fabric®を活用し、各地域のエクイニクスから世界
 中のクラウドへの接続を効率化、ハイブリッド・マル
 チクラウド接続の最適化を実現できます。さらにはガ
 バメントクラウドに対応した柔軟性のある接続サービ
 スを提供。自治体様にあわせたオーダメイドなクラウ
 ド接続に加え、運用管理補助事業者様にも最適な、運
 用・保守についても（マルチクラウド対応の）ネット
 ワーク運用管理補助業務も提供します。\n\n\n\nESRIジャ
 パン株式会社\nGIS（地理空間情報）製品ArcGIS及びに、
 関連商品をご紹介します。地図にデータを重ねる、2D
 ・3Dでの表現、防災・減災・発災後の対応、企業BCP、
 配送計画、小売業の商圏分析などなど、多様な分野で
 ご利用頂いております。また、ArcGISはGISエンジンにお
 いてグローバルで大きなシェアを頂いております。ぜ
 ひお立ち寄りください。\n\n\n\nH3C Japan Technologies合同会
 社\nH3Cは、ICT製品の企画・開発・製造・販売を行い、
 グローバル市場においてトップ3*に入るNW機器メーカー
 です。デジタルトランスフォーメーションを念頭にお
 いたデジタル製品やソリューションを提供するリーデ
 ィングカンパニーの1社です。* Source: Gartner Overall Enterpr
 ise Network Equipment Market\, Worldwide\, 4Q22\n\n\n\nエムオーテッ
 クス株式会社\nサイバーセキュリティのトップブラン
 ドを目指しMOTEXの全プロダクト・サービスを「LANSCOPE」
 へ統一しました。従来のエンドポイントにおけるIT資
 産管理・情報漏洩対策・ウイルス対策はもちろんのこ
 と、新たに総合的なセキュリティ診断・コンサルティ
 ングのご提供が可能になりました。パワーアップした
 「LANSCOPE」で、お客さまが抱えるサイバーセキュリテ
 ィの課題解決を支援します。\n\n\n\nエルゴトロンジャ
 パン株式会社\n※決定次第ご案内いたします。\n\n\n\n沖
 電気工業株式会社\n業界唯一の長期無償サービスであ
 る、プリンターブランドCOREFIDOを展示いたします。\n\n\
 n\nQNAP株式会社\nQNAPのストレージ製品をご紹介いたしま
 す。ランサムウェア対策に有効なAirGap+、LTOテープへの
 データアーカイブといったソリューションを中心にご
 紹介させていただきます。\n\n\n\nグーグル合同会社\nChr
 ome Enterprise、GWS などを予定。※決定次第ご案内いたし
 ます。\n\n\n\nGMOグローバルサイン株式会社\n企業のデジ
 タル業務推進を強力にサポートするサービスをご案内
 しています。製品：「電子印鑑GMOサイン」★導入企業
 数350万社突破！始めやすい電子契約サービスペーパー
 レス化による印紙税などのコスト削減や契約業務の効
 率化、権限設定や閲覧制限といった機能によりガバナ
 ンス強化も可能となります。\n\n\n\n株式会社ジェイド
 コーポレーション\nEPOS製品について、EPOS製ヘッドセッ
 トは周囲の雑音を大幅に軽減し、独自の技術「BrainADAPT
 」で脳に負担（ストレス）を与えない音声を提供する
 ことで、使用者のストレス軽減、記憶力の向上をもた
 らす製品でございます。ノイズキャンセリング機能で
 、快適な音声を届けることはもちろん、使用者のスト
 レス軽減という健康面にも目を向けてコールセンター
 や、オフィスにご提案できる製品です。\n\n\n\nシーテ
 ック株式会社\n最新技術を生かしたリン酸鉄リチウム
 イオンバッテリー「ポポフ」をご紹介します。ハイパ
 ワー、長寿命、安全性の高い「ポポフ」の可能性を体
 感してください。\n\n\n\nスターテック・ドットコム・
 ジャパン株式会社\nITプロフェッショナル向け製品のご
 紹介。\n\n\n\nスプラッシュトップ株式会社\n在宅勤務や
 外出先から、会社のPCやシステムに簡単にアクセスで
 き、IT部門による遠隔サポートにも活用されています
 。導入のしやすさ・高いセキュリティ・安定したパフ
 ォーマンスが評価され、全世界で3\,000万ユーザー、日
 本でも多くの企業や教育機関に採用されています。\n\n
 \n\nソースネクスト株式会社\n翻訳機「ポケトークS2」
 、AI議事録「AutoMemo」、360度Webカメラの「Meeting Owl」な
 どのIoT製品のほか、安価で買い切りのPDF編集ソフト「
 いきなりPDF」、オフラインで使える翻訳ソフト「AI本
 格翻訳」など、AIを活用した業務効率化ツールを多数
 展示予定です。\n\n\n\n株式会社ダイレクトクラウド\n高
 度なセキュリティ・高い利便性・ユーザー数無制限を
 兼ね備えた法人向けクラウドストレージサービス。\n\n
 \n\nチェック・ポイント・ソフトウェア・テクノロジー
 ズ株式会社\nDX化が進む企業において、システムの脆弱
 性や未知の脅威への対策は喫緊の課題となっています
 。Check Pointのソリューションを活用することで、これ
 らのセキュリティリスクを効果的に解決し、安全なIT
 環境を実現します。\n\n\n\n株式会社ディー・オー・エ
 ス\n「IT資産管理ツールSS1シリーズ」お客さまの声から
 生まれ、運用者の使いやすさをとことん重視して開発
 された顧客満足度No.1（※）のIT資産管理ツールです。
 デバイスの使用制限やセキュリティパッチの適用管理
 など、セキュリティ対策としてもお役立ていただけま
 す。また各種の収集機能を活用して従業員の労務管理
 をおこなうことも可能です。※ITreviewカテゴリーレポ
 ート『IT資産管理ツール』『ログ管理システム』（2025 
 Winter）\n\n\n\nTD SYNNEX株式会社ITAD\nITADサービスをメイン
 としたサービス展示（キッティングサービスも紹介予
 定）。\n\n\n\nTD SYNNEX株式会社教育事業本部\n※決定次第
 ご案内いたします。\n\n\n\nTD SYNNEX株式会社New Product Team\
 n当社の新規仕入先ベンダーの商品を展示いたします。
 \n\n\n\nティーピーリンクジャパン株式会社\nライセンス
 費用かからないルーター、AP、スイッチの集中管理と
 無料で使えるカメラとNVRの複数管理ソフトウェア。\n\n
 \n\nデル・テクノロジーズ株式会社\nデル・テクノロジ
 ーズの最新PCやサーバー・ストレージソリューション
 をご紹介します！\n\n\n\n株式会社日本HP\n働き方さまざ
 まな働き方をサポートするPolyのヘッドセットやビデオ
 会議デバイス、クリエイティブワークや仕事を支える
 世界で最もパワフルなウルトラモバイル次世代AIPC、生
 成AIのローカル活用の切り札となるHPワークステーショ
 ンを展示いたします。生成AIに関してはブースにてデ
 モンストレーションを実施いたします。\n\n\n\n株式会
 社ネクストセット\nMicrosoft 365 アドオンラインナップ生
 成AI活用のサテライトAIもご紹介。\n\n\n\nバラクーダネ
 ットワークスジャパン株式会社\nランサムウェア対策
 としてのバックアップアプライアンス及び、DDOS攻撃な
 どからWebサーバーを守るWAF製品のご紹介をさせて頂き
 ます。\n\n\n\n東日本電信電話株式会社\nDXによる業務効
 率化の推進。\n\n\n\n日本ヒューレット・パッカード合
 同会社\n※決定次第ご案内いたします。\n\n\n\nBroadcom Inc
 .\n※決定次第ご案内いたします。\n\n\n\nHornetsecurity株式
 会社（元Vade Japan株式会社）\n重要なメールが迷惑フォ
 ルダに入ってしまったり、届いていないと指摘された
 りしたことはありませんか？それは、メール送信者と
 しての「信頼性」の証明が足りていない可能性があり
 ます。弊社ブースでは、2025年1月に提供を開始した、
 メールを安全に、確実に届けるための「DMARC」「DKIM」
 「SPF」を導入・管理する「DMARC Manager」を紹介します。
 是非お立ち寄りください。\n\n\n\n日本マイクロソフト
 株式会社（OEM）\n※決定次第ご案内いたします。\n\n\n\n
 日本マイクロソフト株式会社\nMicrosoft Surface の最新” C
 opilot + PC” の展示。\n\n\n\nrakumo株式会社\nrakumoは、グル
 ープウェアの「Google Workspace」とシームレスに連携する
 クラウド拡張ツールです。\n\n\n\nレノボ・ジャパン合
 同会社\n※決定次第ご案内いたします。\n\n\n\n\n出展企
 業\n
LOCATION:ナレッジキャピタル コングレコンベンションセ
 ンター ルーム１・２・３ 【住所】〒980-0013　大阪市北
 区大深町3-1 グランフロント大阪 北館B2F
URL:https://techplay.jp/event/980142?utm_medium=referral&utm_source=ics&utm
 _campaign=ics
END:VEVENT
END:VCALENDAR
