BEGIN:VCALENDAR
VERSION:2.0
PRODID:-//https://techplay.jp//JP
CALSCALE:GREGORIAN
METHOD:PUBLISH
X-WR-CALDESC:5/8(木) 17:00- 【copilot活用の最新情報をお届け】
 Microsoft の生成AI「Copilot」とは？企業が活用を促進する
 方法を解説！
X-WR-CALNAME:5/8(木) 17:00- 【copilot活用の最新情報をお届け】
 Microsoft の生成AI「Copilot」とは？企業が活用を促進する
 方法を解説！
X-WR-TIMEZONE:Asia/Tokyo
BEGIN:VTIMEZONE
TZID:Asia/Tokyo
BEGIN:STANDARD
DTSTART:19700101T000000
TZOFFSETFROM:+0900
TZOFFSETTO:+0900
TZNAME:JST
END:STANDARD
END:VTIMEZONE
BEGIN:VEVENT
UID:980352@techplay.jp
SUMMARY:5/8(木) 17:00- 【copilot活用の最新情報をお届け】Micro
 soft の生成AI「Copilot」とは？企業が活用を促進する方
 法を解説！
DTSTART;TZID=Asia/Tokyo:20250508T170000
DTEND;TZID=Asia/Tokyo:20250508T180000
DTSTAMP:20260420T215733Z
CREATED:20250429T033945Z
DESCRIPTION:イベント詳細はこちら\nhttps://techplay.jp/event/98035
 2?utm_medium=referral&utm_source=ics&utm_campaign=ics\n\n■ プログラ
 ム概要\n※本セミナーは、2024年9月に開催した内容をベ
 ースに、最新のCopilotアップデートや事例を反映した改
 訂版です。\n企業における生成AI活用が加速する一方で
 、「Microsoft 365 Copilot」を十分に活用できていないとい
 う課題が数多く寄せられています。 弊社にご相談いた
 だく企業様からも、「導入したものの利用率が上がら
 ない」、「実務でどのように活用すればよいかわから
 ない」といった声は、2025年春の今もなお多く聞かれま
 す。\n本セミナーでは、Copilotの基本的な使い方から、
 具体的な活用例、企業が活用する上でのポイントを解
 説します。特に、Excelでのデータ分析や数式生成、Power
 Pointでの自動スライド作成など、最新機能を踏まえた
 実務での活用法と成功事例をご紹介します。\nCopilotに
 初めて触れる方から、すでに導入済みの方、これから
 生成AIを活用していきたいとお考えの方まで、幅広い
 方におすすめのセミナーとなっておりますので、ぜひ
 ご参加ください。\n\n■ このような方におすすめ\n\n生
 成AIの活用に興味がある方\nCopilotで何が出来るのか知
 りたい\nCopilotの活用が社内に広がらないと感じている
 方\nCopilotを実務で活用するポイントを知りたい方\n\n\n
 ■ タイムスケジュール\n17:00~17:05 オープニング17:05~17:1
 5 Microsoft の生成AI「Copilot」とは？17:15~17:30 Copilotを実務
 で活用するポイントとは？17:30~17:50 Copilotの活用事例17:
 50~18:00 サービス紹介・アンケート\n\n■ スピーカー\n株
 式会社スキルアップNeXt　マーケティング / 菅井碩道新
 卒で総合人材会社に入社後、派遣コーディネーター、
 営業、マーケティングを担当し、新卒採用領域におけ
 る施策の企画から実行までを担当。現在はスキルアッ
 プNeXtにて、企業のデジタル化を加速させるべくDX人材
 育成やAI導入のポイントを中心に、実践的かつ効果的
 なアプローチ方法をセミナーを通じて発信。\n\n■ 日
 時\n5月8日(木)　17:00-18:00 ( 参加費：無料 )\n\n■ 開催場
 所\nZoom\n※参加URLは、開催前日迄にお申し込みいただ
 いたメールアドレスにご連絡いたします。メールが届
 かない方は、当日12時迄に info@skillupai.com へお問い合
 わせください。\n\n■ 注意事項\n※本セミナーは企業様
 限定のセミナーとなります。お申し込みは、法人メー
 ルアドレスをご入力ください。\n※本セミナーの途中
 入退室は自由です。\n※一部プログラムに変更が生じ
 る場合がございます。\n※AI/DXに関する人材育成事業を
 展開されている企業様からのお申込み、または所属す
 る会社名や団体名が特定できない方・記載のない方（
 個人名のみ、フリーランスの方含む）のお申込みは、
 参加をお断りさせていただいております。予めご了承
 ください。　【ご協力のお願い】\n・申込後のキャン
 セルについては、前日までにご連絡ください。\n\n■ 
 個人情報の取扱いについて\n\n人材育成サービス利用規
 約\n\n株式会社スキルアップNeXt（旧:スキルアップAI株
 式会社）が実施するセミナーにご参加いただく際には
 、「人材育成サービス利用規約」を遵守いただくこと
 への同意をお願いしております。利用規約はこちらか
 らご確認ください。\n\n\nプライバシーポリシー\n\n個人
 情報の取扱いについてご同意を頂いた上でお申し込み
 をお願いしております。プライバシーポリシーはこち
 らからご確認ください。\n\n■ 運営団体\n株式会社スキ
 ルアップNeXt（旧:スキルアップAI株式会社）\nhttps://www.s
 killupai.com/
LOCATION:
URL:https://techplay.jp/event/980352?utm_medium=referral&utm_source=ics&utm
 _campaign=ics
END:VEVENT
END:VCALENDAR
