BEGIN:VCALENDAR
VERSION:2.0
PRODID:-//https://techplay.jp//JP
CALSCALE:GREGORIAN
METHOD:PUBLISH
X-WR-CALDESC:Tableau Doctor 診察実習会 #3
X-WR-CALNAME:Tableau Doctor 診察実習会 #3
X-WR-TIMEZONE:Asia/Tokyo
BEGIN:VTIMEZONE
TZID:Asia/Tokyo
BEGIN:STANDARD
DTSTART:19700101T000000
TZOFFSETFROM:+0900
TZOFFSETTO:+0900
TZNAME:JST
END:STANDARD
END:VTIMEZONE
BEGIN:VEVENT
UID:980434@techplay.jp
SUMMARY:Tableau Doctor 診察実習会 #3
DTSTART;TZID=Asia/Tokyo:20250526T190000
DTEND;TZID=Asia/Tokyo:20250526T200000
DTSTAMP:20260421T175714Z
CREATED:20250501T020916Z
DESCRIPTION:イベント詳細はこちら\nhttps://techplay.jp/event/98043
 4?utm_medium=referral&utm_source=ics&utm_campaign=ics\n\nキーウォー
 カー主催：Tableau Doctor 診察実習会\n社内や組織外で Tabl
 eau Doctor を行う際に、「答えが複数あって迷った」「
 パッと解決策が思い浮かばなかった」という悩みを感
 じたことはありませんか？\n本イベント「Tableau Doctor 
 診察実習会」は、弊社での実際の経験をもとに作成し
 た想定ケースを使用し、Tableau Doctor のスキルアップを
 目指していただくイベントです。\n弊社メンバーがDocto
 r役と患者役に分かれて、Tableau Doctorのロールプレイを
 行います。ロールプレイ内でのチャットや発言を交え
 ながら、データ活用に対する考えを深めていただきま
 す。\n弊社で用意した想定回答やTableauの活用法、質問
 対応のコツなどもお伝えしながら、Doctorとしてのスキ
 ルアップを目指していただける内容をお届けします。\
 nTableau Doctor に必要なスキルと自信を、一緒に磨きまし
 ょう！\nこんな方におすすめ\n\nTableau Doctor のスキルを
 向上させたい\nTableauやデータ活用に対する考えを深め
 たい\n質問対応のコツや、アプローチを学びたい\nTablea
 u 活用のノウハウを実践形式で深めたい\n\nTableau Doctor
 とは？\nTableau Doctor は、Tableau を使う中で感じた疑問や
 悩みを専門家に相談できるサポートセッションです。
 ダッシュボードのデザインやデータの扱い方、パフォ
 ーマンスの改善方法など、幅広い質問に丁寧に答えな
 がら、実践的な解決策や役立つアドバイスをお届けし
 ます。\nキーウォーカーとは？\nTableauを活用したデー
 タ可視化と分析のソリューションを提供し、企業の意
 思決定を支援しています。導入から運用までをトータ
 ルサポートし、独自のノウハウを活かして業務効率化
 やビジネス課題の解決をサポート。データ連携やカス
 タムダッシュボードの作成、ユーザー研修など、幅広
 いサービスを展開しています。\n当日のご準備につい
 て\n特に準備は不要です。作成するロールプレイにつ
 いては、Tableau Desktopに付属しているサンプルスーパー
 ストアを使用します。お手元にご用意いただけると、
 操作感を確認しやすいかもしれません。\n日程\n2025年5
 月26日(月) 19:00-20:00\n\n集合・準備（19:00-19:10）\nケース1
 （19:10-19:30）\nケース2（19:30-19:50）\nクロージング（19:5
 0-20:00）\n\n※ 時間は目安です。当日予告なく時間配分
 が変更になる可能性がございます。\n参加費\n無料※ 
 オンライン、GoogleMeetでの開催\n当日参加メンバー\n\n注
 意事項\n* リクルーティング、勧誘など、採用目的での
 イベント参加はお断りしております。* キャンセル待
 ち・補欠・落選の方はご参加いただくことが出来ませ
 んのでご了承ください。
LOCATION:
URL:https://techplay.jp/event/980434?utm_medium=referral&utm_source=ics&utm
 _campaign=ics
END:VEVENT
END:VCALENDAR
