BEGIN:VCALENDAR
VERSION:2.0
PRODID:-//https://techplay.jp//JP
CALSCALE:GREGORIAN
METHOD:PUBLISH
X-WR-CALDESC:自分らしい一歩を踏み出すためのエネルギー
 をGETしよう！ 自信を持って意見を伝える自己表現力UP
 講座
X-WR-CALNAME:自分らしい一歩を踏み出すためのエネルギー
 をGETしよう！ 自信を持って意見を伝える自己表現力UP
 講座
X-WR-TIMEZONE:Asia/Tokyo
BEGIN:VTIMEZONE
TZID:Asia/Tokyo
BEGIN:STANDARD
DTSTART:19700101T000000
TZOFFSETFROM:+0900
TZOFFSETTO:+0900
TZNAME:JST
END:STANDARD
END:VTIMEZONE
BEGIN:VEVENT
UID:980653@techplay.jp
SUMMARY:自分らしい一歩を踏み出すためのエネルギーをGET
 しよう！ 自信を持って意見を伝える自己表現力UP講座
DTSTART;TZID=Asia/Tokyo:20250605T190000
DTEND;TZID=Asia/Tokyo:20250605T200000
DTSTAMP:20260425T161625Z
CREATED:20250508T003657Z
DESCRIPTION:イベント詳細はこちら\nhttps://techplay.jp/event/98065
 3?utm_medium=referral&utm_source=ics&utm_campaign=ics\n\n自分らしい
 一歩を踏み出すためのエネルギーをGETしよう！ 自信を
 持って意見を伝える自己表現力UP講座\nクリーク･アン
 ド･リバー社（C&R社）は、2025年6月5日（木）にコミュ
 ニケーション関するウェビナーを実施します。\n組織
 の中で本当は自分の意見を言いたいのに我慢したり、
 意見が違うのに賛同してしまったりすることはありま
 せんか？その他にも、\n✓自分の考えや感情をうまく
 伝えられず、自己表現に自信が持てない✓自分自身の
 強みや弱み、価値観を深く理解できていない✓他人の
 反応や評価を気にしすぎて、自分らしく振る舞えない
 ✓新しい挑戦をしたいと思っているけど一歩踏み出せ
 ない\nそんな悩みを抱えている方を対象に、今回のウ
 ェビナーでは**「自己表現力UP」**についてお話してい
 きます。\nまず自分自身を深く理解することから始め
 ます。「自分が思っている自分」と「実際の自分」の
 ズレにより言いたいことが言えなかったり、意見が異
 なるのに賛同してしまったり、といったことにつなが
 っているケースがあります。\nでは、どうすれば自分
 の考えを自信をもって伝えることができるようになれ
 るのか・・・\nこのウェビナーでは、自信を持って自
 分を表現する力を身に付ける方法や、視覚要素や聴覚
 要素を活用したプレゼンス・マネジメントも取り入れ
 、効果的な自己表現の実現方法をお伝えしていきます
 。\n自己表現に関するさまざまなポイントを知ること
 で、ありのままの自分を受け入れ、自分らしい一歩を
 踏み出すためのエネルギーをGETしましょう！\n▼こん
 なことをお話します！\n\n「自分自身」を知ること\nパ
 ーソナルファウンデーション（自己基盤）を整える\n
 セルフイメージの形成と重要性を理解する\n自信をつ
 けるプレゼンス・マネジメント\n\n▼こんな方にオスス
 メ！\n\n意見を言うのが苦手な方\n自己表現に自信がな
 い方\n自分のことがよくわからない方\n他人の評価に敏
 感な方\n新しいことに挑戦したいけど勇気が出ない方\n
 \n\nタイムスケジュール\n\n\n\n時間\n内容\nspeaker\n\n\n\n\n1
 9：00～19：05\nオープニング\nC&R社\n\n\n19：05～19：50\n講
 演\n室谷　健一郎氏\n\n\n19：50～20：00\n質疑応答\n\n\n\n20
 ：00～\nクロージング\n\n\n\n\n※ 当日予告なく時間配分
 ・内容が変更になる可能性がございます。\n登壇者\n室
 谷　健一郎（むろや・けんいちろう）氏\n中小企業診
 断士\n大学卒業後、内資系大手製薬会社に就職。MR（医
 薬情報担当者）や医薬品卸（特約店）担当者、マネー
 ジャーとしてエリア流通関連の責任者も経験し営業現
 場での知見を深めた。現在は、本社流通部門にて自社
 の流通戦略の立案や業界活動などに従事している。\n
 また、営業担当および管理職としての経験を活かし、
 「対話」を重視したコミュニケーションを通じて組織
 開発を支援する中小企業診断士としても活動中。中小
 企業の経営者に寄り添い、共に成長するパートナーと
 して伴走支援を行うことを主軸に、コンサルティング
 やコーチングを通じた経営支援を実施している。\n資
 格等：中小企業診断士、医療経営士2級、登録販売者、
 MBA（経営学修士）など\n\n現在は、中小企業における伴
 走支援を中心に活動すべく、プロコーチ（コーチング
 ）を目指して勉強中。\n\n参加費\n無料\n当ウェビナー
 について\n\n\nこちらのサイトからもお申込みいただく
 ことができます。\n\n\n▼C&R社で実施しているオンライ
 ン講座・ウェビナー　一覧ページhttps://www.c-place.ne.jp/
LOCATION:
URL:https://techplay.jp/event/980653?utm_medium=referral&utm_source=ics&utm
 _campaign=ics
END:VEVENT
END:VCALENDAR
