BEGIN:VCALENDAR
VERSION:2.0
PRODID:-//https://techplay.jp//JP
CALSCALE:GREGORIAN
METHOD:PUBLISH
X-WR-CALDESC:開発経験ゼロから抜け出すキャリア戦略 ～Exce
 l作業‧テストのその先へ！ 市場価値の高い開発エン
 ジニアになろう～
X-WR-CALNAME:開発経験ゼロから抜け出すキャリア戦略 ～Exce
 l作業‧テストのその先へ！ 市場価値の高い開発エン
 ジニアになろう～
X-WR-TIMEZONE:Asia/Tokyo
BEGIN:VTIMEZONE
TZID:Asia/Tokyo
BEGIN:STANDARD
DTSTART:19700101T000000
TZOFFSETFROM:+0900
TZOFFSETTO:+0900
TZNAME:JST
END:STANDARD
END:VTIMEZONE
BEGIN:VEVENT
UID:980674@techplay.jp
SUMMARY:開発経験ゼロから抜け出すキャリア戦略 ～Excel作
 業‧テストのその先へ！ 市場価値の高い開発エンジニ
 アになろう～
DTSTART;TZID=Asia/Tokyo:20250520T120000
DTEND;TZID=Asia/Tokyo:20250520T123000
DTSTAMP:20260420T042744Z
CREATED:20250508T083932Z
DESCRIPTION:イベント詳細はこちら\nhttps://techplay.jp/event/98067
 4?utm_medium=referral&utm_source=ics&utm_campaign=ics\n\n開発経験ゼ
 ロから抜け出すキャリア戦略 ～ Excel作業‧テストのそ
 の先へ！市場価値の高い開発エンジニアになろう ～\n
 概要\n「SESエンジニアや社内SEとして現場で働いている
 けど、職務経歴書に書けるのはExcel業務やテスト、運
 用保守、スケジュール管理…。開発経験がなく、自信
 が持てない…。」そんな焦りを感じている方に朗報で
 す。実は今「自信が持てない」と感じている方も、こ
 れから十分に開発キャリアを築くことが可能なのです
 。本セミナーでは、これから市場価値を高めるための
 具体的な戦略をお伝えします。開発経験ゼロの壁を乗
 り越え、今後のキャリアを築くために、まず何から始
 めればよいのか？自己PRのポイントやTechTrainを活用し
 たポートフォリオ作成方法など、実践的な方法も合わ
 せてご紹介します。あなたのキャリアを諦める必要は
 ありません。 開発キャリア戦略で「成長できない自分
 」から卒業しましょう！\nタイムスケジュール\n\n\n\n時
 間\n内容\n\n\n\n\n12:00〜12:05\nオープニング\n\n\n12:05〜12:20
 \nキャリア戦略セミナー\n\n\n12:20〜12:25\nアンケート回
 答\n\n\n12:25〜12:30\nクロージング\n\n\n\n※ 当日予告なく
 時間配分・内容が変更になる可能性がございます。\n
 登壇者\n\n浅沼 真優子\n株式会社TechBowl TechTrain事業本部
 \n2017年、仙台のIT企業にエンジニアとして新卒入社。\n
 生産管理システム開発に7年従事した後、2024年キャリ
 アコンサルタント資格を取得。\n現在はTechTrainにて、
 学習とキャリア支援を両軸でサポートする“Buddy（専
 属トレーナー）”としてTechTrainご利用者様の学習サポ
 ートやキャリア支援を担当。\n\n\nこんな方におすすめ
 ！\n\nExcel業務やテスト、運用保守、スケジュール管理
 業務が多く、そろそろ開発にも挑戦したいと考えてい
 るSESエンジニアや社内SEの方\n職務経歴書に書ける業務
 が少なく、転職に不安を感じている方\nスキルを身に
 つけて現職で成長したい or 次のキャリアに進みたい方
 \nITエンジニアに興味がある未経験・初学者の方も大歓
 迎です！\n\n参加費\n無料
LOCATION:
URL:https://techplay.jp/event/980674?utm_medium=referral&utm_source=ics&utm
 _campaign=ics
END:VEVENT
END:VCALENDAR
