BEGIN:VCALENDAR
VERSION:2.0
PRODID:-//https://techplay.jp//JP
CALSCALE:GREGORIAN
METHOD:PUBLISH
X-WR-CALDESC:6/5(木)16:00- 【大好評セミナーを再配信】TOPPAN
 ホールディングスが取り組む 全社教育による「攻め」
 と「守り」のGX推進
X-WR-CALNAME:6/5(木)16:00- 【大好評セミナーを再配信】TOPPAN
 ホールディングスが取り組む 全社教育による「攻め」
 と「守り」のGX推進
X-WR-TIMEZONE:Asia/Tokyo
BEGIN:VTIMEZONE
TZID:Asia/Tokyo
BEGIN:STANDARD
DTSTART:19700101T000000
TZOFFSETFROM:+0900
TZOFFSETTO:+0900
TZNAME:JST
END:STANDARD
END:VTIMEZONE
BEGIN:VEVENT
UID:980734@techplay.jp
SUMMARY:6/5(木)16:00- 【大好評セミナーを再配信】TOPPANホー
 ルディングスが取り組む 全社教育による「攻め」と「
 守り」のGX推進
DTSTART;TZID=Asia/Tokyo:20250605T160000
DTEND;TZID=Asia/Tokyo:20250605T170000
DTSTAMP:20260423T195229Z
CREATED:20250509T084643Z
DESCRIPTION:イベント詳細はこちら\nhttps://techplay.jp/event/98073
 4?utm_medium=referral&utm_source=ics&utm_campaign=ics\n\n■ プログラ
 ム概要\nTOPPANホールディングス株式会社は、サステナ
 ブルな社会の実現と企業価値向上を目指し、全社的なG
 Xリテラシーの向上に取り組んでいます。人事部門を中
 心に、グループ3社を含めた全社教育を実施し、講座受
 講とGX検定を通じて、社員のGXリテラシーを定着させ、
 顧客への提案に積極的に活用しています。\n本セミナ
 ーでは、TOPPANホールディングスの人事労政本部 山田浩
 司氏をお迎えし、同社が実践するGXリテラシー教育の
 背景、具体的なプログラム内容、そしてそれが現場で
 どのように活かされているかを詳しくご紹介いただき
 ます。特に、全社員を対象にした教育プログラムの効
 果や、社員自らが積極的に専門性を高めようとする動
 きについてもお話しいただきます。\n3月に開催した際
 は、「人事部門が育成を主導する事例として、大変参
 考になった」「実際の担当者がどんな視点でGX人材教
 育を進めたのか生の声を聞けて良かった」といった声
 が多く寄せられ、非常に高い満足度を得ました。\nGX推
 進を経営の重要課題と捉えている皆さまに、TOPPANホー
 ルディングスの実践的な事例を通じて、GXリテラシー
 向上のヒントをお届けします。ぜひご参加ください。\
 n\n■ このような方におすすめ\nサステナビリティやESG
 推進部門、経営企画部門、経営者\n\n脱炭素経営、GX経
 営の先進的な取り組み事例を知りたい方\nGX人材の必要
 性や活躍の場面について知りたい方\n脱炭素経営につ
 いて戦略を考える立場の方\n\n\n■ タイムスケジュール
 \n16:00-16:05　冒頭ご挨拶16:05-16:35　講演16:35-16:45　パネ
 ルディスカッション16:45-16:55　質疑応答16:55-17:00　告知
 、アンケート\n\n■ 登壇者\nスピーカー：TOPPANホールデ
 ィングス株式会社 人事労政本部 / 山田 浩司氏凸版印
 刷（当時）入社後、広報本部にて宣伝販促、社内広報
 、メディア対応などに従事。現在は、人事労政本部 人
 財開発センターに所属し、階層別、リーダー育成、デ
 ジタル人財育成など、各種プログラムの企画・運営や
 、GX人財育成施策の立ち上げを推進。次世代型の人財
 開発を調査、研究、検証する「人財開発ラボ」の運営
 も担当。\nモデレーター：株式会社スキルアップNeXt 代
 表取締役 / 田原 眞一新卒でITエンジニアとプロジェク
 トマネジャーを経験。その後、リクルートにて数多く
 のAI・データ分析案件に携わる。2017年にAI人材育成事
 業を開始し、スキルアップAI株式会社（現：株式会社
 スキルアップNeXt）を創業。大学では自然環境学専攻を
 修了しており、2022年からはGX人材育成事業も開始。経
 済産業省が設立した『GXリーグ』において、「GX人材市
 場創造ワーキング・グループ（WG）」の代表リーダー
 企業を務め「GXスキル標準」の策定を推進。\n\n■ 日時
 \n2025年6月5日（木）16:00-17:00 ( 参加費：無料 )\n\n■ 開
 催場所\nZoom※参加URLは、開催前日迄にお申し込みいた
 だいたメールアドレスにご連絡いたします。メールが
 届かない方は、当日12時迄に info@skillupai.com へお問い
 合わせください。\n\n■ 注意事項\n※本セミナーは企業
 様限定のセミナーとなります。お申し込みは、法人メ
 ールアドレスをご入力ください。※本セミナーの途中
 入退室は自由です。※一部プログラムに変更が生じる
 場合がございます。※セミナー事業を展開されている
 企業様からのお申込み、または所属する会社名や団体
 名の記載のない方（個人名のみ、フリーランスの方含
 む）のお申込みは、参加をお断りさせていただいてお
 ります。予めご了承ください。　【ご協力のお願い】
 ・申込後のキャンセルについては、前日までにご連絡
 ください。\n\n■ 個人情報の取扱いについて\n\n人材育
 成サービス利用規約\n\n株式会社スキルアップNeXt（旧:
 スキルアップAI株式会社）が実施するセミナーにご参
 加いただく際には、「人材育成サービス利用規約」を
 遵守いただくことへの同意をお願いしております。利
 用規約はこちらからご確認ください。\n\nプライバシー
 ポリシー\n\n個人情報の取扱いについてご同意を頂いた
 上でお申し込みをお願いしております。弊社のプライ
 バシーポリシーはこちらからご確認ください。\n\n■ 
 運営団体\n株式会社スキルアップNeXt（旧:スキルアップ
 AI株式会社）https://www.skillupai.com/
LOCATION:
URL:https://techplay.jp/event/980734?utm_medium=referral&utm_source=ics&utm
 _campaign=ics
END:VEVENT
END:VCALENDAR
