BEGIN:VCALENDAR
VERSION:2.0
PRODID:-//https://techplay.jp//JP
CALSCALE:GREGORIAN
METHOD:PUBLISH
X-WR-CALDESC:【定員5人】GA4 × サーチコンソール × AI分析 ×
  LLMO(AI検索最適化)準備 × 投資対効果も解説！可視化と
 自走を両立 ― これから始める「分析体制構築」不透
 明な未来に強固な仕組みを
X-WR-CALNAME:【定員5人】GA4 × サーチコンソール × AI分析 ×
  LLMO(AI検索最適化)準備 × 投資対効果も解説！可視化と
 自走を両立 ― これから始める「分析体制構築」不透
 明な未来に強固な仕組みを
X-WR-TIMEZONE:Asia/Tokyo
BEGIN:VTIMEZONE
TZID:Asia/Tokyo
BEGIN:STANDARD
DTSTART:19700101T000000
TZOFFSETFROM:+0900
TZOFFSETTO:+0900
TZNAME:JST
END:STANDARD
END:VTIMEZONE
BEGIN:VEVENT
UID:980990@techplay.jp
SUMMARY:【定員5人】GA4 × サーチコンソール × AI分析 × LLMO
 (AI検索最適化)準備 × 投資対効果も解説！可視化と自
 走を両立 ― これから始める「分析体制構築」不透明
 な未来に強固な仕組みを
DTSTART;TZID=Asia/Tokyo:20250523T140000
DTEND;TZID=Asia/Tokyo:20250523T150000
DTSTAMP:20260423T071839Z
CREATED:20250515T011131Z
DESCRIPTION:イベント詳細はこちら\nhttps://techplay.jp/event/98099
 0?utm_medium=referral&utm_source=ics&utm_campaign=ics\n\nGA4 × サーチ
 コンソール × AI分析 × LLMO(AI検索最適化)準備 × 投資対
 効果も解説！\n可視化と自走を両立する設計思想とは
 ？\n― これから始める「分析体制構築」\n不確実な経
 済情勢 加えて生成AIの急拡大“読みづらい未来”に強
 固な分析体制で立ち向かう\n\n\n5月23日(金) 14:00～15:00\n\
 n\n初心者にも分かりやすく－人気の「これから始める
 」シリーズの講師が解説\n\n\n「これから始める」シリ
 ーズ\n\n\nこれから始める組み合わせ戦略\n\n\nこれから
 始める研修体験\n\n\nこれから始める課題解決\n\n\nこれ
 から始める『新・最強』の組み合わせ戦略\n\n\n\n\n講師
 が取材され記事になりました\n\n第2弾 ITカテゴリ RANKING
 １位(昨年10/11 17:30現在) Bing、なぜか今、シェア伸長の
 理由…検索エンジン市場でヤフーを上回り2位 << 検索
 エンジンのシェア争いがAIをめぐる競争に\n第1弾 X社が
 分析：フォロワー数に関係なくバズり可能、入口は1300
 リツイート\n\n\n\n\n\n\n弊社のホールディング会社 グロ
 ースエクスパートナーズ株式会社が東京証券取引所グ
 ロース市場に昨年9/26上場しました\n\n詳しくは こちら\
 n\n\n皆さまから弊社をご信頼頂ける一要因になるかも
 しれないと思い お伝えさせて頂きます\n\n\n\n弊社グル
 ープについて(事業計画及び成長可能性)\n\n\n最近の取
 り組み\n\n4/9発表: AI駆動型リサーチサービス「GxRaptor」
 発表のお知らせ\n\n4/22発表: 「Retool」製品紹介サイトリ
 ニューアル >> 業務アプリケーションを、速く・柔軟に
 、現場でつくる。\n\nFacebookページ >> Retoolオフィシャル
 パートナー 株式会社GxP\n\n\n\n\n\n\n\n\n▼いま求められる
 のは成果に直結する“仕組み”の整備です\nチャネル
 の多様化・検索体験の変化・AIの急拡大――従来の感
 覚的/属人的な運用では限界がきていますこのセミナー
 ではGA4・サーチコンソール・生成AIを活用し意思決定
 と自走運用を両立する分析設計を紹介コンテンツ運営
 から広告連携まで収益拡大につながる設計と その考え
 方を体験頂けます\n▼こんな方に おすすめです\n\n「分
 析チーム」や「AI活用チーム」を持ちたいが一歩踏み
 出せていない方\nChatGPTやGA4は導入済みだが“全体設計
 ”が弱いと感じている方\n検索流入・コンバージョン
 が頭打ちだが次の打ち手が見えない方\n施策の進まな
 い社内に課題を感じている方\n\n▼セミナーの概要\n\n\n
 分析体制の投資対効果(ROI)をどう可視化し組織内で合
 意を得るかを具体的に解説\nSEOなどによるアクセス改
 善など“実際に成果を上げた分析プロセス”をベース
 に\n\nGA4 × サーチコンソール × 生成AIの組み合わせと\n
 \nそこから導かれる施策パターンの選定基準\nさらに今
 後本格化するLLMO(AI検索最適化)の準備まで\n\n\n分析体
 制構築の考え方と進め方を分かりやすく共有します\n\n
 ▼詳細\n\n\n投資対効果の積み上がり構造( 縦 × 横 の成
 果可視化 )\n人的工数と判断ストレスを削減する業務設
 計と社内巻き込み法\n\nPDCAサイクルの具体構造( 分析 
 → 改善 → 実行 → 評価 )\n\n月次レポートによるボト
 ルネック抽出と施策立案\n\n\nAI活用に最適な“施策選
 定のロジック”と運用パターン\n\nSEO施策\n\nライティ
 ング\nキーワード設計\n内部リンク強化\n\n\nナビゲーシ
 ョン改善\nEFO(問い合わせフォームの最適化)\nSNS\nCRM\n各
 広告の最適化\n\n\n\nSEOから一歩先へ――“検索される
 コンテンツ”から“提案されるコンテンツ”へ\n\n▼こ
 のセミナーで得られるもの\n\n社内の合意形成・判断を
 加速する分析設計の軸が見える\n競合が見落としがち
 なAIと分析の“本質的なつなぎ方”が分かる\n周囲に納
 得してもらえる投資対効果の整理手法が手に入る\n\n人
 材育成につながる運用モデルの考え方も見える\n\n▼開
 催概要\n\n開催日時\n\n2025年5月23日(金) 14:00～15:00\n\n\n\n\
 n・参加費無料\n・開催方法ウェビナー(オンラインセミ
 ナー)　※Zoomを利用します\n・参加方法お申し込み後に
 メールで ご案内致します\n▼タイムスケジュール\n\n\n\
 n時間\n内容\n\n\n\n\n13:50〜\n受付開始(視聴用URL開場)\n\n\n
 14:00〜14:45\nセミナー本編\n\n\n14:45〜15:00\n質疑応答(質問
 がなくなり次第終了)、また説明が分かりやすかったか
 ？など直感的な印象などをアンケートさせて頂きます
 。\n\n\n\n※ 当日予告なく時間配分・内容が変更になる
 可能性がございます\n▼講師紹介\n\n澤井 貞夫\n(株)GxP
 マーケター兼コンテンツ ディレクター\n\n\n人気の「こ
 れから始める」シリーズの講師\n\n\nこれから始める組
 み合わせ戦略\n\n\nこれから始める研修体験\n\n\nこれか
 ら始める課題解決\n\n\nこれから始める『新・最強』の
 組み合わせ戦略\n\n\n\n\n・通販 EC の経験を経て、スマ
 ホ[アプリ]/モバイルや PC 向けコンテンツのディレクシ
 ョンおよびマーケティングの経験 多数。\n・企画立案
 から要件定義、そして進捗管理からプロジェクトの収
 益化までをトータルで対応。\n\n\n\n講師が取材され記
 事になりました\n\n第2弾 ITカテゴリ RANKING１位(昨年10/11
  17:30現在) Bing、なぜか今、シェア伸長の理由…検索エ
 ンジン市場でヤフーを上回り2位 << 検索エンジンのシ
 ェア争いがAIをめぐる競争に\n第1弾 X社が分析：フォロ
 ワー数に関係なくバズり可能、入口は1300リツイート\n\
 n\n\n\n▼参加費\n無料―――――これから始める方も、
 過去に失敗した方も。「分析は、いまが始め時」です
 。\n▼課題や立場に応じて選べる「これから始める」
 シリーズも併催中\n\n5/19(月)～30(金)で ご希望日時をご
 指定→【各回 無料1社限定】GA4\, 研修体験\, SEO\, ChatGPT\
 , EC\, SNS\, 広告\, B2B\, etc. <= 希望のテーマをリクエスト
 ！これから始める課題解決\n\n5/21(水) 14:00～15:00 【定員
 5人】むずかしい GA4\, 何をやればいい？SEO\, どんな使
 い方？ChatGPT\, 「最強」の組み合わせでWebのアクセス・
 反響・売上を増やす！ これから始める GA4 × ChatGPT (AI) 
 × SEO 「新」組み合わせ戦略\n\n
LOCATION:
URL:https://techplay.jp/event/980990?utm_medium=referral&utm_source=ics&utm
 _campaign=ics
END:VEVENT
END:VCALENDAR
