BEGIN:VCALENDAR
VERSION:2.0
PRODID:-//https://techplay.jp//JP
CALSCALE:GREGORIAN
METHOD:PUBLISH
X-WR-CALDESC:【定員5人】むずかしい GA4\, 何をやればいい？
 SEO\, どんな使い方？ChatGPT\, 「最強」の組み合わせでWeb
 のアクセス・反響・売上を増やす！ これから始める GA
 4 × ChatGPT (AI) × SEO 「新」組み合わせ戦略
X-WR-CALNAME:【定員5人】むずかしい GA4\, 何をやればいい？
 SEO\, どんな使い方？ChatGPT\, 「最強」の組み合わせでWeb
 のアクセス・反響・売上を増やす！ これから始める GA
 4 × ChatGPT (AI) × SEO 「新」組み合わせ戦略
X-WR-TIMEZONE:Asia/Tokyo
BEGIN:VTIMEZONE
TZID:Asia/Tokyo
BEGIN:STANDARD
DTSTART:19700101T000000
TZOFFSETFROM:+0900
TZOFFSETTO:+0900
TZNAME:JST
END:STANDARD
END:VTIMEZONE
BEGIN:VEVENT
UID:981041@techplay.jp
SUMMARY:【定員5人】むずかしい GA4\, 何をやればいい？SEO\,
  どんな使い方？ChatGPT\, 「最強」の組み合わせでWebの
 アクセス・反響・売上を増やす！ これから始める GA4 
 × ChatGPT (AI) × SEO 「新」組み合わせ戦略
DTSTART;TZID=Asia/Tokyo:20250528T140000
DTEND;TZID=Asia/Tokyo:20250528T150000
DTSTAMP:20260422T205120Z
CREATED:20250516T040430Z
DESCRIPTION:イベント詳細はこちら\nhttps://techplay.jp/event/98104
 1?utm_medium=referral&utm_source=ics&utm_campaign=ics\n\nむずかしい 
 GA4\, 何をやればいい？SEO\, どんな使い方？ChatGPT\nWebの
 アクセス・反響・売上を増やす！\n～ これから始める 
 GA4 × ChatGPT (AI) × SEO 『新・最強』の組み合わせ戦略 
 ～\n\n\n5月28日(水) 14:00～15:00\n\nもっと早く受講された
 い方へ: 次の日程でも開催します\n\n\n5月21日(水) 14:00～
 15:00 お申し込みなど詳しくは こちら\n\n\n\n\n\nさらに「
 これから始める」シリーズ第5弾の ご紹介\n\nぜひ こち
 らも お申し込みください\n\n\n5/23(金) 14:00~15:00 開催【
 定員5人】GA4 × サーチコンソール × AI分析 × LLMO(AI検索
 最適化)準備 × 投資対効果も解説！可視化と自走を両
 立 ― これから始める「分析体制構築」不透明な未来
 に強固な仕組みを\n\n\n5/30(金) 14:00～15:00 上記と同じセ
 ミナー別日の回\n\n\n\n\n\n\n///───────────
 ─・・・/// このページの下の方に他のイベントも ご
 案内してますので ぜひ ご覧ください //////─────
 ───────・・・\n\n\n初心者にも分かりやすく－
 人気の「これから始める」シリーズの講師が解説\n\nこ
 の講師の講義の受講者の声一例(アンケート結果をその
 まま引用)\n\n＝＝＝受講者の声＝＝＝” GA4、サーチコ
 ンソール、AIなど各ツールを掛け合わせて効果を出す
 というテーマが良かったです。各ツールは使ってはい
 ますが、組み合わせて有効的に活用する方法を知って
 いるのと知らないのでは、施策検討時の視点や成果の
 出方が変わってきそうだなと思いました。 ”＝＝＝＝
 ＝＝＝＝＝＝＝\n\n\n講師が取材され記事になりました\
 n\n第2弾 ITカテゴリ RANKING１位(昨年10/11 17:30現在) Bing、
 なぜか今、シェア伸長の理由…検索エンジン市場でヤ
 フーを上回り2位\n\n第1弾 X社が分析：フォロワー数に
 関係なくバズり可能、入口は1300リツイート\n\n\n\n\n\n\n
 弊社のホールディング会社 グロースエクスパートナー
 ズ株式会社が東京証券取引所グロース市場に昨年9/26上
 場しました\n\n詳しくは こちら\n\n\n皆さまから弊社を
 ご信頼頂ける一要因になるかもしれないと思い お伝え
 させて頂きます\n\n\n\n弊社グループについて(事業計画
 及び成長可能性)\n\n\n最新の取り組み\n\n4/9発表: AI駆動
 型リサーチサービス「GxRaptor」発表のお知らせ\n\n4/22発
 表: 「Retool」製品紹介サイトリニューアル >> 業務アプ
 リケーションを、速く・柔軟に、現場でつくる。\n\nFac
 ebookページ >> Retoolオフィシャルパートナー 株式会社GxP
 \n\n\n\n\n\n\n\n\nGA4とSEO さらにChatGPTを組み合わせた戦略
 を「基本」から\n\n1回の定員が5人にも関わらず累計245
 人が申し込んだ人気セミナー「これから始める組み合
 わせ戦略(一例)」の完全リニューアル版\n「むずかしい
 」という声が多いGA4、しかし これはWeb運営上の欠かせ
 ないツール\nさらに日々のアクセス増 売上増のためSEO
 も考えなくてはならない\n最近 話題のChatGPTは どんな
 風にマーケティングに活用できるのか？\n\nチームは 
 この変化に対応できるか？\n\nそんな悩みと危機感を抱
 いている方々に解決策を説明します\n\n▼こんな方に 
 おすすめです\n\n時代の変化に対応できるようにチーム
 をレベルアップさせたい\n\n\nこれからデジタル(Web)マ
 ーケティングを始めようと思ってる\n\nもしくは始めて
 みたが試行錯誤が続いてる\n\n\nGA4を基本から知りたい\
 n\nGA4の どの機能を使うと今 行ってることの評価がで
 きるか知りたい\n\n\nChatGPTが何なのか知りたい\n\nある
 いはChatGPTを使ってるが活用できてない方\n\n\nSEOなど 
 いくつかの施策は行ってるが うまく連携してない\n\n
 例) ページ速度対策に困ってる\n\n\n\n以前「これから始
 める組み合わせ戦略(一例)」を受講された方\n\nもちろ
 ん この講師の他のセミナーを受講された方も\n\n\n\nマ
 ーケティングチームのリーダーの方\n\nさらに詳しい「
 参加対象」はページ下段に記載してあります\n\n\n\n▼
 セミナーの内容\n\n\n基本的なことでも場当たり的では
 なく体系的に考え進めることで効果が得られる\n\n基本
 的なことでも組み合わせることで大きな効果が期待で
 きる\nPDCAの大切さ\n\nGA4とChatGPTとSEOには どんな相互作
 用があるのか\nGA4で まず見るべきデータは何か\nChatGPT
 に送る指示文「プロンプト」の作り方\nSEO対策キーワ
 ード探しのフレームワーク(考え方の枠組み)\nsitemap.xml 
 の必要性\nネット広告とSEOを連携させる施策\n\n▼開催
 概要\n\n開催日時\n\n2025年5月28日(水) 14:00～15:00\n\nもっ
 と早く受講されたい方へ: 次の日程でも開催します\n\n\
 n5月21日(水) 14:00～15:00 お申し込みなど詳しくは こちら
 \n\n\n\n\n\n\n・参加費無料\n・開催方法ウェビナー(オン
 ラインセミナー)　※Zoomを利用します\n・参加方法お申
 し込み後にメールで ご案内致します\n▼タイムスケジ
 ュール\n\n\n\n時間\n内容\n\n\n\n\n13:50〜\n受付開始(視聴用
 URL開場)\n\n\n14:00〜14:45\nセミナー本編\n\n\n14:45〜15:00\n質
 疑応答(質問がなくなり次第終了)、また説明が分かり
 やすかったか？など直感的な印象などをアンケートさ
 せて頂きます。\n\n\n\n※ 当日予告なく時間配分・内容
 が変更になる可能性がございます\n▼講師紹介\n\n澤井 
 貞夫\n(株)GxPマーケター兼コンテンツ ディレクター\n\n\
 n人気の「これから始める」シリーズの講師\n\n\nこれか
 ら始める組み合わせ戦略\n\n\nこれから始める研修体験\
 n\n\nこれから始める課題解決\n\n\n\n\n・通販 EC の経験を
 経て、スマホ[アプリ]/モバイルや PC 向けコンテンツの
 ディレクションおよびマーケティングの経験 多数。\n
 ・企画立案から要件定義、そして進捗管理からプロジ
 ェクトの収益化までをトータルで対応。\n\n\n\n講師が
 取材され記事になりました\n\n第2弾 ITカテゴリ RANKING１
 位(昨年10/11 17:30現在) Bing、なぜか今、シェア伸長の理
 由…検索エンジン市場でヤフーを上回り2位\n\n第1弾 X
 社が分析：フォロワー数に関係なくバズり可能、入口
 は1300リツイート\n\n\n\n\n▼参加対象\n\n\nマーケティン
 グや広報ご担当者様・責任者様 全般\n\n\nデータ分析ご
 担当者様\n\n戦略立案ご担当者様\n\n事業計画ご担当者
 様\n\nECサイト運営者様\n\n\n以上いずれかの ご関係者様
 \n\n社員研修を検討中の人事部の方\n\n\n新卒に\n\n中途
 採用に\n\n\nあなたの\n\n\n部下に必要と思えたら\n\nご同
 僚にも\n\n\nその他 思い当たる人やチーム、部署に紹介
 してみては？\nその他とりあえず このセミナーで勉強
 してみたいと思われた方\n\n※ Web初心者から事業の成
 長カーブを目指してる方にまで分かりやすく ご説明し
 ます※ 同業他社の方や個人事業主 自営業 フリーラン
 ス 学生の方は対象外となります\n▼参加費\n無料\n▼そ
 して このセミナーの応用編のイベント\n※ 課題解決を
 優先される方は こちらを先に受講されることをおすす
 めします\n\nGA4\, 研修体験\, SEO\, 広告など全31テーマか
 ら いくつでも選択OK(無料)\n\n5/19(月)～30(金)で ご希望
 日時をご指定→【各回 無料1社限定】GA4\, 研修体験\, SE
 O\, ChatGPT\, EC\, SNS\, 広告\, B2B\, etc. <= 希望のテーマをリ
 クエスト！これから始める課題解決\n\n\n\nぜひ お申し
 込み頂き課題解決に向けて前進しましょう！\n\n▼「こ
 れから始める」シリーズ第5弾の ご紹介\n\nぜひ こちら
 も お申し込みください\n\n\n5/23(金) 14:00~15:00 開催【定
 員5人】GA4 × サーチコンソール × AI分析 × LLMO(AI検索最
 適化)準備 × 投資対効果も解説！可視化と自走を両立 
 ― これから始める「分析体制構築」不透明な未来に強
 固な仕組みを\n\n\n5/30(金) 14:00～15:00 上記と同じセミナ
 ー別日の回\n\n\n\n\n注意事項\n※ 参加を辞退する場合は
 、詳細ページより申込のキャンセルをお願い致します
 。※ 無断キャンセル・欠席が続く場合、次回以降の参
 加をお断りさせていただく場合がございますのでご了
 承ください。
LOCATION:
URL:https://techplay.jp/event/981041?utm_medium=referral&utm_source=ics&utm
 _campaign=ics
END:VEVENT
END:VCALENDAR
