BEGIN:VCALENDAR
VERSION:2.0
PRODID:-//https://techplay.jp//JP
CALSCALE:GREGORIAN
METHOD:PUBLISH
X-WR-CALDESC:【好評アンコール配信】リモートワークの落
 とし穴を塞ぐ！セキュリティ情報の効率的な収集法＆
 対策のポイント
X-WR-CALNAME:【好評アンコール配信】リモートワークの落
 とし穴を塞ぐ！セキュリティ情報の効率的な収集法＆
 対策のポイント
X-WR-TIMEZONE:Asia/Tokyo
BEGIN:VTIMEZONE
TZID:Asia/Tokyo
BEGIN:STANDARD
DTSTART:19700101T000000
TZOFFSETFROM:+0900
TZOFFSETTO:+0900
TZNAME:JST
END:STANDARD
END:VTIMEZONE
BEGIN:VEVENT
UID:981184@techplay.jp
SUMMARY:【好評アンコール配信】リモートワークの落とし
 穴を塞ぐ！セキュリティ情報の効率的な収集法＆対策
 のポイント
DTSTART;TZID=Asia/Tokyo:20250625T130000
DTEND;TZID=Asia/Tokyo:20250625T140000
DTSTAMP:20260420T125227Z
CREATED:20250520T012354Z
DESCRIPTION:イベント詳細はこちら\nhttps://techplay.jp/event/98118
 4?utm_medium=referral&utm_source=ics&utm_campaign=ics\n\nリモートワ
 ークの落とし穴を塞ぐ！セキュリティ情報の効率的な
 収集法＆対策のポイント\n概要\n新型コロナ禍を契機に
 定着したリモートワーク。現在では約7割の企業が継続
 運用に移行していますが、管理の目が届きにくい拠点
 で業務を行うリスクは増す一方です。\n本ウェビナー
 では、リモートワーク特有のセキュリティ課題を明確
 化し、有効な対策をご提案します。\nお申込み方法\n本
 ウェビナーはZoomウェビナーにて開催いたします。TECH P
 LAY上でのお申込みだけではまだ本登録が完了しており
 ません。引き続き、弊社お申込みページのお申し込み
 フォームから再度、情報登録していただくと、登録い
 ただいたメールアドレス宛に改めて、Zoomより開催URLを
 記載したメールと、開催前のリマインドメールをご案
 内させていただくかたちになっております。TECH PLAYか
 らお申込みをいただいた皆様にはご予約にお手数おか
 けし、申し訳ございませんが、お申し込み後、下記リ
 ンクより情報のご登録をお願いいたします。\nお申込
 みはこちら\nこんな方におすすめです！\n\nリモートワ
 ークを継続したいが、セキュリティが不安な方\n最新
 の脅威・脆弱性情報を効率よくキャッチアップしたい
 方\n\nタイムスケジュール\n12:50-　開場13:00-　ウェビナ
 ー開始\n主なトピック\n\n脅威情報・脆弱性情報の効率
 的な収集方法\n直近のサイバー攻撃事例\nリモートワー
 クならではのセキュリティリスクと対策ポイント\n社
 員に注意喚起したいソーシャルエンジニアリングの手
 口\n\n（上記トピックスは予告なく変更される場合があ
 ります）\n登壇者\n木下 祐希株式会社ブロードバンド
 セキュリティ セキュリティサービス本部 サービス支
 援部 支援課 課長代理\n参加費\n無料\n注意事項\n\nリク
 ルーティング、勧誘など、採用目的でのイベント参加
 はお断りしております。\n欠席される場合は、お手数
 ですが速やかにキャンセル処理をお願い致します。\n
 無断キャンセルや欠席が続く場合、次回以降の参加を
 お断りさせていただく場合がございます。\n
LOCATION:
URL:https://techplay.jp/event/981184?utm_medium=referral&utm_source=ics&utm
 _campaign=ics
END:VEVENT
END:VCALENDAR
