BEGIN:VCALENDAR
VERSION:2.0
PRODID:-//https://techplay.jp//JP
CALSCALE:GREGORIAN
METHOD:PUBLISH
X-WR-CALDESC:現場が止まらない！“回る仕組み”をつくる3
 つの鍵 〜設計・仕組み化・継承で支える、属人化しな
 い現場づくり〜
X-WR-CALNAME:現場が止まらない！“回る仕組み”をつくる3
 つの鍵 〜設計・仕組み化・継承で支える、属人化しな
 い現場づくり〜
X-WR-TIMEZONE:Asia/Tokyo
BEGIN:VTIMEZONE
TZID:Asia/Tokyo
BEGIN:STANDARD
DTSTART:19700101T000000
TZOFFSETFROM:+0900
TZOFFSETTO:+0900
TZNAME:JST
END:STANDARD
END:VTIMEZONE
BEGIN:VEVENT
UID:981535@techplay.jp
SUMMARY:現場が止まらない！“回る仕組み”をつくる3つの
 鍵 〜設計・仕組み化・継承で支える、属人化しない現
 場づくり〜
DTSTART;TZID=Asia/Tokyo:20250611T120000
DTEND;TZID=Asia/Tokyo:20250611T130000
DTSTAMP:20260420T231215Z
CREATED:20250527T075830Z
DESCRIPTION:イベント詳細はこちら\nhttps://techplay.jp/event/98153
 5?utm_medium=referral&utm_source=ics&utm_campaign=ics\n\n現場が止ま
 らない！“回る仕組み”をつくる3つの鍵 〜設計・仕
 組み化・継承で支える、属人化しない現場づくり〜\n
 概要\n人手不足や技術継承の課題が深刻化する中、製
 造・建設・物流・小売などの現場では「業務が人に依
 存して回らない」状態が常態化しています。OJT頼みの
 育成、属人化した業務、改善が続かない環境など問題
 は山積みです。本セミナーでは、現場を止めないため
 に必要な3つの視点として、業務の「設計・見える化」
 「仕組み化」「教育・継承」について、各領域の専門
 企業が具体策を解説します。再現性のある業務設計、
 業務を自動で回す仕組み、そして“教えなくてもでき
 る”育成環境。3つの鍵を揃えることで、現場が持続的
 に動き続ける体制を構築します。お申込みはこちら\n
 参加対象\n\n業務の属人化によって、誰がやるかで成果
 や品質にバラつきがある\n改善を試みても人手不足・
 忙しさで続かない／広がらない\n育成が追いつかず現
 場が疲弊している\nミスやトラブルの原因が“人のせ
 い”になってしまう\n\n参加費\n無料\n注意事項\n\nリク
 ルーティング、勧誘など、採用目的でのイベント参加
 はお断りしております。\nキャンセル待ち・補欠・落
 選の方はご参加いただくことが出来ませんのでご了承
 ください。\n欠席される場合は、お手数ですが速やか
 にキャンセル処理をお願い致します。\n無断キャンセ
 ルや欠席が続く場合、次回以降の参加をお断りさせて
 いただく場合がございます。\n
LOCATION:
URL:https://techplay.jp/event/981535?utm_medium=referral&utm_source=ics&utm
 _campaign=ics
END:VEVENT
END:VCALENDAR
