BEGIN:VCALENDAR
VERSION:2.0
PRODID:-//https://techplay.jp//JP
CALSCALE:GREGORIAN
METHOD:PUBLISH
X-WR-CALDESC:【初心者歓迎】【6/19（木）開催】Cursorを使っ
 たAIコーディング体験会 in 東京
X-WR-CALNAME:【初心者歓迎】【6/19（木）開催】Cursorを使っ
 たAIコーディング体験会 in 東京
X-WR-TIMEZONE:Asia/Tokyo
BEGIN:VTIMEZONE
TZID:Asia/Tokyo
BEGIN:STANDARD
DTSTART:19700101T000000
TZOFFSETFROM:+0900
TZOFFSETTO:+0900
TZNAME:JST
END:STANDARD
END:VTIMEZONE
BEGIN:VEVENT
UID:981801@techplay.jp
SUMMARY:【初心者歓迎】【6/19（木）開催】Cursorを使ったAI
 コーディング体験会 in 東京
DTSTART;TZID=Asia/Tokyo:20250619T183000
DTEND;TZID=Asia/Tokyo:20250619T200000
DTSTAMP:20260421T001428Z
CREATED:20250602T052455Z
DESCRIPTION:イベント詳細はこちら\nhttps://techplay.jp/event/98180
 1?utm_medium=referral&utm_source=ics&utm_campaign=ics\n\n📢 イベン
 ト概要\n昨今、AIエディタあるいはAIコーディングとい
 った分野が急速に注目されるようになってきました。L
 LMのAPIをラップした比較的「薄い」ものには\n\n\nCursor\n
 \n\nCline\n\n\nGitHub Copilot Agent\n\n\nといったものがあり、
 比較的その下のLLMも見えやすい印象です。一方、もっ
 と高度な動作をできるようにしたものに\n\n\nOpenAI Codex\
 n\n\nGoogle Jules（ベータ版）\n\n\nDevin\n\n\nなどがあります
 。いずれにしても、私達ソフトウェアエンジニアにと
 ってもはやAIコーディングが避けられないことは間違
 いありません。そんな中、代表的なAIエディタであるCu
 rsorの無料版を通じてAIエディタやAIコーディングの力
 を知ってもらうのが本イベントの目的です。\n参加資
 格\n生成AIに興味があるが、AIエージェントを活用した
 コーディングの経験がない方を歓迎します。また、学
 生や若手エンジニアも歓迎します。\n日時\n2025年06月19
 日（木）18:30～20:00\n会場\n株式会社ネクストビート東
 京オフィスロビー階の会議室L01を使って行います。18:1
 5受付開始となりますので、開始5分前（18:25）までに、
 ロビーのエントランスにお越しいただければスタッフ
 が案内致します。\n内容\n18:30〜20:00の1時間30分かけて
 、Cursorを使ったAIコーディングを体験していただきま
 す。環境設定でつまづいた場合でも、ネクストビート
 のエンジニアがサポートしますのでご安心くださいま
 せ。また、JavaScriptを使ったAIコーディングになります
 。\n準備\n事前にお持ちのノートPCにCursorをインストー
 ルしておいて、最初の起動までは済ませておいてくだ
 さい。\nタイムテーブル\n時間、内容はあくまで目安で
 変更の可能性があります。特に演習内容については仮
 と考えておいてください。\n\n18:30-18:40 会社紹介\n18:40-1
 8:50 生成AIとAIエージェント、Cursorについて\n18:50-19:00 Cu
 rsorの環境設定・セットアップ\n19:00-19:20 演習: 簡易タ
 スクリストアプリ - HTML / JS生成\n19:20-19:30 休憩\n19:30-19:
 50 演習: 簡易タスクリストアプリ - タスクの完了・削
 除 / CSSによるスタイリング\n19:50-20:00 まとめ・質疑応
 答\n\n懇親会について\nイベント終了後、20:00から9Fにて
 懇親会を開催予定です。任意参加ですので、どうぞお
 気軽に。\n備考\n\n参加者の方々は、各自PCを持参くだ
 さい。\n\nOSはWindows / macoS / Linuxのいずれでも構いませ
 ん。\n\n\nゲストWi-Fiがあります\n\n注意事項\n\n本イベン
 トの録音・録画は禁止しております。\n営業活動を目
 的としたご参加はできません。\nイベントは止むを得
 ず中止させて頂く場合がございます。その際は、本サ
 イトからのメッセージよりご連絡させて頂きますので
 ご確認をお願い致します。\n\n※情報は随時更新します
 。\nNextbeat Tech Barについて\n本イベントとは直接関係あ
 りませんが、以下は株式会社ネクストビートが定期開
 催している技術イベント「Nextbeat Tech Bar」の開催実績
 です。参考までに。\n\n\nNextbeat Tech Bar：第二回プログ
 ラミング教育について語る会\n\n\nNextbeat Tech Bar：大規
 模言語モデルについて考える会\n\n\nNextbeat Tech Bar：第
 六回関数型プログラミング（仮）の会\n\n\nNextbeat Tech Ba
 r：第一回プログラミング教育について語る会\n\n\nNextbe
 at Tech Bar：第一回関係データベース/SQL勉強会\n\n\nNextbea
 t Tech Bar：第一回ライブラリ開発について考える会\n\n\n
 Nextbeat Tech Bar：第一回ソフトウェアテストについて考
 える会\n\n\nNextbeat Tech Bar：第五回関数型プログラミン
 グ（仮）の会\n\n\nSvelteKit導入企業2社による本音LT会\n\n
 \nクロスプラットフォーム開発に移行したら開発生産
 性が約2倍になった\n\n\n広がるSvelteの輪！\n\n\n\nネクス
 トビートでは、エンジニアを積極採用しています。\n\n
 HP: https://www.nextbeat.co.jp/\nプロダクト開発組織 会社紹介
 資料: https://speakerdeck.com/nextbeat/company-profile\n
LOCATION:株式会社ネクストビート東京オフィス 渋谷区恵
 比寿四丁目９番10号
URL:https://techplay.jp/event/981801?utm_medium=referral&utm_source=ics&utm
 _campaign=ics
END:VEVENT
END:VCALENDAR
