BEGIN:VCALENDAR
VERSION:2.0
PRODID:-//https://techplay.jp//JP
CALSCALE:GREGORIAN
METHOD:PUBLISH
X-WR-CALDESC:【7/1開催】製造現場の未来をつくる！製造業DX
 ウェビナー 外観検査と異常検知AI開発の具体事例を一
 挙公開
X-WR-CALNAME:【7/1開催】製造現場の未来をつくる！製造業DX
 ウェビナー 外観検査と異常検知AI開発の具体事例を一
 挙公開
X-WR-TIMEZONE:Asia/Tokyo
BEGIN:VTIMEZONE
TZID:Asia/Tokyo
BEGIN:STANDARD
DTSTART:19700101T000000
TZOFFSETFROM:+0900
TZOFFSETTO:+0900
TZNAME:JST
END:STANDARD
END:VTIMEZONE
BEGIN:VEVENT
UID:981843@techplay.jp
SUMMARY:【7/1開催】製造現場の未来をつくる！製造業DXウ
 ェビナー 外観検査と異常検知AI開発の具体事例を一挙
 公開
DTSTART;TZID=Asia/Tokyo:20250701T120000
DTEND;TZID=Asia/Tokyo:20250701T130000
DTSTAMP:20260420T124804Z
CREATED:20250603T012752Z
DESCRIPTION:イベント詳細はこちら\nhttps://techplay.jp/event/98184
 3?utm_medium=referral&utm_source=ics&utm_campaign=ics\n\n【7/1開催】
 製造現場の未来をつくる！製造業DXウェビナー外観検
 査と異常検知AI開発の具体事例を一挙公開\n本ウェビナ
 ーでは、製造・エネルギー・インフラ業界のAI活用に
 ついてご紹介。生産計画の最適化から生産設備の制御
 、予知保全、異常検知まで、具体的なAI活用について
 、業界をリードする2社のプロフェッショナルが解説し
 ます。\n現場のDX推進や業務効率化にお悩みの方はもち
 ろん、既にAI導入済みで活用に課題を感じている企業
 様にも必見です。ぜひお早めにお申し込みください。\
 n■開催概要\n【7/1開催】製造現場の未来をつくる！製
 造業DXウェビナー\n外観検査と異常検知AI開発の具体事
 例を一挙公開\n・主催：株式会社アイスマイリー・日
 時：2025年7月1日（火）12:00～13:00・場所：ウェビナー専
 用URL ＊申し込みいただいた方にウェビナーのURLをお送
 りいたします。・費用：無料・申込締切：7月1日（火
 ）11:00まで\n■こんな方にお勧めのウェビナーです！\n
 ・生産技術／製造／保全におけるAI外観検査自動化の
 具体事例を知りたい方・生産技術／製造／保全におけ
 るカメラでの検査自動化を検討している方・AIを用い
 た製品の自動カウントアップや自動記録、品質保証に
 興味がある方・異常予兆検知や故障予測をAIで代替し
 たいとお考えの方・工場設備の点検のご担当者・検査
 の業務効率化、コスト削減について知りたい方・時系
 列解析に興味がある方\n■ウェビナー登壇者\n株式会社
 Phoxter　Smart Vision Solutions事業部　事業部責任者　赤畠
 久幸 氏\n大学卒業後、武田薬品にて学びたかったセー
 ルスとエリアマーケティングに13年間従事。その後、
 世界のFA市場の拡大を確信しマシンビジョンの技術営
 業に転身。検査自動化で貢献した業界とプロセスの知
 見は深く多岐にわたる。クライアントの投資効果に照
 らして、技術力に立脚した光学系選定、検査・計測・
 データ収集、活用の提案が得意。投資効果に合わない
 場合導入をお勧めしないなど、歯に衣を着せないスタ
 イルが特徴。\n\n株式会社メロン　取締役CTO　本田 崇
 人 氏\n熊本大学大学院博士課程修了。博士（工学）。
 時系列解析技術を研究。日本学術振興会特別研究員（D
 C1）、大阪大学特任助教を経てメロンを創業。基礎研
 究のみならず、社会実装に注力。機械学習モデルの設
 計から開発、システム導入までの経験豊富。KDD、ICDM等
 トップ国際会議への採択、受賞歴多数。国内外特許6件
 取得。\n\nファシリテーター　株式会社アイスマイリー
 　葛尾 勇樹\n参加費\n無料\n注意事項\n・フリーアドレ
 スではご登録いただけませんので、恐れ入りますが、
 会社のメールアドレスをご使用いただきますようお願
 いいたします。・お申込みは1名様毎にお願いいたしま
 す。一度のお申込みで複数名のご参加はできませんの
 でご了承ください。・事業が競合する企業様、または
 個人事業主の方のお申込みについては、ご参加をお断
 りさせて頂く場合がございます。予めご了承ください
 。
LOCATION:
URL:https://techplay.jp/event/981843?utm_medium=referral&utm_source=ics&utm
 _campaign=ics
END:VEVENT
END:VCALENDAR
