BEGIN:VCALENDAR
VERSION:2.0
PRODID:-//https://techplay.jp//JP
CALSCALE:GREGORIAN
METHOD:PUBLISH
X-WR-CALDESC:＼お客さんは、なぜカートに進まない？／ EC
 サイトの購入率をグンと伸ばす方法 ～導線設計・定性
 分析・動画活用・GA4～
X-WR-CALNAME:＼お客さんは、なぜカートに進まない？／ EC
 サイトの購入率をグンと伸ばす方法 ～導線設計・定性
 分析・動画活用・GA4～
X-WR-TIMEZONE:Asia/Tokyo
BEGIN:VTIMEZONE
TZID:Asia/Tokyo
BEGIN:STANDARD
DTSTART:19700101T000000
TZOFFSETFROM:+0900
TZOFFSETTO:+0900
TZNAME:JST
END:STANDARD
END:VTIMEZONE
BEGIN:VEVENT
UID:981908@techplay.jp
SUMMARY:＼お客さんは、なぜカートに進まない？／ ECサイ
 トの購入率をグンと伸ばす方法 ～導線設計・定性分析
 ・動画活用・GA4～
DTSTART;TZID=Asia/Tokyo:20250626T170000
DTEND;TZID=Asia/Tokyo:20250702T100000
DTSTAMP:20260421T031631Z
CREATED:20250604T023333Z
DESCRIPTION:イベント詳細はこちら\nhttps://techplay.jp/event/98190
 8?utm_medium=referral&utm_source=ics&utm_campaign=ics\n\n\n\n\n日程\n20
 25年7月2日(水)　13:00~15:00\n\n\n\n\n実施形態\nオンライン
 開催※セミナー視聴用URLは、お申込みいただいた方に
 、事前にメールにてご連絡いたします。\n\n\n\n【お申
 込みはこちら】https://corekara.co.jp/seminar/20250702seminar/※TE
 CH PLAYでのお申込みでは登録完了となりません。上記の
 URLにてお手続きのほどよろしくお願いいたします\n概
 要\n広告やSNS、SEOで集客はできているのに、なぜかカ
 ートにすら進んでもらえない。そんな“CV直前の離脱
 ”に頭を抱えていませんか？\n実は、購入に至らない
 原因の多くは、「ページの見せ方」や「導線の作り方
 」に隠れています。\n・ページを離脱するタイミング
 はどこ？・なぜ商品に魅力を感じてもらえない？・ど
 こで購入への意欲が落ちている？\n今回のセミナーで
 は、こうした疑問を解決するため、“購入率UP”に直
 結する施策を4つの切り口からお届けします。\n💡こん
 なことをお話しします✔ 見やすく・買いやすいレイア
 ウト設計✔ 顧客解像度を上げる「定性分析」×CRM活用
 ✔ 滞在時間とCVRを伸ばす動画活用術✔ ユーザー行動
 を可視化するGA4＆ヒートマップ分析\n明日からすぐに
 取り入れられる改善施策と、購入率を押し上げるヒン
 トがきっと見つかります。ご興味のあるパートだけの
 視聴もOKです。ぜひこの機会にご参加ください！\n【お
 申込みはこちら】https://corekara.co.jp/seminar/20250702seminar/
 ※TECH PLAYでのお申込みでは登録完了となりません。上
 記のURLにてお手続きのほどよろしくお願いいたします
 。\n登壇プログラム\n【第1部　株式会社これから】ECサ
 イト支援実績20\,000件以上！ECサイトの購入率をUPさせ
 るサイトレイアウト術\n【第2部　株式会社ビービット
 】一斉配信を卒業しCVR1.4倍を達成！CRMを成功に導く「
 定性分析」の威力\n【第3部　株式会社ギャプライズ】
 「魅せ方」が売上を変える！ ショート動画×ECでCVRを2
 倍にする“動画体験”のつくり方\n【第4部　株式会社A
 LL WEB CONSULTING】ECサイトの課題を見える化！GA4・ヒート
 マップ活用法 徹底解説！\n※全パート終了後、質疑応
 答のお時間を設けております。※ご興味のあるパート
 のみ、ご視聴も可能です。（各社30分ずつの講演　途
 中入室/退出可）\nこんな方におすすめです\n\nサイト訪
 問はあるのに、購入までつながらないことに課題を感
 じている方\n導線設計やレイアウトを見直したいが、
 どこから手を付けるべきか悩んでいる方\nCRMや定性分
 析を活用した改善アプローチを知りたい方\n動画施策
 やショート動画の活用にチャレンジしてみたい方\nGA4
 やヒートマップを導入したものの、効果的な活用法が
 つかめていない方\n\n▼お申し込みはこちらからhttps://c
 orekara.co.jp/seminar/20250702seminar/※TECH PLAYでのお申込みで
 は登録完了となりません。上記のURLにてお手続きのほ
 どよろしくお願いいたします\n\nビービット登壇情報\n
 ■タイトル一斉配信を卒業しCVR1.4倍を達成！CRMを成功
 に導く「定性分析」の威力\n■登壇日時2025年7月2日(水)
 　第2部　13:30～14:00\n■登壇者株式会社ビービットオム
 ニセグメント事業部部長生田 啓\n京都大学工学部を卒
 業後、2009年株式会社ビービットに入社。入社直後から
 、ユーザ中心アプローチによるデジタルマーケティン
 グ手法の開発や、 金融機関・大手保険企業などへのコ
 ンサルティングに携わる。\nその後、ソフトウェアを
 用いたデータマーケティングの支援に軸を移し、広告
 効果測定ツール「ウェブアンテナ」およびUXチームク
 ラウド「USERGRAM」を通して、700社以上の企業をサポー
 ト。\n現在はCRMツール「オムニセグメント」の事業責
 任者として運営全般に携わる。\n参加費\n無料\n株式会
 社ビービットでは、各種セミナーを開催しております
 。その他の日程や異なるテーマのセミナーはこちらよ
 りお申込みいただけます。
LOCATION:
URL:https://techplay.jp/event/981908?utm_medium=referral&utm_source=ics&utm
 _campaign=ics
END:VEVENT
END:VCALENDAR
