BEGIN:VCALENDAR
VERSION:2.0
PRODID:-//https://techplay.jp//JP
CALSCALE:GREGORIAN
METHOD:PUBLISH
X-WR-CALDESC:【2025年最新版】Instagramでフォロワーを増やす
 運用×広告戦略～基本から応用まで徹底解説～
X-WR-CALNAME:【2025年最新版】Instagramでフォロワーを増やす
 運用×広告戦略～基本から応用まで徹底解説～
X-WR-TIMEZONE:Asia/Tokyo
BEGIN:VTIMEZONE
TZID:Asia/Tokyo
BEGIN:STANDARD
DTSTART:19700101T000000
TZOFFSETFROM:+0900
TZOFFSETTO:+0900
TZNAME:JST
END:STANDARD
END:VTIMEZONE
BEGIN:VEVENT
UID:982171@techplay.jp
SUMMARY:【2025年最新版】Instagramでフォロワーを増やす運用
 ×広告戦略～基本から応用まで徹底解説～
DTSTART;TZID=Asia/Tokyo:20250626T140000
DTEND;TZID=Asia/Tokyo:20250626T150000
DTSTAMP:20260420T001357Z
CREATED:20250610T013614Z
DESCRIPTION:イベント詳細はこちら\nhttps://techplay.jp/event/98217
 1?utm_medium=referral&utm_source=ics&utm_campaign=ics\n\n本セミナー
 について\nInstagramを運用している中で、「なかなかフ
 ォロワーが増えない」「運用方法が正しいか不安」「
 広告を出しても思うような成果が出ない」といったお
 悩みを抱えていませんか？企業の公式アカウント運用
 が一般的になり、Instagramは効果的な集客・認知拡大の
 ために欠かせないプラットフォームとなっています。
 その一方で、運用や広告の活用に課題を感じる担当者
 の方も増えていると感じます。そこで本セミナーでは
 、2025年最新版のInstagram運用・広告戦略を徹底解説！フ
 ォロワーを効率的に増やす運用テクニックや、広告効
 果を高める具体的な活用方法を、BtoC・採用など複数分
 野での最新成功事例とともにご紹介します。 ■開催
 概要 \n日時：2025年6月26日（木）14:00～15:00  \n講師：
 中井 彩霞(株式会社シーエムスタッフ)参加費：無料主
 催：株式会社シーエムスタッフ \n\n本セミナーはこん
 な方へおすすめです\n\n自社のInstagram運用を改善したい
 方\n広告効果を最大化する方法を知りたい方\n最新の成
 功事例から自社に合った施策を見つけたい方\n\n企業の
 マーケティング担当者、広報担当者、人事担当者の方
 にとって必見の内容です。ぜひこの機会にご参加いた
 だき、Instagramを活用した集客力向上のヒントを掴んで
 ください！ \n\n \nセミナー内容\n【2025年最新版】Instag
 ramでフォロワーを増やす運用×広告戦略。フォロワー
 増加に繋がる具体的な運用手法やInstagram広告の効果的
 な使い方、BtoC・採用など複数分野での成功事例を紹介
 します。【目次】第一章 Instagramアカウント運用の基本
 と活用方法第二章 Instagram運用のメリット・デメリット
 第三章 Instagramでフォロワーを増やす運用方法第四章 In
 stagram広告の活用方法と運用のコツ第五章 【2025年最新
 版】成功事例の紹介 \n\n企業・登壇者紹介\n＼ Webマー
 ケティングに強い総合広告代理店 ／株式会社シーエム
 スタッフ（https://cmstaff.co.jp/）「Webマーケティングに強
 い総合広告代理店」として、Web広告、SNS運用、動画制
 作、Webサイト制作、Webサイト分析などクライアントの
 プロモーションを一貫してサポートします。また総合
 広告代理店としてテレビCMやラジオCM、チラシ、イベン
 トの支援など売り上げに貢献できる施策を実施します
 。事業規模、ご予算、プロモーション活動の段階に合
 わせた最適なプランをご提案いたします。 ■登壇者
 プロフィール株式会社シーエムスタッフ　Webマーケテ
 ィング部 中井 彩霞Webマーケティング部所属。企業の
 集客力向上に貢献するため、新卒で入社。主に、Instagr
 am運用やWeb広告運用に従事し、BtoBのクライアントを多
 く担当している。飼育している熱帯魚のお世話が日々
 の癒し。 \n\n注意事項\n※ 本イベントは、Zoomにて実施
 いたします。事前にご準備をお願いいたします。※ 内
 容は、予告なく変更となる場合がございます。※ やむ
 を得ずキャンセルされる場合には、お早めにご連絡く
 ださい。  \n\n【 参加者特典 】本セミナーを視聴し
 て、アンケートでご回答をいただいた方全員にプレゼ
 ント！■ セミナーで使用したスライド■初心者必見
 ！SNS広告の基礎知識 特性比較×媒体別事例\n\n
LOCATION:
URL:https://techplay.jp/event/982171?utm_medium=referral&utm_source=ics&utm
 _campaign=ics
END:VEVENT
END:VCALENDAR
