BEGIN:VCALENDAR
VERSION:2.0
PRODID:-//https://techplay.jp//JP
CALSCALE:GREGORIAN
METHOD:PUBLISH
X-WR-CALDESC:“聞く”から“聴く”へ。あなたのコミュニ
 ケーションを進化させる！ 「聴く力」で職場が変わる
 ！傾聴力UP講座
X-WR-CALNAME:“聞く”から“聴く”へ。あなたのコミュニ
 ケーションを進化させる！ 「聴く力」で職場が変わる
 ！傾聴力UP講座
X-WR-TIMEZONE:Asia/Tokyo
BEGIN:VTIMEZONE
TZID:Asia/Tokyo
BEGIN:STANDARD
DTSTART:19700101T000000
TZOFFSETFROM:+0900
TZOFFSETTO:+0900
TZNAME:JST
END:STANDARD
END:VTIMEZONE
BEGIN:VEVENT
UID:982204@techplay.jp
SUMMARY:“聞く”から“聴く”へ。あなたのコミュニケー
 ションを進化させる！ 「聴く力」で職場が変わる！傾
 聴力UP講座
DTSTART;TZID=Asia/Tokyo:20250707T190000
DTEND;TZID=Asia/Tokyo:20250707T200000
DTSTAMP:20260420T075743Z
CREATED:20250610T073116Z
DESCRIPTION:イベント詳細はこちら\nhttps://techplay.jp/event/98220
 4?utm_medium=referral&utm_source=ics&utm_campaign=ics\n\n“聞く”か
 ら“聴く”へ。あなたのコミュニケーションを進化さ
 せる！ 「聴く力」で職場が変わる！傾聴力UP講座\nク
 リーク･アンド･リバー社（C&R社）は、2025年７月７日
 （月）にコミュニケーション関するウェビナーを実施
 します。\n職場でのコミュニケーションにおいて、**相
 手の話を「ただ聞く」だけでは、信頼関係やチームワ
 ークは築けません。今、求められているのは、相手の
 気持ちや意図を深く理解しようとする「聴く力（傾聴
 力）」**です。\n本ウェビナーでは**、「聞く」「聴く
 」「訊く」という3つの「きく」の違いを理解しながら
 、職場で本当に必要とされる“聴く力”を実践的**に
 学びます。人は「見たいように見て、聞きたいように
 聞く」もの。だからこそ、自分の認識のクセに気づき
 、相手のレセプター（受け取り口）を開くコミュニケ
 ーションが重要です。\nさらに、コミュニケーション
 の6つの原則や、目的を持って聴くための10の視点、そ
 して相手の本音を引き出す12の傾聴のコツなど、すぐ
 に使える実践的なスキルもご紹介します。\n「話す力
 」より、「聴く力」があなたの武器になります。傾聴
 力を高めることで、職場内の対話力やチームの生産性
 はもちろん、クライアントとの信頼関係やニーズの的
 確な把握にもつながります。伝える前に“聴く”こと
 で、より深い共感と成果を生み出していきましょう。\
 n▼こんなことを学びます\n\n3つの「きく」の違いと、
 それぞれの役割\n「伝える」ための関係構築方法\n信頼
 関係を築くための「コミュニケーションの6つの原則」
 \n傾聴力を高める「目的を持って聴くための10の視点」
 \n相手の本音や真の関心を引き出す「聴き方の12のコツ
 」\n傾聴の“深さ”を理解し、レベルアップするため
 の実践ポイント\n\n\n▼こんな方にオススメ！\n\nクライ
 アントの“本当のニーズ”を引き出したいデザイナー
 ・ディレクターの方\nチームでの制作やコラボが多い
 映像・Web・ゲームクリエイターの方\nアイデア出しや
 ブレストで“相手の発想”を引き出したいプランナー
 ・編集者の方\nユーザーインタビューやヒアリングを
 行うUXデザイナー・リサーチャーの方\n「伝える」だけ
 でなく「受け取る」力を磨きたいすべての方\n\nタイム
 スケジュール\n\n\n\n時間\n内容\nspeaker\n\n\n\n\n19：00～19
 ：05\nオープニング\nC&R社\n\n\n19：05～19：50\n講演\n室谷
 　健一郎 氏\n\n\n19：50～20：00\n質疑応答\n\n\n\n20：00～\
 nクロージング\n\n\n\n\n※ 当日予告なく時間配分・内容
 が変更になる可能性がございます。\n登壇者\n室谷　健
 一郎（むろや・けんいちろう）氏\n中小企業診断士\n大
 学卒業後、内資系大手製薬会社に就職。MR（医薬情報
 担当者）や医薬品卸（特約店）担当者、マネージャー
 としてエリア流通関連の責任者も経験し営業現場での
 知見を深めた。現在は、本社流通部門にて自社の流通
 戦略の立案や業界活動などに従事している。\nまた、
 営業担当および管理職としての経験を活かし、「対話
 」を重視したコミュニケーションを通じて組織開発・
 人材育成を支援する中小企業診断士としても活動中。
 中小企業の経営者に寄り添い、共に成長するパートナ
 ーとして伴走支援を行うことを主軸に、コンサルティ
 ングとコーチング（プロコーチ）を通じた経営支援を
 実施している。\n資格等：中小企業診断士、MBA（経営
 学修士）、医療経営士2級、登録販売者、九州情報大学
 中小企業経営研究センター客員研究員など\n\n\n参加費\
 n無料\n当ウェビナーについて\n\n\nこちらのサイトから
 もお申込みいただくことができます。\n\n\n▼C&R社で実
 施しているオンライン講座・ウェビナー　一覧ページh
 ttps://www.c-place.ne.jp/
LOCATION:
URL:https://techplay.jp/event/982204?utm_medium=referral&utm_source=ics&utm
 _campaign=ics
END:VEVENT
END:VCALENDAR
