BEGIN:VCALENDAR
VERSION:2.0
PRODID:-//https://techplay.jp//JP
CALSCALE:GREGORIAN
METHOD:PUBLISH
X-WR-CALDESC:申込数5\,000人突破！【経産省×世界5大テック
 リーダー×日系大手が集結】 AIエージェントの"真のス
 ペシャリスト"が明かす事例・組織・未来を一挙公開
X-WR-CALNAME:申込数5\,000人突破！【経産省×世界5大テック
 リーダー×日系大手が集結】 AIエージェントの"真のス
 ペシャリスト"が明かす事例・組織・未来を一挙公開
X-WR-TIMEZONE:Asia/Tokyo
BEGIN:VTIMEZONE
TZID:Asia/Tokyo
BEGIN:STANDARD
DTSTART:19700101T000000
TZOFFSETFROM:+0900
TZOFFSETTO:+0900
TZNAME:JST
END:STANDARD
END:VTIMEZONE
BEGIN:VEVENT
UID:982289@techplay.jp
SUMMARY:申込数5\,000人突破！【経産省×世界5大テックリー
 ダー×日系大手が集結】 AIエージェントの"真のスペシ
 ャリスト"が明かす事例・組織・未来を一挙公開
DTSTART;TZID=Asia/Tokyo:20250709T090000
DTEND;TZID=Asia/Tokyo:20250711T171500
DTSTAMP:20260422T075052Z
CREATED:20250611T114756Z
DESCRIPTION:イベント詳細はこちら\nhttps://techplay.jp/event/98228
 9?utm_medium=referral&utm_source=ics&utm_campaign=ics\n\n【申込数4\,5
 00人突破！】AI Agent Day 2025 Summer<公式サイトからお申し
 込みください>\n~AIエージェントの事例・組織・未来｜
 社内を動かす「答え」がみつかる3日間~\nAI Agent Day 2025 
 Summer*~AIエージェントの事例・組織・未来｜社内を動か
 す「答え」がみつかる3日間~*\n【開催概要】公式サイ
 ト\n■ 経済産業省・大手外資系・日系大手企業の "AIエ
 ージェント分野のスペシャリスト" が集結■ Google 、
 セールスフォース・ジャパン、マイクロソフト、NVIDIA
 、経済産業省、JR西日本、DeNA、清水建設、日立製作所
 、LION、日本航空など業界を牽引するトップ企業が一堂
 に会する、AIエージェント界最大のイベントです。\n※
 アーカイブ動画無料視聴付き【先着1\,500名売切】→3\,0
 00名追加売切→ 最後1\,000名。お早めにどうぞ！(公式サ
 イトからお申込みをお願いします。)\n【開催概要】公
 式サイトからお申し込みください\n開催日時：2025年7月
 9日(水)～11日(金) 10:00～17:15開催形式：完全オンライン
 開催(海外からでも視聴可能で、途中の入退室自由)対
 象：AIエージェント導入を検討している企業、行政関
 係、技術・研究者、メディア関係者、業界業種に関係
 なくAI活用に前向きな方々、学生など参加費：無料（
 事前登録制）\n【AIエージェント界の"ドリーム登壇者"
 第一陣】詳細リンク\n\n【登壇スケジュール詳細】：詳
 細コンテンツなどは**公式サイト**をご覧ください。\n
 ■オフライン交流会への参加申し込み7/9〜10の都内某
 所にて数百名限定の交流会を予定しております。7月9
 日(水)19時~21時 開催予定：AIエージェント担当者交流会
 7月10日(木) 19時~21時 開催予定：AI Agent Night（AI Agent Day
 参加者向け交流会）\n※Tech Playから申込をいただいて
 も正式のご参加はいただけません。公式サイト(Peatix)
 からお申し込みをお願いします。
LOCATION:
URL:https://techplay.jp/event/982289?utm_medium=referral&utm_source=ics&utm
 _campaign=ics
END:VEVENT
END:VCALENDAR
