BEGIN:VCALENDAR
VERSION:2.0
PRODID:-//https://techplay.jp//JP
CALSCALE:GREGORIAN
METHOD:PUBLISH
X-WR-CALDESC:仕組みを理解して迷わず作れる基礎からわか
 るカラーマネジメント
X-WR-CALNAME:仕組みを理解して迷わず作れる基礎からわか
 るカラーマネジメント
X-WR-TIMEZONE:Asia/Tokyo
BEGIN:VTIMEZONE
TZID:Asia/Tokyo
BEGIN:STANDARD
DTSTART:19700101T000000
TZOFFSETFROM:+0900
TZOFFSETTO:+0900
TZNAME:JST
END:STANDARD
END:VTIMEZONE
BEGIN:VEVENT
UID:982292@techplay.jp
SUMMARY:仕組みを理解して迷わず作れる基礎からわかるカ
 ラーマネジメント
DTSTART;TZID=Asia/Tokyo:20250808T210000
DTEND;TZID=Asia/Tokyo:20250808T230000
DTSTAMP:20260423T053224Z
CREATED:20250611T140152Z
DESCRIPTION:イベント詳細はこちら\nhttps://techplay.jp/event/98229
 2?utm_medium=referral&utm_source=ics&utm_campaign=ics\n\n本イベント
 は終了しています。「アーカイブ動画を見たい方」「
 スライドをダウンロードしたい方」はSTORESからお求め
 ください。個人向け（3\,300円）法人向け（11\,000円）3
 ヶ月：4\,400円／1年：17\,600円で117本のアーカイブが見
 放題になるサブスクも用意しています。\n\nカラーマネ
 ジメントの基本について、村上 良日さんに解説いただ
 きます。\n\n「当日の視聴は無料」スタイルで開催しま
 すが、アーカイブチケット購入やサブスク登録でサポ
 ートくださいますと助かります！\n\n仕組みを理解して
 迷わず作れる基礎からわかるカラーマネジメント\n\n画
 面と印刷で色が違って見えるのはなぜ？\nアプリを変
 えると色味が変わってしまうのはなぜ？\n\nその「なぜ
 ？」を解消し、自信をもって色を扱うために欠かせな
 いのが「カラーマネジメント」です。\n\n名前は聞いた
 ことがあるけれど、「結局なにをどうすればいいのか
 よく分からない…」という方も多いのではないでしょ
 うか。このセミナーでは、そんな「カラーマネジメン
 ト」の仕組みをやさしく、ていねいに解説します。\n\n
 Photoshop、Illustrator、InDesignはもちろん、CLIP STUDIO、Procrea
 te、Canvaなど、さまざまな制作ツールに対応。\n「知ら
 ないまま悩み続ける」状態から、「仕組みを理解して
 迷わず作れる」状態へ。\n初心者から中級者まで、す
 べての“作り手”に役立つ内容です。\n\n村上 良日（
 むらかみ よしてる）鰯屋Twitter（現X）にどっぷり長く
 漬かっているフリーランスレタッチャー。猫＆カエル
 と印刷、写真、ルーペ好き。仕えていた猫様の名前を
 元にした「鰯屋」の屋号で活動中。雑誌まるごと写真
 もレイアウトデータも「刷って綺麗！」に仕上げるの
 が得意。本業以外にもPhotoshop、オフセット印刷技術の
 講師や執筆も行う。１級印刷技能士/DTPエキスパート問
 題作成委員/製版印刷職業訓練指導員/Adobe Prerelease Adviso
 r著書に+DESIGNING（マイナビ）の特集・連載/人物写真補
 正の教科書（MdN）/DTP&印刷スーパーしくみ事典（ボー
 ンデジタル）/神速Photoshop（角川アスキー）など。blog
 ：やもめも　作り溜めたPhotoshop/Bridge/Finder操作のスク
 リプト類はQiitaへ。Twitter：@yamo74　ツイ廃のためタイム
 ラインを汚染します。フォロー非推奨。大量のPhotoshop
 ・印刷・Illustrator・InDesign等の解説と図解を、本当に山
 のようにXハイライトにスレッドでまとめていますので
 、そちらは読み物としてお勧めします。\n\n聞き手、MC
 （進行）\n\n鷹野 雅弘（CeeBeeDee/CSS Nite/DTP Transit）が“
 聞き手”を担当し、リアルタイムでチャットでの質問
 などを拾っていきます。\n\n鷹野 雅弘（たかの・まさ
 ひろ）株式会社スイッチグラフィックデザイン、エデ
 ィトリアルデザイン、ウェブ制作の分野で、デザイン
 、オペレーション、設計・ディレクションなど、25年
 以上、第一線で手を動かし続けている。そのノウハウ
 をテクニカルライティングや講演に落とし込み、「制
 作→執筆→講演」のサイクルを回す。2015年から大阪芸
 術大学 客員教授。2017年からAdobe Community Evangelist。CSS Ni
 teやDTP Transitのオンラインセミナーのオーガナイザーと
 して企画・制作・配信なども担当。10年ぶりの全面改
 定となる『10倍ラクするIllustrator仕事術』（改訂第3版
 ）を2024年10月に出版。Twitter：@swwwitch\n\nイベント概要\n
 \nYouTube Liveでライブ配信します。\n\n\n開催日：2025年8月
 8日（金） 21:00 - 23:00\n形式：オンライン（YouTube Live）\n
 MC：鷹野 雅弘（スイッチ）\n主催：CeeBeeDee\n共催：CSS Ni
 te、DTP Transit\n協賛（制作会社）：ウェブライダー、LINI
 CA、エンタミナ、コンセント、サービシンク、ビット
 エー、ヘルツ、アップルップル、CODE54、HAMWORKS、S-FACTOR
 Y、necco、FLAT、ONiWA ほか\n協賛：文賢（ブンケン）、デ
 ジ革（一般社団法人デジタル経営革新協会） 、JILLA（
 日本イラストレーション協会）\n\n\nお申し込みと参加
 費\n\n\n当日の視聴は無料です。\n参加にはお申し込み
 が必要です。受け付けは終演時刻まで。\n\n\nフォロー
 アップ（アーカイブ）\n\nスライドなどのフォローアッ
 プ（アーカイブ）は、アーカイブ購入／サブスクの方
 限定のコンテンツです。\n\n\nアーカイブ動画の視聴期
 限はありません。ずっと見られます。\n\n\nフォローア
 ップ（アーカイブ）の購入\n\n次の3つの方法がありま
 す。いずれかを選択なさってください。\n\n\nアーカイ
 ブ動画の視聴期限はありません。ずっと見られます。\
 n\n\n購入方法個人法人受け取り備考金額終演までその
 後Doorkeeper （単品）2\,200円-11\,000円終演時刻にメールを
 送信（info@doorkeeper.jpから送信されます）「当日の視聴
 のみ」のチケットを申し込まれた方は、いったん、キ
 ャンセルして「アーカイブ視聴付き」のチケットを申
 し込んでください。STORES（単品）3\,300円11\,000円購入す
 るとダウンロードできるテキストファイルに、アーカ
 イブ動画や特典を掲載予定のページへのリンクがあり
 ます（アーカイブ動画や特典の掲載はイベント終了後
 ）ユーザー登録してから申し込むと、［マイページ］
 の［購入履歴］から、後からダウンロードできます。
 サブスク4\,400円（3ヶ月）詳細［メンバー限定］セクシ
 ョンの［フォローアップ（アーカイブ）］から本イベ
 ントのNotionにアクセスしてください。法人は別途17\,600
 円（1年）\n\n配信に関してのあれこれ\n\n各URLは、YouTube
 の概要欄にも掲載しています。\n\n\nチャットやスタン
 プ、ツイートなど「参加型」でお楽しみください！\n
 「音声のバランスが悪い」など、何かお困りの場合、
 コメントなどで教えてください！\n\n\n配信URL\n\nYouTube L
 iveで配信します。\n\nhttps://youtube.com/live/i3hgoREr9T8?feature=
 share\n\nX（Twitter）にて同時配信も行っていますが、YouTu
 be Liveにてコメントも含めてお楽しみください。\n\nYouTu
 be関連\n\n\nYouTubeチャットを活用ください！　スパム回
 避のため、YouTubeチャンネル登録者のみがコメント可能
 にしていますので、事前にチャンネル登録をお願いし
 ます。\nスーパーチャット（スパチャ＝投げ銭）を利
 用できます。少額でも大歓迎です！　いただいた全額
 を講演者にお渡しします。\n質問がある場合、YouTubeチ
 ャットで冒頭に★または【質問】を付けてコメントく
 ださい。すべては拾いきれません。「〜は〜という意
 味です」「自分の現場ではこうやっている」など、視
 聴される方からのサポート的なコメントを歓迎します
 ！　一緒に場を作ってくださいますと嬉しいです!! \n\n
 \nリアクションや質問\n\n\nスクショ付きのツイート歓
 迎です。ぜひ、ハッシュタグ（#カラーマネジメント）
 を付けてください。ただし、事例の部分などでNGマー
 クがついている箇所、講演者からNGの指示のある箇所
 はご遠慮ください。\n終了後、ぜひアンケートにお答
 えください！　「フィードバックはギフト」。話して
 くださった方の成長の材料になり、また、イベントの
 改善につながります。\n\n\nその他\n\n\n「UDトーク」に
 て文字情報を提供しますので、別のブラウザーなどで
 ご覧ください。タイムラグや精度についてはご容赦く
 ださい。\nサンプルファイルや配布資料、アーカイブ
 動画のURLをSNSなどで再配布するのは禁止です。\n開演
 の30分前くらい前からテスト配信をスタートします。
 音声などが聞こえるかチェックなさってください。\n
 スマホやタブレットで視聴される方もいると思います
 が、PCでの視聴を前提としています。なるべくPCでご覧
 ください！\nご覧いただく回線状況によっては、YouTube
 の動画が止まってしまったり、音声が途切れてしまう
 ことがあります。その場合には、ブラウザーを再読み
 込みしたり、OSを再起動してみてください。\n\n\n配信
 準備は念入りに行っていますが、本番になると予期せ
 ぬトラブルが生じるのがライブ配信です。それも含め
 て楽しんでください。\n\n領収書\n\nインボイス対応の
 領収書が必要な方は、アーカイブ購入者向けのNotionか
 らPDFをダウンロードしてご利用ください。\n\n\n「アー
 カイブ視聴（会社として申し込み、社内で共有）」の
 チケットを購入いただいている場合のみ、個別対応い
 たします。\n\n\n所轄税務署、インボイス制度電話相談
 センターなどに相談し、次のようにすることにしまし
 た。\n\n\nインボイス対応の領収書発行について\n\n\nオ
 ンライン椅子ヨガ\n\n本イベントはコモモ先生 @komomoaich
 i のオンライン椅子ヨガ付きです！\n\n\n開演前\n休憩時
 間（適宜）\n\n\n一緒に「ちょっとメンテ」しましょう
 。\nhttps://chotto-maint.com/online-yoga\n\n\n\n方向性\n\n\nいわゆ
 る「オンラインセミナー」や「ウェビナー」というよ
 り「オンラインイベント」的なニュアンスです。\nあ
 えて「教えることを生業にしていない方」を（多めに
 ）ブッキングしています。“聞き手”を立てることに
 よってフォローしながら進めますが、それでも説明が
 足りなかったり、うまく時間配分をコントロールでき
 ないことがあります。\n「オンラインで画面に向かっ
 て一人で喋る」のは場数を多く踏まない限り、苦行で
 す。そこで聞き手を立て、うなづきや相づちを入れて
 います。「うなづきがうるさい、不要」と思う方もい
 ると思いますが、ご容赦ください！（録画の講座では
 なく、オンラインイベントなのです）\n「当日の視聴
 は無料」ということは謝礼もしかるべき金額ですし、
 日々の仕事の中から準備の時間を捻出されています。
 少し寛大なムードで受け取ってくださいますと幸いで
 す。\n分単位で細かく練られたカリキュラムではなく
 、少し緩めに進行します。コメントを拾って脱線する
 こともあります。言い換えると学習だけをされたい方
 には向いていません。\n若干の延長など、ぴったり進
 行しないことがあります。\n\n\n協力企業のご紹介\n\n本
 イベントには、下記の企業の協賛、協力をいただいて
 います。\n\n\n文賢（ブンケン）～文章をより良くする
 ための推敲・校閲・校正支援ツール\nデジ革（一般社
 団法人デジタル経営革新協会） ネットとAIで経営に貢
 献できる人材になる\nJILLA（日本イラストレーション協
 会）　文芸美術国保への加入や交流会などメリットい
 っぱい\n\n\n\n\nまた、多くの制作会社に協賛いただいて
 います。\n\n\nウェブライダー\nLINICA\nエンタミナ\nコン
 セント\nサービシンク\nビットエー\nトゥーアール（to-R
 ）\nヘルツ\nアップルップル\nCODE54\nHAMWORKS\nS-FACTORY\nnecco
 \nFLAT\nましじめ\nグローバルデザイン\nエイチツーオー
 ・スペース\nGear8\nマジカルリミックス\nONiWA\nさきがけ
 デジタル\nr360studio\n\n\n\n\n通年で協賛を募集しています
 。検討くださいますと幸いです。\n\nお問い合わせ\n\n
 問い合わせはDoorkeeperのフォームからお送りください。
LOCATION:オンライン
URL:https://techplay.jp/event/982292?utm_medium=referral&utm_source=ics&utm
 _campaign=ics
END:VEVENT
END:VCALENDAR
