BEGIN:VCALENDAR
VERSION:2.0
PRODID:-//https://techplay.jp//JP
CALSCALE:GREGORIAN
METHOD:PUBLISH
X-WR-CALDESC:バックオフィス「新時代」到来 “脱入力作業
 ”で実現する業務自動化の未来
X-WR-CALNAME:バックオフィス「新時代」到来 “脱入力作業
 ”で実現する業務自動化の未来
X-WR-TIMEZONE:Asia/Tokyo
BEGIN:VTIMEZONE
TZID:Asia/Tokyo
BEGIN:STANDARD
DTSTART:19700101T000000
TZOFFSETFROM:+0900
TZOFFSETTO:+0900
TZNAME:JST
END:STANDARD
END:VTIMEZONE
BEGIN:VEVENT
UID:982379@techplay.jp
SUMMARY:バックオフィス「新時代」到来 “脱入力作業”で
 実現する業務自動化の未来
DTSTART;TZID=Asia/Tokyo:20250627T150000
DTEND;TZID=Asia/Tokyo:20250627T160000
DTSTAMP:20260420T110402Z
CREATED:20250613T070403Z
DESCRIPTION:イベント詳細はこちら\nhttps://techplay.jp/event/98237
 9?utm_medium=referral&utm_source=ics&utm_campaign=ics\n\nバックオフ
 ィス「新時代」到来 "脱入力作業"で実現する業務自動
 化の未来\n概要\n本セミナーでは、バックオフィス業務
 の非効率性を解消し、戦略的な業務へのシフトを実現
 するための具体的なソリューションをご紹介します。\
 n前半は、AI-OCR市場を牽引するCogent Labs社より、AI-OCR「S
 martRead」の最新活用事例と市場動向について解説しま
 す。データ入力の自動化がいかに業務効率を向上させ
 るか、最新トレンドを交えてご紹介します。後半は、B
 izteXより、経理・人事・総務といったバックオフィス
 業務における自動化の具体的な事例と、業務時間短縮
 ・ヒューマンエラー削減を実現する方法を詳述します
 。RPA、iPaaS、そしてAI-OCRを組み合わせた、業務フロー
 全体の自動化アプローチとその導入ポイントを、実際
 の導入企業における成果事例を交えてご紹介します。
 本セミナーを通じて、日々の煩雑なルーティンワーク
 から解放され、より付加価値の高い業務に集中できる
 バックオフィスの未来像を具体的にイメージしていた
 だけるはずです。\n\n登壇者\n村上　浩二郎\n株式会社Co
 gent Labs営業本部営業部セールス・ディレクター\n株式
 会社Cogent Labsのセールスディレクターとして、AI OCR Smar
 tReadを通じて幅広い業界や業務を支援。業務の効率化
 やデータの活用をお考えであれば、お気軽にご相談お
 待ちしております。\n\n ▶次世代OCR｜SmartRead\n島戸 大
 輔\nBizteX株式会社インテリジェント事業部マーケティ
 ング部門プロダクトリードグループ\n化学・通信・IT業
 界にて法人営業を9年間経験。\n前職ではIT企業のパー
 トナーセールスとしてAI翻訳サービスの拡販に従事。20
 24年よりRPA、iPaaSを開発・提供するBizteXのビジネスディ
 ベロップメント本部に入社\n\n▶SaaS連携サービスiPaaS　
 BizteX Connect\nこんな方におすすめ\n\n手作業によるデー
 タ入力や書類処理の多さに課題を感じている方\nヒュ
 ーマンエラーや再作業による業務ロスを減らしたい方\
 n業務自動化ツール（AI-OCR・RPA・iPaaS）に関心がある方\
 nツール間連携による業務フロー全体の最適化を目指し
 ている方\n情報システム部門として、現場の業務改善
 を支援したい方\n\n参加費\n無料\n注意事項\n\nリクルー
 ティング、勧誘など、採用目的でのイベント参加はお
 断りしております。\nキャンセル待ち・補欠・落選の
 方はご参加いただくことが出来ませんのでご了承くだ
 さい。\n欠席される場合は、お手数ですが速やかにキ
 ャンセル処理をお願い致します。\n無断キャンセルや
 欠席が続く場合、次回以降の参加をお断りさせていた
 だく場合がございます。\nお申込みいただいた方は、
 各社プライバシーポリシーに同意いただいたものとし
 ます。株式会社Cogent LabsBizteX株式会社\n\n
LOCATION:
URL:https://techplay.jp/event/982379?utm_medium=referral&utm_source=ics&utm
 _campaign=ics
END:VEVENT
END:VCALENDAR
