BEGIN:VCALENDAR
VERSION:2.0
PRODID:-//https://techplay.jp//JP
CALSCALE:GREGORIAN
METHOD:PUBLISH
X-WR-CALDESC:8/5（火）開催【SearchConsoleセミナー】SEO効果を
 最大化する「サーチコンソール」8つの重点ポイント［
 無料・大阪開催セミナー］
X-WR-CALNAME:8/5（火）開催【SearchConsoleセミナー】SEO効果を
 最大化する「サーチコンソール」8つの重点ポイント［
 無料・大阪開催セミナー］
X-WR-TIMEZONE:Asia/Tokyo
BEGIN:VTIMEZONE
TZID:Asia/Tokyo
BEGIN:STANDARD
DTSTART:19700101T000000
TZOFFSETFROM:+0900
TZOFFSETTO:+0900
TZNAME:JST
END:STANDARD
END:VTIMEZONE
BEGIN:VEVENT
UID:982398@techplay.jp
SUMMARY:8/5（火）開催【SearchConsoleセミナー】SEO効果を最大
 化する「サーチコンソール」8つの重点ポイント［無料
 ・大阪開催セミナー］
DTSTART;TZID=Asia/Tokyo:20250805T170000
DTEND;TZID=Asia/Tokyo:20250805T180000
DTSTAMP:20260424T165302Z
CREATED:20250614T054250Z
DESCRIPTION:イベント詳細はこちら\nhttps://techplay.jp/event/98239
 8?utm_medium=referral&utm_source=ics&utm_campaign=ics\n\n【SearchConsole
 セミナー】SEO効果を最大化する「サーチコンソール」8
 つの重点ポイント［無料・大阪開催セミナー］\n\nGoogle
  SearchConsoleはややこしそうで見方が分からない・・・\n
 書いてる意味が分からなくて、何をすれば良いのか分
 からない・・・\n\nWebマーケティングのバリューエージ
 ェントでは、 ややこしいGoogle SearchConsoleで、最低限み
 ておく項目を解説するセミナー を開催することになり
 ました。\n今回の「SEO効果を最大化する「サーチコン
 ソール」8つの重点ポイント」の対象者はこんな方です
 。\n✔︎ SearchConsoleでSEO対策にどう役立つか知りたい✔
 ︎ SearchConsoleに書いてる内容が知りたい✔︎SEO対策の
 ためにしておくことが知りたい✔︎エラーや警告への
 対応法が知りたい\n中小企業のウェブ担当者、広告代
 理店やホームページ制作会社に勤務している方、中小
 企業の社長、士業やフリーランスの方でSearchConsoleがイ
 マイチわからない方なら、どんな方でも来ていただい
 て結構です。\nセミナーの内容\n重要なサーチコンソー
 ルの8項目を、［成果の確認］［インデックス対策］［
 クロール対策］［ランキング対策］［検索結果対策］
 に分類して紹介してます。\n\n［SEO成果の確認］全体推
 移\n［SEO成果の確認］主要ワード推移\n［インデックス
 対策］インデックス登録数\n［インデックス対策］イ
 ンデックス未登録の理由\n［クロール対策］サイトマ
 ップの登録状況\n［ランキング対策］ページ速度\n［検
 索結果ページ対策］パンくずリストの有効数\n［イン
 デックス対策］セキュリティと手動による対策\n\nセミ
 ナーに来るとこんなことが手にはいります\n\nSearchConsol
 eが何か分かります\nSearchConsoleでみるべきポイントがわ
 かります\nSearchConsoleのメッセージの意味がわかります\
 nSEO対策のためにすべきことが分かります\n\nまた、質
 疑・応答を通してWebに関するあなたの課題に関するヒ
 ントが見つかるかもしれません。講師や参加者と共に
 学ぶことによって成長したあなたに出会えるでしょう
 。\n対象\n\nSearchConsoleを見たことがない方\nSearchConsoleの
 内容を知りたい方\nSearchConsoleの効率的な使い方を知り
 たい方\n\n登壇者\n松村 成裕 (株式会社バリューエージ
 ェント)\n\n\n株式会社バリューエージェント\n松村 成裕
 \n（ウェブコンサルタント/マーケティングエンジニア
 ）\n\n2002年からECサイト運営会社でウェブ担当者として
 キャリアをスタートし多数のECサイトの売上アップを
 実現、以来数百サイトの運営に関わってきました。\n
 ウェブサイト設計・企画から、SEO対策・コンバージョ
 ン改善、運営管理、システム開発・WordPressのカスタマ
 イズなど、ウェブサイト運営全般をサポートするコン
 サルタント・エンジニアです。\n\nセミナー概要・お申
 込み\nセミナー名【無料・大阪開催セミナー】SearchConso
 leでココだけは見ておくべき8項目（大阪開催）\n日時20
 25年8月5日(火)　17:00～18:00（16:50受付開始）\n場所〒532-0
 011大阪府大阪市淀川区西中島３丁目9-12空研ビル5F? バ
 リューエージェント セミナールーム※出席の確認もご
 ざいますので、10分前にはご入室頂きますようお願い
 いたします。\n参加料無料\n定員30名
LOCATION:バリューエージェント セミナールーム 〒532-0011 
 大阪府 大阪市淀川区 西中島３丁目9-12 空研ビル5F
URL:https://techplay.jp/event/982398?utm_medium=referral&utm_source=ics&utm
 _campaign=ics
END:VEVENT
END:VCALENDAR
