BEGIN:VCALENDAR
VERSION:2.0
PRODID:-//https://techplay.jp//JP
CALSCALE:GREGORIAN
METHOD:PUBLISH
X-WR-CALDESC:クリエイター・エンジニア限定 AI勉強会「ク
 リエイターのための生成AI講座」【クリのみ勉強会#24
 】
X-WR-CALNAME:クリエイター・エンジニア限定 AI勉強会「ク
 リエイターのための生成AI講座」【クリのみ勉強会#24
 】
X-WR-TIMEZONE:Asia/Tokyo
BEGIN:VTIMEZONE
TZID:Asia/Tokyo
BEGIN:STANDARD
DTSTART:19700101T000000
TZOFFSETFROM:+0900
TZOFFSETTO:+0900
TZNAME:JST
END:STANDARD
END:VTIMEZONE
BEGIN:VEVENT
UID:982420@techplay.jp
SUMMARY:クリエイター・エンジニア限定 AI勉強会「クリエ
 イターのための生成AI講座」【クリのみ勉強会#24】
DTSTART;TZID=Asia/Tokyo:20250625T190000
DTEND;TZID=Asia/Tokyo:20250625T210000
DTSTAMP:20260422T184849Z
CREATED:20250615T082204Z
DESCRIPTION:イベント詳細はこちら\nhttps://techplay.jp/event/98242
 0?utm_medium=referral&utm_source=ics&utm_campaign=ics\n\nAI 勉強会 エ
 ンジニア・クリエイター限定【第24回 クリのみ勉強会
 】\nものづくりをするエンジニア・クリエイターの方
 に特化したエンジニア・クリエイター限定勉強会です
 。今回のテーマは、エンジニア・クリエイターのため
 の「AI」についてです（AI初級〜中級）\n概要\n６月の
 勉強会は " AI " 第二弾です！\nみなさんの制作現場、個
 人ではAIの導入はどのような感じでしょうか。ものす
 ごいスピードで進化しており、いつの間にか周りでも
 使っている人が増えた印象です。たぶん、この先、急
 に社会からAIが居なくなることはないでしょうね。で
 あれば、道具として使いこなす側になり、鉛筆やMacや
 アプリ・ソフトのように道具としてAIの使い方をみん
 なで学びましょう。\n今回は主に画像生成をメインと
 して講演、ワークを行う予定です。画像も扱いたいエ
 ンジニア、画像を扱うクリエイター向けの内容となっ
 ております。\n◆講演者：今回は、デザイン会社・株
 式会社momocriの代表取締役であり、AI×デザインの実践
 スクール「AIデザイン大学」主宰の もも（長谷川麻子
 ）さんを講師にお迎えしてクリエイター向けに生成AI
 、画像生成AIについて講演、ワークショップを行って
 いただきます。https://momocri.jp\n◆勉強会テーマ：クリ
 エイターのための生成AI講座 〜 画像生成・プロンプ
 トのコツを学び、制作力と仕事の幅を広げよう！\n◆
 こんな人にオススメ：クリエイター・エンジニアとし
 て・AIが今ひとつよくわからない・AIがどうクリエイテ
 ィブに使えるか知りたい・生成AIごとの役割、違いが
 よくわからない・AIを現場に導入してみたい\nそんなあ
 なたへおすすめです\n◆こんな人は情報共有してくだ
 さい：・現場で導入している・開発に関与している・
 めっちゃ詳しいそんなあなたは勉強会で情報提供をお
 願いします！\n◆期待できること・AIの基礎知識、画像
 生成AIを知ることができる・今日現在の実用レベルのAI
 の情報共有ができる・実際の現場の導入の参考になる
 ・AIに興味のあるクリエイター・エンジニア同士で情
 報交換できる・学習意欲が高い、成長力があるクリエ
 イター、エンジニアと知り合えます。\n詳細\n■日時：
 2025年**6月25日（水）19:00〜**21:00（開場18:45〜）\n■場所
 ：渋谷区文化総合センター大和田　学習室１　　　東
 京都渋谷区桜丘町23-21　　　http://www.shibu-cul.jp/access\n■
 参加対象者：エンジニア、クリエイター限定です\n■AI
 に詳しい方募集中！　メイン講演後にLTまたは座談会
 的にお話をしましょう！\n■参加費：社会人 2800円 ／ 
 学生 1300円　※参加費から会場費の支払いとスタッフ
 人件費、イベントサイト使用料を引いた全額を、困窮
 するひとり親家庭の食事支援を行っている認定NPO法人
 グッドネーバーズ・ジャパンに寄付をします　※キャ
 ンセルは前日19:00までにお願いします。それ以降は返
 金対応はできません\n■定員：35名\n◆イベントのポイ
 ント：・初めての方でも気軽に参加できます（平均52%
 が初参加）・平均92%が一人参加・エンジニア・クリエ
 イター限定なので、同じ温度感で学べる・将来に向け
 ての勉強にもなり、懇親会で交流できる（懇親会は希
 望者のみ別途）\n\nタイムスケジュール\n\n\n\n時間\n内
 容\n\n\n\n\n18:45\n開場\n\n\n19:00\n勉強会開始\n\n\n21:00\n終了
 ・撤収\n\n\n\n※ 当日予告なく時間配分・内容が変更に
 なる可能性がございます。\n講演者\nもも（長谷川麻子
 ）株式会社momocri 代表取締役\nデザイン会社momocriを創
 業し、これまでに100社以上のデザイン支援を実施。現
 在は、生成AI・ノーコード・自動化を武器に、個人か
 ら企業までの「AI×デザイン活用」を広げる活動を展開
 中。AI×デザインの実践スクール「AIデザイン大学」、C
 anva、Midjourney、Notion、GAS、ChatGPTなどを用いた学び合い
 型コミュニティ「AIスキル横丁」を主宰。\n受講生3万
 人超のオンラインスクール「デイトラ」にて人気デザ
 イン講師として5年在籍。また、GMO・一般社団法人ウェ
 ブ解析士協会WACA・国内最大級AIコミュニティ「シフトA
 I」など、企業主催セミナーへの登壇多数。\n登壇・企
 画実績 - chat GPTバナー制作セミナー - Canva×Midjourneyで
 魅せるデザイン講座 - Recraft×Figma講座 - Genspark×Figma魅
 せるスライド作成講座 - デザイナーの生成AI活用セミ
 ナー\n\n参加対象\n\nデザイナー（WEB\,DTP\,ゲーム\,3D\,CG\,
 モーション\,プロダクト\,カーなど）\nエンジニア（プ
 ログラマー\,SE\,サーバー\,WEB\,DB\,IT\,ネットワーク\,セ
 キュリティ\,インフラ\,設計など）\nゲームクリエイタ
 ー（プロデューサー\,ディレクター\,プランナー\,プロ
 グラマー\,シナリオ\,グラフィック\,3D\,2D\,UI\,サウンド\
 ,\,）\nフォトグラファー、カメラマン、写真家\n映像系
 （フォトグラファー\,映像制作\,番組制作\,映画制作\,CM
 制作\,動画SNS制作など）\nイラスト制作\nライティング
 系（ライター、シナリオライター、脚本家）\nアニメ
 制作（アニメーター、制作進行、撮影、他）\nディレ
 クター・プロデューサー\nプランナー\n出版・編集系\n
 作家\n漫画家\n建築・設計系\n技術・設計・研究開発\n
 書家\nファインアート\n美大、専門学校等クリエイティ
 ブ系学生、エンジニア系学生などクリエイター、エン
 ジニア、ものづくり職限定です。\n\n注意事項\n※クリ
 エイター・エンジニア職、クリエイティブ系・エンジ
 ニア系学生以外の方は参加はできません。※クリエイ
 ティブ、エンジニア人材紹介、スカウト業の方は参加
 できません。その場でご退場いただきます（クリエイ
 ター・エンジニア自身による"自社"へのお誘いはご自
 由に）※以下職種、または兼任の方、以下行為目的の
 参加は固く固く固くお断りしております【ダメ絶対】
 ：各種保険営業、不動産業営業、ネットワークビジネ
 ス・MLM・マルチ商法・ネット商材などの勧誘、オーナ
 ービジネス勧誘、先物取引・投資勧誘、宗教勧誘、ス
 ーツ・宝石の販売、人材紹介、営業代行、当会が許可
 していない交流会主催者＆運営関係者、ナンパ、スカ
 ウト業。その場でご退場いただきます※当会が参加者
 としてふさわしくないと判断した場合は参加できませ
 ん※会場に飲食発注の都合上、前日〜当日のキャンセ
 ル払い戻しはできませんまた、それ以前のキャンセル
 返金は銀行等振込手数料を差引いた額となります\n主
 催団体【クリのみ】について\n※Peatixコミュニティア
 ワード2025でクリのみが授賞しました！https://note.peatix.c
 om/n/n211d34798516\nクリエイター、エンジニア"のみ" の交
 流会【クリのみ】2012年から1〜2ヶ月毎の開催で13年目
 に突入！！交流会は第53回まででのべ 3\,410人の方とク
 リエイティブな出会いがありました。勉強会も2〜3ヶ
 月毎に24回開催してきました。\n※人気イベントは数日
 で満員となりますので、【フォローボタン】でフォロ
 ーをお願いします。\nイベント主催・運営：スフィー
 ダ株式会社 （デザイナー募集中）
LOCATION:渋谷区文化総合センター大和田 渋谷区桜丘町２
 ３−２１
URL:https://techplay.jp/event/982420?utm_medium=referral&utm_source=ics&utm
 _campaign=ics
END:VEVENT
END:VCALENDAR
