BEGIN:VCALENDAR
VERSION:2.0
PRODID:-//https://techplay.jp//JP
CALSCALE:GREGORIAN
METHOD:PUBLISH
X-WR-CALDESC:【名古屋初開催！】情シス Update Day 2025 in 名古
 屋
X-WR-CALNAME:【名古屋初開催！】情シス Update Day 2025 in 名古
 屋
X-WR-TIMEZONE:Asia/Tokyo
BEGIN:VTIMEZONE
TZID:Asia/Tokyo
BEGIN:STANDARD
DTSTART:19700101T000000
TZOFFSETFROM:+0900
TZOFFSETTO:+0900
TZNAME:JST
END:STANDARD
END:VTIMEZONE
BEGIN:VEVENT
UID:982441@techplay.jp
SUMMARY:【名古屋初開催！】情シス Update Day 2025 in 名古屋
DTSTART;TZID=Asia/Tokyo:20250711T130000
DTEND;TZID=Asia/Tokyo:20250711T170000
DTSTAMP:20260419T150829Z
CREATED:20250616T023635Z
DESCRIPTION:イベント詳細はこちら\nhttps://techplay.jp/event/98244
 1?utm_medium=referral&utm_source=ics&utm_campaign=ics\n\n情シス Update
  Day 2025 in 名古屋\n概要\n生成AIを活用したDX推進のヒン
 トが見つかり、Updateできた！と実感いただけるように\
 n生成AIの最前線を体感しませんか？本イベントでは、
 今話題の生成AIの最新活用事例や、業務効率化に欠か
 せないMicrosoft 365の最新トレンドを分かりやすくご紹介
 します。「生成AIの可能性とは？」「実際に現場でど
 う使いこなす？」といった疑問や課題に、最前線で活
 躍するプロが直接お答えします。その場で相談できる
 コーナーもご用意しております。生成AIに興味がある
 方、最新情報を知りたい方は必見です！ぜひご参加く
 ださい！ご来場を心よりお待ちしております。※事前
 のお申込みが必要となります。\nイベント詳細ページ
 はこちら\n　参考：昨年東京開催時の様子\n昨年のイベ
 ントレポートはこちらから\nタイムスケジュール\n\n\n\n
 時間\n内容\n\n\n\n\n12:00〜\n受付開始\n\n\n12:00〜13:00\n展示
 ・お悩み相談ブース\n\n\n13:00〜13:10\nソフトクリエイト
 ご挨拶～お客様と共に未来を切り開く～\n\n\n13:10〜13:40
 \n【キーノート】「Copilot で変わる働き方」―生成AIが
 もたらす業務革新の最前線森 洋孝氏日本マイクロソフ
 ト株式会社コーポレートソリューション事業本部 SMB統
 括本部 AI推進 担当部長\n\n\n13:40〜13:55\n業務にAIを使う
 って結局どういう事？〜見えてきた課題、AIの得意不
 得意なポイント解説〜畠山 覚株式会社ソフトクリエイ
 ト事業推進本部 製品開発部 部長\n\n\n13:55〜14:10\n次世
 代インフラ基盤の賢い選び方～アセスメントサービス
 から最適な構成を導きコスト削減する方法とは～西村 
 聖一株式会社ソフトクリエイトインテグレーションサ
 ービス部 西日本サービスG\n\n\n14:10〜17:00\n展示・お悩
 み相談ブース\n\n\n\n※ 当日予告なく時間配分・内容が
 変更になる可能性がございます。\n登壇者\n\n\n森 洋孝\
 n日本マイクロソフト株式会社コーポレートソリューシ
 ョン事業本部SMB統括本部AI推進 担当部長\n中堅中小企
 業向けのAI活用を推進。パートナー企業と協力しなが
 ら、Microsoft 365 Copilotを活用したデジタルトランスフォ
 ーメーションとイノベーションの促進に従事。AI技術
 を活かして、企業の成長をサポートします。\n\n\n\n畠
 山 覚\n株式会社ソフトクリエイト事業推進本部 製品開
 発部 部長\nデバイス開発、車載機器開発、流通システ
 ム、AI画像処理など、大規模システムを中心に幅広い
 開発業務に携わる。\n2022年にソフトクリエイト社に加
 わり、製品開発部を立ち上げ、開発業務全般を指揮。\
 n“AIを企業インフラへ”をスローガンに掲げ、SafeAIGate
 wayの開発責任者として活動中。\n\n\n\n西村 聖一\n株式
 会社ソフトクリエイトインテグレーションサービス部 
 西日本サービスG\n1973年2月17日生まれ。大阪府出身。学
 校卒業後、IBM、富士通、三菱電機のオフィスコンピュ
 ータのカスタマーエンジニア及びSun MicrosystemsのSolaris 
 インターネット系サーバのシステムエンジニアとして
 従事する。\nその後、複数の大手SIerに転職しクラウド
 エンジニア、プリセールスエンジニアとして活動する
 。AWS 認定ソリューションアーキテクト - プロフェッシ
 ョナル、Microsoft Azure Solutions Architect Expert、Oracle Cloud Inf
 rastructure Architect Professionalなどの各クラウドベンダーの
 上位を取得。現在は、ソフトクリエトにて東京、大阪2
 拠点でクラウドエンジニアとして活動している。\n\n参
 加対象\n\n経営層\n情報システム部門\nエンジニア　等\n
 \n参加費\n無料\n注意事項\n\nリクルーティング、勧誘な
 ど、採用目的でのイベント参加はお断りしております
 。\n同業他社ならびに個人でのお申込みは受け付けて
 おりません。\nその他、当社の判断によりご参加をお
 断りする場合がございますので予めご了承ください。\
 n\nイベント詳細ページはこちら
LOCATION:AP名古屋 〒450-0002 愛知県名古屋市中村区名駅4-10-2
 5 名駅IMAIビル 8F（ルームB\,C）
URL:https://techplay.jp/event/982441?utm_medium=referral&utm_source=ics&utm
 _campaign=ics
END:VEVENT
END:VCALENDAR
