BEGIN:VCALENDAR
VERSION:2.0
PRODID:-//https://techplay.jp//JP
CALSCALE:GREGORIAN
METHOD:PUBLISH
X-WR-CALDESC:メール セキュリティ対策 最前線 誤送信から
 エンドポイント対策まで情報漏えいから組織を守る実
 践的対策
X-WR-CALNAME:メール セキュリティ対策 最前線 誤送信から
 エンドポイント対策まで情報漏えいから組織を守る実
 践的対策
X-WR-TIMEZONE:Asia/Tokyo
BEGIN:VTIMEZONE
TZID:Asia/Tokyo
BEGIN:STANDARD
DTSTART:19700101T000000
TZOFFSETFROM:+0900
TZOFFSETTO:+0900
TZNAME:JST
END:STANDARD
END:VTIMEZONE
BEGIN:VEVENT
UID:982460@techplay.jp
SUMMARY:メール セキュリティ対策 最前線 誤送信からエン
 ドポイント対策まで情報漏えいから組織を守る実践的
 対策
DTSTART;TZID=Asia/Tokyo:20250707T140000
DTEND;TZID=Asia/Tokyo:20250707T161000
DTSTAMP:20260423T150110Z
CREATED:20250616T050332Z
DESCRIPTION:イベント詳細はこちら\nhttps://techplay.jp/event/98246
 0?utm_medium=referral&utm_source=ics&utm_campaign=ics\n\nセミナー概
 要\n本ウェビナーでは、**今あらためて注目すべき「メ
 ールセキュリティ」**にフォーカスし、\n\n\nどこから
 情報が漏洩し誰がフィッシングメール/標的型攻撃メー
 ルを配信しているのか？\n\n\nエンドポイント対策が必
 要な理由\n\n\nなぜ誤送信対策が必要なのか\n\n\nなどを
 各分野の専門家が事例を交えて具体的な対策を解説し
 ます。情報漏えいが経営課題となる今、現場任せにし
 ない全社的な対策にご活用いただけます。※本セミナ
 ーは2025年6月に開催されたセミナーの見逃し配信です
 。\nセミナー主催企業\nLRM株式会社\nセミナー募集企業\
 n合同会社ロケットボーイズ(セキュリティ対策Lab)\n登
 壇者のご紹介\n\n渡邉 拓己クロス・ヘッド株式会社 情
 報基盤事業部 情報基盤第1営業部\n登壇テーマ個人情報
 流出の原因はウイルス感染とメール誤送信!?\n事例から
 学ぶ会社を守る 外部・内部の情報セキュリティ対策を
 分かりやすく解説します。\n\n渡邊 壮太郎グローバル
 セキュリティエキスパート株式会社 ソリューション統
 括部\n登壇テーマ\nセキュアな環境を目指す！GSXマネー
 ジドサービスで実現する強固なセキュリティ対策とは
 不審なメールを始めとするサイバー脅威は、いつでも
 従業員の近くに潜んでいます。万が一のリスクに備え
 るため、GSXマネージドサービスはエンドポイントとア
 イデンティティの両面でお客様の環境を保護します。\
 n\n藤居 朋之LRM株式会社 取締役COO\n登壇テーマ\n「セキ
 ュリティ教育は“受けたか”より“身についているか
 ”」形骸化しない教育の設計と評価方法セキュリティ
 教育の効果は受講実績ではなく、行動変容と習慣化で
 評価すべきです。本講演では、教育が形骸化しないた
 めの設計手法や具体的な評価指標、実践的な効果測定
 の方法について詳しく解説します。\n松本 大輝LRM株式
 会社 情報セキュリティコンサルタント\n登壇テーマ\n
 事例から読み解く、誤送信やフィッシング/標的型攻撃
 メール実態の解説と対策事例を通じ、メール誤送信や
 フィッシング・標的型攻撃の実態を読み解き、実践的
 な対策を解説します。\n開催概要\n開催概要\n\n\n\n日時\
 n2025年7月7日(月) 14:00～16:10\n\n\n\n\n費用\n無料 ※途中参
 加、途中退出可能です。\n\n\n締め切り\n当日開始時間
 まで\n\n\n参加について\nこのセミナーはZoomを利用した
 オンラインセミナーです。※Zoomアカウントをお持ちで
 ない方もご参加いただけます。参加方法お申込みフォ
 ームからお申し込みください。参加申し込み頂いた皆
 様へ参加申し込みいただいた皆様にZoomへのアクセスURL
 をご送付致します。※お申し込み頂いた方へZoomをご利
 用いただく上でのご案内をお送り致します。 初めてご
 利用される方は必ずご確認下さい。\n\n\n\n個人情報の
 取り扱いについて個人情報の取り扱いについて\n\n本セ
 ミナーへのお申込みに際してご提供いただいた個人情
 報は、セミナー主催者であるLRM株式会社や登壇講師の
 企業にも提供され、同社のプライバシーポリシーに基
 づき適切に管理されます。\nロケットボーイズ運営：
 セキュリティ対策Labによる関連情報・今後のセキュリ
 ティセミナーや製品のご案内（メールマガジン配信含
 む）の実施\n
LOCATION:
URL:https://techplay.jp/event/982460?utm_medium=referral&utm_source=ics&utm
 _campaign=ics
END:VEVENT
END:VCALENDAR
