BEGIN:VCALENDAR
VERSION:2.0
PRODID:-//https://techplay.jp//JP
CALSCALE:GREGORIAN
METHOD:PUBLISH
X-WR-CALDESC:【Domo buddies勉強会】データ活用を拡げる鍵 〜
 熱意と金と権限の 壁の超え方〜
X-WR-CALNAME:【Domo buddies勉強会】データ活用を拡げる鍵 〜
 熱意と金と権限の 壁の超え方〜
X-WR-TIMEZONE:Asia/Tokyo
BEGIN:VTIMEZONE
TZID:Asia/Tokyo
BEGIN:STANDARD
DTSTART:19700101T000000
TZOFFSETFROM:+0900
TZOFFSETTO:+0900
TZNAME:JST
END:STANDARD
END:VTIMEZONE
BEGIN:VEVENT
UID:982471@techplay.jp
SUMMARY:【Domo buddies勉強会】データ活用を拡げる鍵 〜熱意
 と金と権限の 壁の超え方〜
DTSTART;TZID=Asia/Tokyo:20250805T170000
DTEND;TZID=Asia/Tokyo:20250805T182000
DTSTAMP:20260425T195639Z
CREATED:20250616T060147Z
DESCRIPTION:イベント詳細はこちら\nhttps://techplay.jp/event/98247
 1?utm_medium=referral&utm_source=ics&utm_campaign=ics\n\n今回の勉強
 会は、Domo Hirogaru分科会主催の勉強会です。\n分科会の
 ディスカッションを通し、データ活用を拡大するため
 には、「金」「権限」そして「熱意」の3つが必要とい
 う結論に達したものの、この全てを揃える難しさが壁
 となっている現実が見えて来ました。\nこの勉強会で
 は、Hirogaruために奮闘している事例の共有と、熱意あ
 るbuddiesの皆さまに対するDomoの支援策をご紹介します
 。\nbuddiesの多くの皆さまが抱える課題を、解決するヒ
 ントをこの勉強会で見つけて下さい。\n\n\n▍こんな方
 におすすめ\n\n\nDomoを拡げたい方 \nDomoの定着化を担っ
 ている方\nDomoの利用を社内で推進されている方\n\n\n\n
 ▍アジェンダ\n\n\n　\n    　\n　\n    　\n  \n    17:00-17:10\n
     はじめに\n　\n \n \n    17:10-17:30\n    Hirogaru取り組み事
 例〜「熱意」は「権限」と「金」の壁を越えるか〜\n
 同じ”熱意”を持ってデータ活用の推進を行っても、
 企業文化や組織の違いによりその結果は異なってしま
 います。そんなHirogarの奮闘事例を紹介いただきます。
 \n\n登壇者：Domo Hirogaru分科会 サブリーダー\n　　　　
 藤本 智美\n\n \n \n    17:30-17:55\n    Domo展開に熱意を持っ
 た現場Buddiesメンバーへ〜Domoからの支援策、紹介しま
 す！〜\n“熱意“を持ってデータ活用を何とか社内に
 拡げようと奮闘しているbuddiesの皆さま。\nその長く辛
 い孤独な戦いを少しでもお助けしたく、お客様の状況
 に応じたStep by StepでのDomoからの支援策をご紹介します
 。\n\n登壇者：ドーモ株式会社\n\n \n \n    17:55-18:00\n    
 質疑応答\n\n18:00-18:10 \n    事務局から\n\n18:10-18:20 \n（任
 意参加）質疑応答(続き)&ディスカッション\n\n\n\n\n※ア
 ジェンダは予告なく変更する可能性がございます。\n\n
 \n\n▍登壇者情報\n\n\n\n\n▍形式\n\n\nZoom\n\n\n▍対象者\n\n
 \nDomoユーザー、販売パートナーの皆様（申込時にDomo Bu
 ddies会員規約への同意が必要です）\n\n\n▍注意事項\n\n\
 n同業他社のご参加はご遠慮ください。\n録画及び録音
 はご遠慮ください。\n\n\n▍大事なお願い\n\n（１）Zoom
 表示名\n参加者の皆様の会社名＆お名前がわかるよう
 、当日zoomの表示名の設定変更をお願いします。\n例）
 西尾（ドーモ）、西尾（道場株式会社）など。\n（２
 ）チャットで「👏👏👏」や「８８８８８」\n大概の
 方は、人前で普段話すことあまりないと思います。ス
 ピーカーはいつもちょっと緊張しています。\nぜひ、
 講演が終わったらチャットに絵文字の拍手のマークや
 、数字の８を拍手の代わりに投稿してください。\n（
 ３）アンケートのご協力\n「どうもありがとうござい
 ました」だけでも構いません。その一言が励みになり
 ます！\n（４）マナー遵守もお忘れなく！ \n・コミュ
 ニティは皆様の「優しさ」を糧に成長します。参加者
 全員が気持ちよく使える場となるよう配慮をもったご
 利用を心がけて頂くようお願いいたします。\n・あり
 がとうを伝えよう!：誰かに助けてもらった時は、ぜひ
 「どうも！」という感謝の気持ちをぜひ言葉にしてみ
 てください。\n\n\n▍主催\n\n  Domo buddies Domo Hirogaru分科
 会（どーもひろがるぶんかかい）～皆に広げるその悩
 み、ここで打ち明けて下さい!一緒に悩みましょう～\nD
 omoユーザーは増えているものの、アクセスログを見る
 と...せっかくの高機能のMagic ETL、セルフBI活用を謳っ
 ても...徹夜で作った渾身のページ、エンジニアとして
 の満足度は高いが...。社内の定着化を目指す方、お待
 ちしています！
LOCATION:オンライン
URL:https://techplay.jp/event/982471?utm_medium=referral&utm_source=ics&utm
 _campaign=ics
END:VEVENT
END:VCALENDAR
