BEGIN:VCALENDAR
VERSION:2.0
PRODID:-//https://techplay.jp//JP
CALSCALE:GREGORIAN
METHOD:PUBLISH
X-WR-CALDESC:AI時代のテストマネージメント最前線
X-WR-CALNAME:AI時代のテストマネージメント最前線
X-WR-TIMEZONE:Asia/Tokyo
BEGIN:VTIMEZONE
TZID:Asia/Tokyo
BEGIN:STANDARD
DTSTART:19700101T000000
TZOFFSETFROM:+0900
TZOFFSETTO:+0900
TZNAME:JST
END:STANDARD
END:VTIMEZONE
BEGIN:VEVENT
UID:982543@techplay.jp
SUMMARY:AI時代のテストマネージメント最前線
DTSTART;TZID=Asia/Tokyo:20250710T130000
DTEND;TZID=Asia/Tokyo:20250710T140000
DTSTAMP:20260422T234145Z
CREATED:20250617T011020Z
DESCRIPTION:イベント詳細はこちら\nhttps://techplay.jp/event/98254
 3?utm_medium=referral&utm_source=ics&utm_campaign=ics\n\nAI時代のテ
 ストマネージメント最前線\nセミナー概要\n「State of Tes
 ting」を2013年より毎年刊行している、 PractiTestの共同創
 始者 Joel Montvelisky氏 が、　AI 技術がテストマネジメン
 トにもたらすブレイクスルーを語る 30分間の特別ビデ
 オ講演。　PractiTestで使用できるAI機能についてや、今
 後のマイルストーンについても解説。　後半は、PractiT
 estの基本的な機能について実際に画面を見ながらご紹
 介します。\n主なトピック\n\nJoel Montvelisky氏 による「
 テスト管理におけるAIの活用」を語るビデオ上映\nPracti
 Testの機能概要の説明\n\n\n参加対象\n\nテストエンジニ
 ア（テスト関係者）\nテストマネージャー（管理者の
 方）\nテスト管理ツールに興味のある方\nテストでAI活
 用を目指している方※上記の方々を想定していますが
 、制限などはございません。\n\n参加費\n無料\n主催\nPra
 ctiTest 日本公式販売代理店株式会社　モンテカンポhttps
 ://montecampo.co.jp/business-activity/practitest/
LOCATION:
URL:https://techplay.jp/event/982543?utm_medium=referral&utm_source=ics&utm
 _campaign=ics
END:VEVENT
END:VCALENDAR
