BEGIN:VCALENDAR
VERSION:2.0
PRODID:-//https://techplay.jp//JP
CALSCALE:GREGORIAN
METHOD:PUBLISH
X-WR-CALDESC:Qlik TECH TALK セミナー：What's New In Qlik ～ 2025年6
 月リリース最新機能のご紹介 ～
X-WR-CALNAME:Qlik TECH TALK セミナー：What's New In Qlik ～ 2025年6
 月リリース最新機能のご紹介 ～
X-WR-TIMEZONE:Asia/Tokyo
BEGIN:VTIMEZONE
TZID:Asia/Tokyo
BEGIN:STANDARD
DTSTART:19700101T000000
TZOFFSETFROM:+0900
TZOFFSETTO:+0900
TZNAME:JST
END:STANDARD
END:VTIMEZONE
BEGIN:VEVENT
UID:982547@techplay.jp
SUMMARY:Qlik TECH TALK セミナー：What's New In Qlik ～ 2025年6月リ
 リース最新機能のご紹介 ～
DTSTART;TZID=Asia/Tokyo:20250701T140000
DTEND;TZID=Asia/Tokyo:20250701T150000
DTSTAMP:20260420T155701Z
CREATED:20250617T015140Z
DESCRIPTION:イベント詳細はこちら\nhttps://techplay.jp/event/98254
 7?utm_medium=referral&utm_source=ics&utm_campaign=ics\n\nQlik TECH TALK 
 セミナー：What's New In Qlik ～ 2025年6月リリース最新機能
 のご紹介 ～\n★2025/06/22 登壇者を変更しました。\nQlik 
 製品について、6月にリリースされた新機能をご紹介し
 ます。主要な機能についてはデモも併せてご覧いただ
 きます。Qlik Cloud の分析機能、データ統合機能、管理
 機能、開発者向け機能など、また、Talendや適宜オンプ
 レミス製品についても取り上げる予定です。是非、ご
 参加覧いただき、Qlikのさまざまな新しい機能をご活用
 ください。\n\n当セミナーは無料でご参加いただけます
 。\n登壇者\n\n鈴木 由紀クリックテック・ジャパン株式
 会社ソリューション技術部 シニアソリューションアー
 キテクト\nメーカー勤務後、コンサルティング企業に
 入社。会計・経営管理を中心に数多くのシステム構築
 やカスタマーサポートを実施。その過程で出会ったQlik
  の連想技術に魅せられて2016年にクリックに入社。現
 在は主に製造・流通業界に向けて業務改善を含めたQlik
  の導入提案活動や、文系出身の視点を生かしたビジネ
 スユーザー目線で、デモアプリや動画、ブログなどの
 多数のコンテンツを発信中。\n\n参加対象\nQlik Sense、Qli
 kViewを既にお使いのお客様、また利用をご検討頂いて
 いるユーザー様、データ分析にご興味がある方、Qlik製
 品をお取り扱い頂いているパートナー様など、どなた
 でもご参加いただけます。お気軽にご参加ください。\
 nこれまでQlik Senseをご利用されたことのない方は、事
 前に下記よりQlik Sense 入門ハンズオンWebセミナーをご
 利用いただいてご体験頂くと、さらに当セミナーの内
 容をご活用いただけます。Qlik Sense 入門 ハンズオン Web
  セミナー\n事前準備\nZoom（Web会議ツール）を使用しま
 す。あらかじめご利用のPCやタブレット、スマートフ
 ォンにインストールをお願いします。当セミナーのURL
 はお申込みいただいた方に、セミナー開催日前日まで
 にお知らせいたします。
LOCATION:
URL:https://techplay.jp/event/982547?utm_medium=referral&utm_source=ics&utm
 _campaign=ics
END:VEVENT
END:VCALENDAR
