BEGIN:VCALENDAR
VERSION:2.0
PRODID:-//https://techplay.jp//JP
CALSCALE:GREGORIAN
METHOD:PUBLISH
X-WR-CALDESC:「エビデンスベースド経営」シリーズ②:株価
 が上がる株主総会へのエビデンス化技術
X-WR-CALNAME:「エビデンスベースド経営」シリーズ②:株価
 が上がる株主総会へのエビデンス化技術
X-WR-TIMEZONE:Asia/Tokyo
BEGIN:VTIMEZONE
TZID:Asia/Tokyo
BEGIN:STANDARD
DTSTART:19700101T000000
TZOFFSETFROM:+0900
TZOFFSETTO:+0900
TZNAME:JST
END:STANDARD
END:VTIMEZONE
BEGIN:VEVENT
UID:982572@techplay.jp
SUMMARY:「エビデンスベースド経営」シリーズ②:株価が上
 がる株主総会へのエビデンス化技術
DTSTART;TZID=Asia/Tokyo:20250617T160000
DTEND;TZID=Asia/Tokyo:20250731T230000
DTSTAMP:20260424T171329Z
CREATED:20250617T064516Z
DESCRIPTION:イベント詳細はこちら\nhttps://techplay.jp/event/98257
 2?utm_medium=referral&utm_source=ics&utm_campaign=ics\n\nイベントタ
 イトルイベントタイトルイベントタイトル\n概要\n企業
 価値の可視化がますます求められる今、株主総会は単
 なる「報告の場」から「評価の起点」へと変化してい
 ます。本ウェビナーでは、株主総会での発表内容が株
 価にどのような影響を与えるかを実際の企業データを
 もとに分析。株価を上げた企業の共通点や、逆に市場
 の評価を下げたケースとの違いを定量的な視点から明
 らかにします。【こんな方におすすめ】・株主総会の
 準備を担うIR・経営企画・広報担当の方・株主や市場
 からの信頼を高めたい経営層・説明責任と成果の可視
 化に課題を感じている方\n参加費：　無料実施日：　
 【配信】5月29日（木）17:00〜18:00＠オンライン　【リア
 ル開催】5月30日（金）13:00〜14:00@TKP市ヶ谷　※30日は株
 式会社ティーケーピーさまとの共催です　【再配信】6
 月2週以降を予定しています＠YouTube\nプログラム：１．
 エビデンスベースド経営とは?２．株主総会の現状と課
 題３．株主総会での発表内容と株価変動分析４．意思
 決定に活かす「定性情報のエビデンス化」技術\n申し
 込み：https://forms.gle/r8GVV5H6nqNDbf4J7
LOCATION:
URL:https://techplay.jp/event/982572?utm_medium=referral&utm_source=ics&utm
 _campaign=ics
END:VEVENT
END:VCALENDAR
