BEGIN:VCALENDAR
VERSION:2.0
PRODID:-//https://techplay.jp//JP
CALSCALE:GREGORIAN
METHOD:PUBLISH
X-WR-CALDESC:自社に合った施策が知りたい.. GA4・研修体験
 ・SEO・ChatGPT・EC・SNS・広告・B2Bなど複数テーマを自由
 に選べる (各回 無料1社限定)これから始める課題解決
X-WR-CALNAME:自社に合った施策が知りたい.. GA4・研修体験
 ・SEO・ChatGPT・EC・SNS・広告・B2Bなど複数テーマを自由
 に選べる (各回 無料1社限定)これから始める課題解決
X-WR-TIMEZONE:Asia/Tokyo
BEGIN:VTIMEZONE
TZID:Asia/Tokyo
BEGIN:STANDARD
DTSTART:19700101T000000
TZOFFSETFROM:+0900
TZOFFSETTO:+0900
TZNAME:JST
END:STANDARD
END:VTIMEZONE
BEGIN:VEVENT
UID:982578@techplay.jp
SUMMARY:自社に合った施策が知りたい.. GA4・研修体験・SEO
 ・ChatGPT・EC・SNS・広告・B2Bなど複数テーマを自由に選
 べる (各回 無料1社限定)これから始める課題解決
DTSTART;TZID=Asia/Tokyo:20250630T140000
DTEND;TZID=Asia/Tokyo:20250711T180000
DTSTAMP:20260425T125857Z
CREATED:20250617T071348Z
DESCRIPTION:イベント詳細はこちら\nhttps://techplay.jp/event/98257
 8?utm_medium=referral&utm_source=ics&utm_campaign=ics\n\n自社に合っ
 た施策が知りたい.. GA4・研修体験・SEO・ChatGPT・EC・SNS
 ・広告・B2Bなど複数テーマを自由に選べる\n～ これか
 ら始める課題解決 ～\n\n概要\n\n絶賛開催中「これから
 始める『新』組み合わせ戦略」(基本編)の応用編\n\n\n
 あなた専用の資料を作って ご説明\nこの講師の講義の
 受講者の声一例(アンケート結果をそのまま引用)\n\n\n\n
 ＝＝＝受講者の声＝＝＝” GA4、サーチコンソール、AI
 など各ツールを掛け合わせて効果を出すというテーマ
 が良かったです。各ツールは使ってはいますが、組み
 合わせて有効的に活用する方法を知っているのと知ら
 ないのでは、施策検討時の視点や成果の出方が変わっ
 てきそうだなと思いました。 ”＝＝＝＝＝＝＝＝＝＝
 ＝\n\n\n6/30(月)～7/11(金)で ご希望日時をご指定\n\n\n各回
  無料1社限定\n\n各社 複数名様~部署やチーム全員での 
 ご参加OK(制限なし)\nお申し込み時に次のようなテーマ
 から お選びください\n\n\n\n\n\n\nもっと早く受講された
 い方へ: 次の日程でも開催します\n\n6月後半枠 お申し
 込みなど詳しくは こちら\n\n\n\n\nまず基本からという
 方へ: 基本編セミナーの ご案内\n\n6月25日(水) 14:00～15:0
 0 お申し込みなど詳しくは こちら\n\n\n\n\n初心者にも分
 りやすく－人気の「これから始める」シリーズの講師
 が解説\n\n\n講師が取材され記事になりました\n\n第2弾 I
 Tカテゴリ RANKING１位(昨年10/11 17:30現在) Bing、なぜか今
 、シェア伸長の理由…検索エンジン市場でヤフーを上
 回り2位\n\n第1弾 X社が分析：フォロワー数に関係なく
 バズり可能、入口は1300リツイート\n\n\n\n\n\n\n弊社のホ
 ールディング会社 グロースエクスパートナーズ株式会
 社が東京証券取引所グロース市場に昨年9/26上場しまし
 た\n\n詳しくは こちら\n\n\n皆さまから弊社をご信頼頂
 ける一要因になるかもしれないと思い お伝えさせて頂
 きます\n\n\n\n弊社グループについて(事業計画及び成長
 可能性)\n\n6/10発表: フランス発エンジニア養成機関42 To
 kyoの支援を開始\n\n5/16発表: インドKerala州に子会社設立
 「GxP Technologies India Pvt. Ltd.」\n\n\n\n弊社プロダクト一例
 \n\n4/9発表: AI駆動型リサーチサービス「GxRaptor」発表の
 お知らせ\n\n4/22発表: 「Retool」製品紹介サイトリニュー
 アル >> 業務アプリケーションを、速く・柔軟に、現場
 でつくる。\n\nFacebookページ >> Retoolオフィシャルパート
 ナー 株式会社GxP\n\n\n\nエクスペリエンス改善を加速す
 る「クアルトリクス」\n商品情報を一元管理「Contentserv
 」\nアプリケーション資産を一括解析する「X-Analysis」\
 n\n\n\n\n\n▼内容は あなたのリクエストで決まる\nお申
 し込み時に ご入力頂くご相談内容に対する解決策を『
 専用の資料を作って』ご説明致します。\n\n相談内容を
 うまく まとめれない、まとめる時間がないなど とり
 あえず話して相談したいという場合は当日お話をお伺
 いして解決策をご提案致します(カジュアルに お話し
 できるイベントです)。\n上記に関しては時間の都合上
 ご相談内容の整理を行った後、当方で調査の上 後日 
 解決策をご提案させて頂く流れの場合もございます。\
 n\n\n▼開催概要\n\n開催日時\n\n\n6/30(月)～7/11(金)の内ご
 希望日時\n\nもっと早く受講されたい方へ: 次の日程で
 も開催します\n\n6月後半枠 お申し込みなど詳しくは こ
 ちら\n\n\n\n\n\n参加費および調査と資料作成費\n\n\n無料\
 n\n※ あなた専用の資料を作って ご説明\n\n\n開催方法\
 n\nオンラインイベント　※ Zoomを利用します。\n\n\n参
 加方法\n\nお申し込み後にメールで ご案内致します。\n
 \n\n\n▼タイムスケジュール\n\n\n\n所要時間\n内容\n\n\n\n\
 n10分前\n受付開始(視聴用URL開場)\n\n\n45分ほど\n本編\n\n\
 n15分ほど\n質疑応答(質問がなくなり次第終了)\n\n\n\n※ 
 当日予告なく時間配分・内容が変更になる可能性がご
 ざいます。\n▼講師紹介\n\n澤井 貞夫\n(株)GxPマーケタ
 ー兼コンテンツ ディレクター\n\n\n人気の「これから始
 める」シリーズの講師\n\n\nこれから始める組み合わせ
 戦略\n\n\nこれから始める研修体験\n\n\nこれから始める
 課題解決\n\n\nこれから始める『新・最強』の組み合わ
 せ戦略\n\n\nこれから始める「分析体制構築」\n\n\nこれ
 から始める「AI起点の広告戦略設計」\n\n\n\n\n・通販 EC 
 の経験を経て、スマホ[アプリ]/モバイルや PC 向けコン
 テンツのディレクションおよびマーケティングの経験 
 多数。\n・企画立案から要件定義、そして進捗管理か
 らプロジェクトの収益化までをトータルで対応。\n\n\n\
 n講師が取材され記事になりました\n\n第2弾 ITカテゴリ 
 RANKING１位(昨年10/11 17:30現在) Bing、なぜか今、シェア伸
 長の理由…検索エンジン市場でヤフーを上回り2位\n\n
 第1弾 X社が分析：フォロワー数に関係なくバズり可能
 、入口は1300リツイート\n\n\n\n\n▼参加対象\n\n\nマーケ
 ティングや広報ご担当者様・責任者様 全般\n\n\nデータ
 分析ご担当者様\n\n戦略立案ご担当者様\n\n事業計画ご
 担当者様\n\nECサイト運営者様\n\n\n以上いずれかの ご関
 係者様\n\n社員研修を検討中の人事部の方\n\n\n新卒に\n\
 n中途採用に\n\n\nあなたの\n\n\n部下に必要と思えたら\n\
 nご同僚にも\n\n\nその他 思い当たる人やチーム、部署
 に紹介してみては？\nその他とりあえず このセミナー
 で勉強してみたいと思われた方\n\n※ Web初心者から事
 業の成長カーブを目指してる方にまで分かりやすく ご
 説明します※ 同業他社の方や個人事業主 自営業 フリ
 ーランス 学生の方は対象外となります\n▼参加費およ
 び調査と資料作成費\n無料\n※ あなた専用の資料を作
 って ご説明\n▼お申し込み方法\n申し込みフォームに
 必要事項をご入力ください。\n▼基本編セミナーの ご
 案内\n\n6月25日(水) 14:00～15:00 お申し込みなど詳しくは 
 こちら\n\n\n▼注意事項\n※ 参加を辞退する場合は、詳
 細ページより申込のキャンセルをお願い致します。※ 
 無断キャンセル・欠席が続く場合、次回以降の参加を
 お断りさせて頂く場合がございますのでご了承くださ
 い。
LOCATION:
URL:https://techplay.jp/event/982578?utm_medium=referral&utm_source=ics&utm
 _campaign=ics
END:VEVENT
END:VCALENDAR
