BEGIN:VCALENDAR
VERSION:2.0
PRODID:-//https://techplay.jp//JP
CALSCALE:GREGORIAN
METHOD:PUBLISH
X-WR-CALDESC:【オンライン開催】コミュニケーションプラ
 ットフォーム CAT.AIでできること
X-WR-CALNAME:【オンライン開催】コミュニケーションプラ
 ットフォーム CAT.AIでできること
X-WR-TIMEZONE:Asia/Tokyo
BEGIN:VTIMEZONE
TZID:Asia/Tokyo
BEGIN:STANDARD
DTSTART:19700101T000000
TZOFFSETFROM:+0900
TZOFFSETTO:+0900
TZNAME:JST
END:STANDARD
END:VTIMEZONE
BEGIN:VEVENT
UID:982642@techplay.jp
SUMMARY:【オンライン開催】コミュニケーションプラット
 フォーム CAT.AIでできること
DTSTART;TZID=Asia/Tokyo:20250626T150000
DTEND;TZID=Asia/Tokyo:20250626T153000
DTSTAMP:20260420T174030Z
CREATED:20250619T011629Z
DESCRIPTION:イベント詳細はこちら\nhttps://techplay.jp/event/98264
 2?utm_medium=referral&utm_source=ics&utm_campaign=ics\n\nセミナー概
 要\n今回のセミナーでは、弊社が提供しているAIサービ
 ス「CAT.AI」のこんな機能をじっくり解説！・電話チャ
 ネルをもっとスマートに　視覚と聴覚を活用してユー
 ザーを迷わせない『CAT.AI CX-Bot』・生成AI×WEBチャネル
 の革新　驚くほどスムーズに解決へ導く『CAT.AI GEN-Bot
 』 さらに！チャネルのAI化で失敗しないためのポイン
 トも実践的にご紹介します。\nCAT.AIでどのようなこと
 が実現できるのか30分で分かりやすくご紹介します。
 ぜひこの機会をご活用ください！\nこのような方にオ
 ススメ\n\nコールセンターを運営もしくは開始しようと
 している方\nお問い合わせや受付機能を自動対応でき
 ないか検討されている方\nチャットボット、ボイスボ
 ットについて興味がある方\n\nアジェンダ\n\n電話チャ
 ネルをもっとスマートに視覚と聴覚を活用してユーザ
 ーを迷わせない『CAT.AI CX-Bot』\n\n生成AI×WEBチャネルの
 革新驚くほどスムーズに解決へ導く『CAT.AI GEN-Bot』\n\n
 登壇者\n櫻井 秀樹\n株式会トゥモロー・ネット AIプラ
 ットフォーム本部CXコンサルティング セールスマネー
 ジャー\nセミナー詳細\n・開催日時：2025年6月26日(水) 15
 :00～15:30・開催場所：オンライン(Zoom) / 無料・セミナ
 ーお問合せ先：株式会社トゥモロー・ネット セミナー
 事務局(catai-sales@tomorrow-net.co.jp )・それ以外のお問合せ
 先：https://cat-ai.jp/contact/
LOCATION:
URL:https://techplay.jp/event/982642?utm_medium=referral&utm_source=ics&utm
 _campaign=ics
END:VEVENT
END:VCALENDAR
