BEGIN:VCALENDAR
VERSION:2.0
PRODID:-//https://techplay.jp//JP
CALSCALE:GREGORIAN
METHOD:PUBLISH
X-WR-CALDESC:【7/2(水)13:00～】ゼロから始めるSEO入門セミナ
 ー：検索1位までのはじめの一歩【無料SEOセミナー】
X-WR-CALNAME:【7/2(水)13:00～】ゼロから始めるSEO入門セミナ
 ー：検索1位までのはじめの一歩【無料SEOセミナー】
X-WR-TIMEZONE:Asia/Tokyo
BEGIN:VTIMEZONE
TZID:Asia/Tokyo
BEGIN:STANDARD
DTSTART:19700101T000000
TZOFFSETFROM:+0900
TZOFFSETTO:+0900
TZNAME:JST
END:STANDARD
END:VTIMEZONE
BEGIN:VEVENT
UID:982745@techplay.jp
SUMMARY:【7/2(水)13:00～】ゼロから始めるSEO入門セミナー：
 検索1位までのはじめの一歩【無料SEOセミナー】
DTSTART;TZID=Asia/Tokyo:20250702T130000
DTEND;TZID=Asia/Tokyo:20250702T140000
DTSTAMP:20260426T012702Z
CREATED:20250621T033311Z
DESCRIPTION:イベント詳細はこちら\nhttps://techplay.jp/event/98274
 5?utm_medium=referral&utm_source=ics&utm_campaign=ics\n\n【7/2(水)13:00
 ～】ゼロから始めるSEO入門セミナー：検索1位までのは
 じめの一歩【無料SEOセミナー】\n概要\n【無料】最新SEO
 セミナー開催のご案内のお知らせです！内部対策に特
 化したお得な検索エンジン対策情報を無料でお届け致
 します！！\n検索エンジン対策に詳しくなりたい企業
 様や、SEOに真剣に取り組んでいる企業様向けに企画し
 た無料で参加できるSEOセミナーです。\n主な内容とし
 ては現状のSEOに関する情報や、SEO内部施策の重要性に
 ついて伝授いたします。最後に業界初のSEOサービス【S
 EO極】のご紹介も行わせて頂きます。※最新の検索エ
 ンジン情報、SEO情報、すぐに役立つSEO内部対策情報等
 が満載です！\n詳細\n現在、Yahoo!検索がGoogle 検索エン
 ジンのアルゴリズムを採用し、Googleに強いホームペー
 ジ制作、コンテンツの作成、諸々の最適化が急務にな
 ってきました。また、従来のSEO では外部リンクの重要
 性が問われておりましたが、Google では今後内部施策に
 注力して行う方針に変わり、今まで以上にホームペー
 ジの質が問われるようになってきています。\nそのよ
 うな中で、弊社は「SEO 内部施策セミナー」と題しまし
 てSEOの内部施策についてのセミナーを開催致します。\
 n検索エンジン対策に詳しくなりたい企業様や、SEOに真
 剣に取り組んでいる企業様向けに企画した、無料で参
 加できるSEOセミナーです。\n主な内容としては現状のSE
 Oに関する情報や、SEO内部施策の重要性について伝授い
 たします。\nこれからSEOをビジネスとしてお考えの方
 々、SEO極をご検討いただいている方々、SEO極の取次店
 の方々、SEO極をご購入いただいた方々など 是非ともご
 参加ご検討ください。 皆様のご参加、お待ちいたし
 ております。\n最新の検索エンジン情報、SEO情報、す
 ぐに役立つSEO内部対策情報等が満載です！\nタイムス
 ケジュール\n\n\n\n時間\n内容\n\n\n\n\n13:00〜13:55\n【7/2(水)
 13:00～】ゼロから始めるSEO入門セミナー：検索1位まで
 のはじめの一歩【無料SEOセミナー】\n\n\n13:55〜14:00\nア
 ンケート回答\n\n\n\n※ 当日予告なく時間配分・内容が
 変更になる可能性がございます。\n登壇者\n名取 雄介
 株式会社ディテイルクラウドクリエイティブ取締役副
 社長\n参加対象\n\nSEO内部対策を今後考えていらっしゃ
 る方々\n\n参加費\n無料\nハッシュタグ\n#techplayjp\n注意
 事項\n\nリクルーティング、勧誘など、採用目的でのイ
 ベント参加はお断りしております。\nキャンセル待ち
 ・補欠・落選の方はご参加いただくことが出来ません
 のでご了承ください。\n欠席される場合は、お手数で
 すが速やかにキャンセル処理をお願い致します。\n無
 断キャンセルや欠席が続く場合、次回以降の参加をお
 断りさせていただく場合がございます。\n
LOCATION:
URL:https://techplay.jp/event/982745?utm_medium=referral&utm_source=ics&utm
 _campaign=ics
END:VEVENT
END:VCALENDAR
