BEGIN:VCALENDAR
VERSION:2.0
PRODID:-//https://techplay.jp//JP
CALSCALE:GREGORIAN
METHOD:PUBLISH
X-WR-CALDESC:企業の信頼を高める！ 今すぐできるWebアクセ
 シビリティ対応とリニューアル戦略
X-WR-CALNAME:企業の信頼を高める！ 今すぐできるWebアクセ
 シビリティ対応とリニューアル戦略
X-WR-TIMEZONE:Asia/Tokyo
BEGIN:VTIMEZONE
TZID:Asia/Tokyo
BEGIN:STANDARD
DTSTART:19700101T000000
TZOFFSETFROM:+0900
TZOFFSETTO:+0900
TZNAME:JST
END:STANDARD
END:VTIMEZONE
BEGIN:VEVENT
UID:982828@techplay.jp
SUMMARY:企業の信頼を高める！ 今すぐできるWebアクセシビ
 リティ対応とリニューアル戦略
DTSTART;TZID=Asia/Tokyo:20250709T150000
DTEND;TZID=Asia/Tokyo:20250709T153000
DTSTAMP:20260424T204407Z
CREATED:20250624T025434Z
DESCRIPTION:イベント詳細はこちら\nhttps://techplay.jp/event/98282
 8?utm_medium=referral&utm_source=ics&utm_campaign=ics\n\n“対応しな
 い”ことがリスクになる時代に、企業がすべきこと\nWe
 bサイトは、今や企業にとって不可欠な顧客接点です。
 \nしかし、多くのサイトが、身体的な制約や利用環境
 に関わらず誰もが情報にアクセスできる「Webアクセシ
 ビリティ」の視点を十分に満たしているとは言えませ
 ん。\nアクセシビリティ対応は、社会的責任だけでな
 く、新たな顧客層の獲得、ブランドイメージ向上、そ
 してSEO効果にも繋がる重要なビジネス戦略です。\n本
 セミナーでは、Webアクセシビリティ対応の基本とポイ
 ントから、Webサイトリニューアル時に考慮すべき戦略
 まで、実際の事例を交えながらご紹介します。\nこん
 な方におすすめ\n\nWebアクセシビリティ対応の必要性を
 感じているが、何から手をつけて良いのか分からない\
 n自社サイトのアクセシビリティに課題があると感じて
 いる\nWebサイトリニューアルを検討中で、アクセシビ
 リティを考慮したい\nアクセシビリティ対応がビジネ
 スに与えるメリットを知りたい\n\n詳細はこちら\nhttps:/
 /www.kinotrope.co.jp/seminar/20250709\n登壇者\n加藤 光郎\n株式
 会社キノトロープコンサル部 副部長\n参加対象\nWebサ
 イト運営に関わる企業担当者、責任者\n参加費\n無料\n
 注意事項\n\n当セミナーは、企業でWebサイトの業務を担
 当されている方を対象としております。同業の方もし
 くは個人の方に関しましては、ご遠慮いただく場合が
 ございます。\n講演内容や講演者などは、都合により
 予告なく変更する場合がございますので、あらかじめ
 ご了承ください。\n今回ご提供いただく個人情報は、
 株式会社キノトロープのプライバシーポリシーに従い
 管理されます。\n
LOCATION:
URL:https://techplay.jp/event/982828?utm_medium=referral&utm_source=ics&utm
 _campaign=ics
END:VEVENT
END:VCALENDAR
