BEGIN:VCALENDAR
VERSION:2.0
PRODID:-//https://techplay.jp//JP
CALSCALE:GREGORIAN
METHOD:PUBLISH
X-WR-CALDESC:領域特化型スタートアップピッチイベント【ea
 rthkey X pitch vol.27】-fem tech編-
X-WR-CALNAME:領域特化型スタートアップピッチイベント【ea
 rthkey X pitch vol.27】-fem tech編-
X-WR-TIMEZONE:Asia/Tokyo
BEGIN:VTIMEZONE
TZID:Asia/Tokyo
BEGIN:STANDARD
DTSTART:19700101T000000
TZOFFSETFROM:+0900
TZOFFSETTO:+0900
TZNAME:JST
END:STANDARD
END:VTIMEZONE
BEGIN:VEVENT
UID:982830@techplay.jp
SUMMARY:領域特化型スタートアップピッチイベント【earthke
 y X pitch vol.27】-fem tech編-
DTSTART;TZID=Asia/Tokyo:20250716T115000
DTEND;TZID=Asia/Tokyo:20250716T130000
DTSTAMP:20260422T215522Z
CREATED:20250624T032834Z
DESCRIPTION:イベント詳細はこちら\nhttps://techplay.jp/event/98283
 0?utm_medium=referral&utm_source=ics&utm_campaign=ics\n\nイベント概
 要\nearthkeyが主催する事業特化型オープンイノベーショ
 ンイベントです。\n業界業種にこだわらず、毎週5社の
 新進気鋭のシード・アーリーステージのスタートアッ
 プ企業が、事業会社との共創や投資家との出会いを目
 的に登壇します。業界を越えた業務提携や資本提携な
 ど毎回数々のマッチングが生まれる場です。事業会社
 の方は参加いただくことで、自社の新規事業の推進や
 自社課題（ワークフローのデジタル化など）の解決、
 クライアントへの付加価値提案などのアイデアを得る
 ことができます。当イベントは、業界業種に縛られな
 いセレンディピティ（偶然の出会い）の場を大切にし
 ています。\n\n相性の良い参加者像\n・事業会社（新規
 、既存事業推進者・経営企画室）・ベンチャーキャピ
 タル・コーポレートベンチャーキャピタル・メディア
 関係会社\n＊過去参加企業（敬称略）伊藤忠商事、三
 井物産、NEC、三井住友FG、みずほ銀行、凸版印刷、電
 通、JCB、フジテレビジョン、​三井住友海上、京セラ
 、楽天、日清紡HD、東芝、ALSOK 、GMOTECH、京浜急行電鉄
 、東京建物、富士通、DNP、参天製薬、等\n\nタイムスケ
 ジュール\n11:45- zoomLIVE配信開始11:50- イベント運営紹介
 、ピッチ概要説明12:00- 株式会社ジョコネ。12:11- Flora株
 式会社12:22- 株式会社TL Genomics12:33- 株式会社TRULY12:44- 株
 式会社ファミワン12:55- クロージング13:00- 終了\n\n参加
 （視聴）費用\n無料\n\nイベントについての注意事項\n
 ※登壇企業さま・弊社との事業が競合する企業さま、
 事業会社に属されていない方からのお申し込みをお断
 りする場合がございます※タイムスケジュールや登壇
 社は予告なく変更になる場合がございます※参加者の
 企業名・部門名のみ、プレゼンテーションの質向上の
 ため登壇企業さまへ共有することがございます※本イ
 ベントはZoom（ウェビナー）を活用したフルオンライン
 のLIVE配信となります為、当日配信品質の問題が発生す
 る可能性がございます。何卒ご了承くださいませ\n\n登
 壇企業及び登壇者のご紹介\n株式会社ジョコネ。　( htt
 ps://joconne.com/ )代表取締役　北 奈央子 氏\n工学修士取
 得後、グローバル医療機器メーカーで薬事、マーケテ
 ィングとして活躍、その後自身の婦人科系の病気をき
 っかけに女性のヘルスリテラシーに目覚め、ジョコネ
 。を創業。女性のヘルスリテラシーをミッションに国
 内、海外で活躍中。\nサービス紹介ルナネス\nルナネス
 は職場の新常識。性別特有の健康課題に寄り添い、ナ
 プキンディスペンサーと相談アプリで従業員の健康と
 パフォーマンスを守ります。\n‾‾‾‾‾‾‾‾‾‾
 ‾‾‾‾‾‾‾‾‾‾‾‾‾‾‾‾‾‾‾‾‾‾‾‾
 ‾‾‾‾‾‾‾‾‾‾‾‾‾‾‾‾‾‾‾‾Flora株式
 会社　( https://main.flora-tech.jp/ja )代表取締役　クレシェ
 ンコ アンナ 氏\nウクライナ国立オデッサ大学の国際関
 係学部を卒業。2017年に文部科学省の奨学金を受賞し来
 日。2022年に京都大学法学部卒業。2020年にS&R Foundationに
 選抜され、Kingfisher Leadership Programでシリコンバレーに
 渡航。同年に京都のフェニクシーインキュベーション
 に選抜。身近な人の妊娠うつ発症により、女性の身体
 とメンタルケアを改善をし、女性がもっと活躍できる
 社会を作りたいとの思いからFloraを日本で創業。2022年
 の関西財界セミナーの輝く女性賞、2023のEY Entrepreneur of
  the Year JapanのSpecial Awardを受賞、Forbes Japanの「Next100」
 、Forbes Asia & Japanの30 under 30に選抜。\nサービス紹介Wellf
 low\nFlora は 独自のAI /MLを使用し、更年期、不妊や生理
 痛といった性にまつわる健康課題を解決しています。
 一般女性向けに『Moonly』というアプリを提供し、法人
 向けには、従業員のパフォーマンスと組織全体のWell-be
 ingを向上させるプラットフォーム　『Wellflow』をグロ
 ーバルに展開しています。蓄積したデータを基に、メ
 ーカーや医療機関・自治体を巻き込むことで、アジア
 のWell-beingを推進するエコシステムの構築に貢献してい
 ます。\n‾‾‾‾‾‾‾‾‾‾‾‾‾‾‾‾‾‾‾‾
 ‾‾‾‾‾‾‾‾‾‾‾‾‾‾‾‾‾‾‾‾‾‾‾‾
 ‾‾‾‾‾‾‾‾‾‾株式会社TL Genomics　( https://tlgenom
 ics.com/ )代表取締役社長　久保 知大 氏\n1979年生まれ、
 東京都出身。京都大学理学部卒、同大学院で博士(生命
 科学)を取得。基礎研究者の道を経て、2015年当社創業
 。\nサービス紹介Myエイジ F\n20～30代の女性向けに、ご
 自身の老化を測り、妊娠のポテンシャルを明らかにす
 るサービスを開発しました。自分のカラダを把握し、
 ライフプランニングをサポートします！\n‾‾‾‾‾
 ‾‾‾‾‾‾‾‾‾‾‾‾‾‾‾‾‾‾‾‾‾‾‾‾
 ‾‾‾‾‾‾‾‾‾‾‾‾‾‾‾‾‾‾‾‾‾‾‾‾
 ‾株式会社TRULY　( https://www.truly-japan.co.jp/ )代表取締役
 　二宮 未摩子 氏\n大手広告代理店にて、通信・美容・
 健康業界のマーケティング支援に従事したのち、2019年
 に株式会社TRULYを設立。男女の更年期やホルモン変化
 にまつわる課題に対し、情報メディア、ホルモン検査
 、オンライン相談、法人向け研修などをワンストップ
 で提供し、個人と企業の両面から支援を行っている。
 法人向け健康経営支援を通じて、ライフステージ特有
 の心身の課題に寄り添うサービスを展開し、これまで
 に80社以上の企業・自治体との連携実績があり、啓発
 やマーケティング支援を通じて、社会全体での理解促
 進に取り組んでいる。\nサービス紹介TRULY For BusinessMENOP
 O CHECKTRUL Select/Insight\n男女の更年期の悩みに寄り添い、
 情報メディアでの発信を軸に、3つのサービスを展開。
 健康経営支援プログラム「TRULY For Business」、ホルモン
 検査サービス「MENOPO CHECK」、更年期世代のインサイト
 を取得し、企業の商品開発やマーケティングを支援す
 る「TRUL Select/Insight」の提供も新たに開始\n‾‾‾‾‾
 ‾‾‾‾‾‾‾‾‾‾‾‾‾‾‾‾‾‾‾‾‾‾‾‾
 ‾‾‾‾‾‾‾‾‾‾‾‾‾‾‾‾‾‾‾‾‾‾‾‾
 ‾株式会社ファミワン　( https://famione.co.jp/ )代表取締
 役　石川 勇介 氏\n2015年、自身の妊活で強く感じた課
 題を解決するため、株式会社ファミワンを創業しまし
 た。専門家の支援がないために一人で抱えてしまった
 り、知らなかったことを後悔してしまう現状を変えて
 いきます。フェムテックやウェルビーイングの言葉も
 広がる前の時代からコツコツとまっとうに事業を展開
 しています。「子どもを願うすべての人によりそい 幸
 せな人生を歩める社会をつくる」というビジョンの実
 現に向け、これからも進み続けます。\nサービス紹介
 ファミワン\n専門家によるヘルスケアサポートサービ
 ス「ファミワン」や卵巣年齢チェックキット、子宮内
 フローラ検査キットなどの個人向け提供・企業向けの
 福利厚生提供・自治体向けの住民支援としての提供を
 実施\n\nearthkeyスポンサー企業ご紹介\n一般社団法人　
 科学技術と経済の会　( https://www.jates.or.jp )科学技術と
 経済の調和を図るための研究・調査を実施している社
 団法人。また、産学官の連携を促進し、技術革新を推
 進しています。シンポジウムやセミナーを開催し、知
 識の普及と啓発に取り組みこれらの活動を通じて科学
 技術の発展と経済の成長に貢献しています。\n株式会
 社Waris　( https://waris.co.jp )経営課題や事業課題解決に向
 け、プロ人材を最短2週間でマッチングする「Warisプロ
 フェッショナル」を運営しているベネッセグループの
 企業。登録者は、ハイスキル女性を中心に約18000人。
 スキルの再現性と、マインドを、独自ノウハウに基づ
 いて厳しく見極め、企業様にはプロ人材への依頼範囲
 の策定や条件調整、ご発注まで伴奏型でご支援。\n\n主
 催企業\n株式会社アースキーオープンイノベーション
 をテーマに、スタートアップと⼤⼿企業のマッチング
 を⾏っています。主な活動としては業種業界問わず、
 魅⼒的なシード、アーリーステージのスタートアップ
 企業が毎⽉5社、ピッチするイベント"earthkey pitch"を運
 営しております。これまでに200社以上の新進気鋭のス
 タートアップ企業が登壇しており、直近3回のイベント
 では平均150名の事業会社・ベンチャーキャピタルなど
 が参加しています。業務提携や資本提携など毎回数々
 のマッチングが⽣まれています。他にも⼤⼿企業向け
 の新規事業開発⽀援を⾏ってます。HP▶︎https://earthkey.
 co.jpearthkey pitchへの登壇を検討しているスタートアップ
 企業へ▶︎earthkey pitch https://www.earthkey-pitch.com多数の協
 業アイデアを得たい大手企業へ▶︎earthkey reverse pitch  
 https://www.earthkey-open-innovation.com過去登壇企業の一覧はこ
 ちら▶︎https://earthkey.events/startup/
LOCATION:
URL:https://techplay.jp/event/982830?utm_medium=referral&utm_source=ics&utm
 _campaign=ics
END:VEVENT
END:VCALENDAR
