BEGIN:VCALENDAR
VERSION:2.0
PRODID:-//https://techplay.jp//JP
CALSCALE:GREGORIAN
METHOD:PUBLISH
X-WR-CALDESC:ITソリューションマーケット2025 福岡 ～Meet The 
 Future ようこそ最新技術が集まるITフェア～
X-WR-CALNAME:ITソリューションマーケット2025 福岡 ～Meet The 
 Future ようこそ最新技術が集まるITフェア～
X-WR-TIMEZONE:Asia/Tokyo
BEGIN:VTIMEZONE
TZID:Asia/Tokyo
BEGIN:STANDARD
DTSTART:19700101T000000
TZOFFSETFROM:+0900
TZOFFSETTO:+0900
TZNAME:JST
END:STANDARD
END:VTIMEZONE
BEGIN:VEVENT
UID:982860@techplay.jp
SUMMARY:ITソリューションマーケット2025 福岡 ～Meet The Futur
 e ようこそ最新技術が集まるITフェア～
DTSTART;TZID=Asia/Tokyo:20250710T100000
DTEND;TZID=Asia/Tokyo:20250710T173000
DTSTAMP:20260423T212502Z
CREATED:20250624T093827Z
DESCRIPTION:イベント詳細はこちら\nhttps://techplay.jp/event/98286
 0?utm_medium=referral&utm_source=ics&utm_campaign=ics\n\nITソリュー
 ションマーケット2025 福岡 ～Meet The Future ようこそ最新
 技術が集まるITフェア～\n概要\n外資系IT商社のTD SYNNEX
 が主催する最新技術が集まるITフェア「ITソリューショ
 ンマーケット」を福岡で開催いたします。AI活用と進
 業務効率化をテーマに、30社以上の国内外IT企業の展示
 や、講演を行います。一般企業の情報システム部門の
 方や、販売店営業様、中堅中小企業でIT製品の情報収
 集をしたい方などにおすすめです。 どなたでもご参加
 いただけます。皆さまのご参加、心よりお待ちしてお
 ります。\nチラシのダウンロード（PDF）はこちらから
 。お申込みはこちらから。\n※展示の内容は一部変更
 になる場合がございます。あらかじめご了承ください
 。\n見どころ\nAI活用による業務効率化生成AIや、翻訳
 ツール、議事録作成アプリ、PDF編集といった日々の業
 務を効率化する幅広いAIツールをご紹介。 Microsoft 365 Co
 pilot による生成AI、各メーカーによるワークステーシ
 ョンのローカルデモ、IBMのwatsonxやSPSSなど、多彩なソ
 リューションが集結。最新AIとその活用法を知り、業
 務効率化の新たな一歩を踏み出しませんか？\n最新の
 セキュリティ対策最新のエンドポイントセキュリティ
 、ランサムウェア対策、DDoS攻撃防御WAFなど、多岐にわ
 たるサイバー攻撃対策ソリューションを展示。貴社の
 セキュリティを強化する最適解を見つけましょう。\n
 クラウドとネットワークインフラ高セキュリティクラ
 ウドストレージ、マルチクラウド対応、集中管理など
 、インフラ最適化ソリューションを展示。弊社独自の
 「Azure Managed Service」他、導入事例のご紹介セミナーも
 開催。インフラ最適化のヒントが得られます！\nDX推進
 と働き方支援電子印鑑、ビデオ会議、モバイル管理な
 ど、多様な働き方を支える最新ソリューションが集結
 。国内外のメーカーによる最新AI PCも必見！企業のDXを
 多角的に支援します。\nアジェンダ\n\n\n\n時間\n登壇者\
 n内容\n\n\n\n\n10:30 ～ 10:50\nスターテック・ドットコム・
 ジャパン株式会社カントリーマネージャー遠藤 信久\n
 最新の接続機器事情Thunderbolt5の登場によってより速く
 、より消費電力が増えている環境とACアダプター同梱
 しないPCまで出てきている状況への提案。\n\n\n11:05 ～ 
 11:25\n株式会社日本HP\n決定次第ご案内いたします。\n\n\
 n11:40 ～ 12:00\nエクイニクス・ジャパン株式会社パート
 ナーアライアンス営業本部パートナーアカウントマネ
 ージャー小鮒 亮介\nAIの未来を支えるエクイニクスソ
 リューションエクイニクスのデータセンターと接続サ
 ービスは、AIのデータ処理とストレージニーズをサポ
 ートし、企業が迅速かつ効率的に生成AIを活用できる
 環境を提供します。またエクイニクスのデータセンタ
 ーを活用したAIの導入事例を紹介し、データの迅速な
 アクセスと処理がどのように実現されているかをご紹
 介します。\n\n\n12:15 ～ 12:35\nBroadcom Inc.Enterprise Security Gr
 oup (ESG)Principal Solutions EngineerCovert Chris\n「ランサムウェ
 アの脅威とSymantec EDRによる防御戦略　（日本語セッシ
 ョン）」このセッションでは、ランサムウェアの脅威
 とそれに対抗するSymantecのエンドポイント検出と対応
 （EDR）機能について解説します。ランサムウェアの仕
 組み、攻撃の兆候、そしてSymantec EDRを使用した迅速な
 検知と対応方法と、企業のセキュリティを強化し、ラ
 ンサムウェアの被害を未然に防ぐための実践的な知識
 をご紹介します。\n\n\n13:30 ～ 13:50\nHornetsecurity株式会社
 プリンシパル メッセージング エンジニア平野 義隆\n
 あなたの会社も加害者に？！取引先やサプライチェー
 ン全体のためのセキュリティ対策〜 いまこそDMARCの理
 解と導入を 〜近年、企業を狙った「メールのなりすま
 し」による被害が急増しています。企業の規模や業界
 を問わず、セキュリティ対策の遅れが原因で、取引先
 にまで被害を及ぼしてしまうケースも少なくありませ
 ん。本セミナーでは、なりすましメールのリスクを理
 解し、効果的な対策として注目される「DMARC」の基礎
 を解説します。適切なツールを活用しながらDMARCを導
 入・運用することで、自社だけでなく、取引先を含む
 サプライチェーン全体のセキュリティを強化する方法
 を学びましょう。\n\n\n14:05 ～ 14:25\n株式会社ダイレク
 トクラウド営業部　パートナーセールスチームリーダ
 ー工藤 逸美\nAzure OpenAI×RAGで自動対応 DirectCloudーAI『Dir
 ectCloud AI』は、クラウドストレージに格納したデータ
 を有効活用し、企業の問い合わせ対応を効率化し、コ
 スト削減と業務効率化を実現するAIサービスです。今
 回のセッションでは、DirectCloudの強みとAIオプションの
 基本的な説明と活用法をご紹介いたします。\n\n\n14:40 
 ～ 15:00\nTD SYNNEX株式会社　DestinationAIData＆AI部ソリュー
 ションアーキテクト鶴野 龍一郎\n最新AIトレンドとTD SY
 NNEX社内でのAI活用の取り組み最新のAIでのトレンドとTD
  SYNNEXが会社として実際にどのようなAIに対する取り組
 みを行っているのかを共有します。\n\n\n15:15 ～ 15:35\n
 エムオーテックス株式会社営業企画部 パートナー推進
 課山崎 稔充\nなぜセキュリティチェックシート回答へ
 の支援が必要？なぜ各種セキュリティ制度、ガイトラ
 イン対応を求められる？2025年、お客さまからのご相談
 にどう応えるべきなのかお客さまからセキュリティチ
 ェックシートの回答を支援して欲しいという相談が増
 えているのではないでしょうか？また経産省が発表し
 た「格付け制度」、加えて教育業界、自動車業界のお
 客さまからは各種「ガイドライン」への対応をご相談
 されるケースはないでしょうか？本セッションでは、
 なぜこのような状況になっているのか背景と一つの解
 決の形として「ガイドライン対応サポートアカデミー
 」をご紹介します。\n\n\n15:50 ～ 16:10\nAzure Managed Service\n
 決定次第ご案内いたします。\n\n\n\n展示内容\n\n\n\n企業
 名\n展示内容\n\n\n\n\n株式会社アイキューブドシステム
 ズ\nCLOMOは、政府が定める基準を満たしたISMAPを取得し
 ている国産MDM（モバイルデバイス管理）サービスです
 。マルチOS/マルチデバイス対応で「情報漏えい対策」
 「利用ルールの適用」「利用状況の把握」を実現し、
 全国の多くの企業のDXにおけるモバイルデバイスの運
 用を支えています。\n\n\n日本アイ・ビー・エム株式会
 社\nSPSSやWatsonxの紹介。\n\n\n株式会社インターコム\nMaLi
 onCloud、従業員の勤務状況を見える化・情報漏洩対策を
 ご提案します。\n\n\nインテル株式会社\n決定次第ご案
 内いたします。\n\n\nウォッチガード・テクノロジー・
 ジャパン株式会社\nFireCloud Internet Accessを展示いたしま
 す。\n\n\n日本エイ・エム・ディ株式会社\n2017年新たな
 アーキテクチャZenの発表と共に登場したクライアント
 用CPU・AMD Ryzen ™ プロセッサ。コストパフォーマンス
 の高さと現代のビジネスユースに求められる高いマル
 チタスク性能と省電力性能を備えています。そしてX86C
 PUとして世界初のAIエンジン搭載CPUとして登場したAMD Ry
 zen ™ プロセッサ AI。進化を続けるAMDのCPUについてご
 紹介いたします。\n\n\n H3C Japan Technologies合同会社\n H3C
 は、ICT製品の企画・開発・製造・販売を行い、グロー
 バル市場においてトップ3*に入るNW機器メーカーです。
 デジタルトランスフォーメーションを念頭においたデ
 ジタル製品やソリューションを提供するリーディング
 カンパニーの1社です。* Source: Gartner Overall Enterprise Netwo
 rk Equipment Market\, Worldwide\, 4Q22\n\n\nSCSK株式会社\nFortinet社
 製品より次世代ファイヤーウォール FortiGateなどのネッ
 トワークセキュリティ製品をご紹介いたします。\n\n\n
 エクイニクス・ジャパン株式会社\nハイブリッド・マ
 ルチクラウドやガバメントクラウドに対応する接続サ
 ービスを提供しています！この度、エクイニクス・ジ
 ャパンではTD SYNNEX様とのパートナーシップのもと、日
 本市場におけるデータセンターサービスのディストリ
 ビュータービジネスを開始いたしました。Equinix Fabric®
 を活用し、各地域のエクイニクスから世界中のクラウ
 ドへの接続を効率化、ハイブリッド・マルチクラウド
 接続の最適化を実現できます。さらにはガバメントク
 ラウドに対応した柔軟性のある接続サービスを提供。
 自治体様にあわせたオーダメイドなクラウド接続に加
 え、運用管理補助事業者様にも最適な、運用・保守に
 ついても（マルチクラウド対応の） ネットワーク運用
 管理補助業務も提供します。\n\n\nエムオーテックス株
 式会社\nサイバーセキュリティのトップブランドを目
 指しMOTEXの全プロダクト・サービスを「LANSCOPE」へ統一
 しました。従来のエンドポイントにおけるIT資産管理
 ・情報漏洩対策・ウイルス対策はもちろんのこと、新
 たに総合的なセキュリティ診断・コンサルティングの
 ご提供が可能になりました。パワーアップした「LANSCOP
 E」で、お客さまが抱えるサイバーセキュリティの課題
 解決を支援します。\n\n\nエルゴトロンジャパン株式会
 社\nワークフローが絶えず変化する医療現場のニーズ
 に対応できる幅広いエルゴトロンのヘルスケア製品か
 ら、スリムながら頑丈なつくりで最大9.1kgまでの大型AI
 OやモニターをサポートするCareFit™ Slim LCDカートと、
 カートに付属させることでPCやモニターの電源を切ら
 さない運用を可能とするLiFeKinnexバッテリーシステムを
 展示します。また、長年のベストセラーであるモニタ
 ーアームを展示します。\n\n\n沖電気工業株式会社\n業
 界唯一の長期無償サービスである、プリンターブラン
 ドCOREFIDOを展示いたします。\n\n\nQNAP株式会社\nQNAPのス
 トレージ製品をご紹介いたします。ランサムウェア対
 策に有効なAirGap+、LTOテープへのデータアーカイブとい
 ったソリューションを中心にご紹介させていただきま
 す。\n\n\nグーグル合同会社\nGoogle の Gemini は、AIによる
 業務効率化と革新的なソリューションを提供。データ
 活用からコミュニケーションまで、ビジネスの可能性
 を広げます。ChromeOS は企業セキュリティを強化。ゼロ
 トラストセキュリティとリモートワークの安全性を実
 現します。\n\n\nGMOグローバルサイン株式会社\n企業の
 デジタル業務推進を強力にサポートするサービスをご
 案内しています。・製品：「電子印鑑GMOサイン」★導
 入企業数350万社突破！始めやすい電子契約サービスペ
 ーパーレス化による印紙税などのコスト削減や契約業
 務の効率化、権限設定や閲覧制限といった機能により
 ガバナンス強化も可能となります。 \n\n\n株式会社ジ
 ェイドコーポレーション\n＜EPOS製品について＞EPOS製ヘ
 ッドセットは周囲の雑音を大幅に軽減し、独自の技術
 「BrainADAPT」で脳に負担（ストレス）を与えない音声を
 提供することで、使用者のストレス軽減、記憶力の向
 上をもたらす製品でございます。ノイズキャンセリン
 グ機能で、快適な音声を届けることはもちろん、使用
 者のストレス軽減という健康面にも目を向けてコール
 センターや、オフィスにご提案できる製品です。\n\n\nj
 injer株式会社\nクラウド型人事労務システム「ジンジャ
 ー」シリーズの提供。勤怠管理・給与計算・人事労務
 など、人事労務業務の効率化を支援するクラウドサー
 ビスです。人事労務に関わるすべてのデータをジンジ
 ャーの「1つのデータベース」に集約し、一気通貫で業
 務を効率化・データ活用することができます。\n\n\nス
 ターテック・ドットコム・ジャパン株式会社\nITプロフ
 ェッショナル向け製品のご紹介。\n\n\nスプラッシュト
 ップ株式会社\n在宅勤務や外出先から、会社のPCやシス
 テムに簡単にアクセスでき、IT部門による遠隔サポー
 トにも活用されています。導入のしやすさ・高いセキ
 ュリティ・安定したパフォーマンスが評価され、全世
 界で3\,000万ユーザー、日本でも多くの企業や教育機関
 に採用されています。\n\n\nソースネクスト株式会社\n
 翻訳機「ポケトークS2」、AI議事録「AutoMemo」、360度Web
 カメラの「Meeting Owl」などのIoT製品のほか、安価で買
 い切りのPDF編集ソフト「いきなりPDF」、オフラインで
 使える翻訳ソフト「AI本格翻訳」など、AIを活用した業
 務効率化ツールを多数展示予定です。\n\n\n株式会社ダ
 イレクトクラウド\n高度なセキュリティ・高い利便性
 ・ユーザー数無制限を兼ね備えた法人向けクラウドス
 トレージサービス。\n\n\nチェック・ポイント・ソフト
 ウェア・テクノロジーズ株式会社\nDX化が進む企業にお
 いて、システムの脆弱性や未知の脅威への対策は喫緊
 の課題となっています。Check Pointのソリューションを
 活用することで、これらのセキュリティリスクを効果
 的に解決し、安全なIT環境を実現します。\n\n\n株式会
 社ディー・オー・エス\n「IT資産管理ツールSS1シリーズ
 」お客さまの声から生まれ、運用者の使いやすさをと
 ことん重視して開発された顧客満足度No.1（※）のIT資
 産管理ツールです。デバイスの使用制限やセキュリテ
 ィパッチの適用管理など、セキュリティ対策としても
 お役立ていただけます。また各種の収集機能を活用し
 て従業員の労務管理をおこなうことも可能です。※ITre
 viewカテゴリーレポート『IT資産管理ツール』『ログ管
 理システム』（2025 Winter）\n\n\nTD SYNNEX株式会社　教育
 事業本部\nAI PCによる教育現場改革のご提案やゼロトラ
 スト、SSO、多要素認証による校務DXソリューションの
 ご紹介。\n\n\nTD SYNNEX株式会社　サービスソリューショ
 ン\nITADサービスをメインとしたサービス展示（キッテ
 ィングサービスもご紹介予定）。\n\n\nTD SYNNEX株式会社
 　DestinationAI\nDestination AIとは、TDSYNNEXがご提案するAI活
 用のロードマップです。TD SYNNEX取扱いのData＆AIソリュ
 ーションの紹介を中心に展示します。主な商品：neoAI
 、H2O.ai、GitLab、Seagate、NVIDIA\n\n\nTD SYNNEX株式会社New Produ
 ct Team\n TD SYNNEXの新規仕入先メーカーの商品を展示い
 たします。\n\n\nティーピーリンクジャパン株式会社Tp-L
 ink\nライセンス費用かからないルーター、AP、スイッチ
 の集中管理と無料で使えるカメラとNVRの複数管理ソフ
 トウェア。\n\n\n株式会社テクノアート\n決定次第ご案
 内いたします。\n\n\nデル・テクノロジーズ株式会社\n
 デル・テクノロジーズの最新PCやサーバー・ストレー
 ジソリューションをご紹介します！\n\n\n株式会社日本H
 P\n働き方さまざまな働き方をサポートするPolyのヘッド
 セットやビデオ会議デバイス、クリエイティブワーク
 や仕事を支える世界で最もパワフルなウルトラモバイ
 ル次世代AIPC、生成AIのローカル活用の切り札となるHP
 ワークステーションを展示いたします。生成AIに関し
 てはブースにてデモンストレーションを実施いたしま
 す。\n\n\n 株式会社日本HP（Poly）\n 働き方さまざまな
 働き方をサポートするPolyのヘッドセットやビデオ会議
 デバイス、クリエイティブワークや仕事を支える世界
 で最もパワフルなウルトラモバイル次世代AIPC、生成AI
 のローカル活用の切り札となるHPワークステーション
 を展示いたします。生成AIに関してはブースにてデモ
 ンストレーションを実施いたします。\n\n\n株式会社ネ
 クストセット\nMicrosoft 365 アドオンラインナップ、生成
 AI活用のサテライトAIもご紹介します。\n\n\nバラクーダ
 ネットワークスジャパン株式会社\nランサムウェア対
 策としてのバックアップアプライアンス及び、DDOS攻撃
 などからWebサーバーを守るWAF製品のご紹介をさせて頂
 きます。\n\n\n東日本電信電話株式会社\n業務課題を解
 決するための「手間をかけずにDX化」を実現するソリ
 ューションをご紹介します。中小企業が直面する「セ
 キュリティ対策を含むシステム対応」や「従業員の稼
 働増加と業務効率化」といった課題に対し、手間をか
 けずにDX化を実現するソリューションを提供します。
 第3のセキュリティ対策製品「NetStable」や、カスハラ対
 策に適した自動録音機能、オフィスへの営業電話の自
 動ブロックを有した製品「トビラフォンBiz」、そして
 業務効率化を支援するSaaSサービス「おてがるシリーズ
 」など、多角的なアプローチでご紹介します。\n\n\n日
 本ヒューレット・パッカード合同会社\nHPE注力プロダ
 クトおよびソリューションを展示予定です。\n\n\nBroadco
 m Inc.\nSymantec Endpoint SecurityやCarbon Blackのエンドポイント
 セキュリティ製品が提供する、リアルタイムで脅威を
 検知・防御する高度なセキュリティ機能やそれぞれの
 製品のメリットなどをご紹介します。\n\n\n フィール
 ドスリー株式会社\nフィールドスリーでは飲食店、ホ
 テル、美容室、建築現場などに特化したDXソリューシ
 ョンとして業務用タブレットを自社で開発し販売して
 います。ラインナップとしてはAndoroid　14を搭載した非
 接触充電対応のクレードル式10.1インチタブレットや Wi
 ndows 11Pro を搭載し、インテルN97　CPUを採用した長期供
 給対応可能な10.1インチタブレットを展開しております
 。なお、具体的な採用実績として、全国の美容室にお
 けるサイネージ端末としてのご利用や大手企業様の情
 報入力端末として幅広くご利用頂いております。展示
 会ではそれらの事例を中心にお客さまにおける課題に
 マッチしたタブレットソリューションをご紹介する予
 定です。\n\n\nHornetsecurity株式会社\n重要なメールが迷惑
 フォルダに入ってしまったり、届いていないと指摘さ
 れたりしたことはありませんか？それは、メール送信
 者としての「信頼性」の証明が足りていない可能性が
 あります。弊社ブースでは、2025年1月に提供を開始し
 た、メールを安全に、確実に届けるための「DMARC」「DK
 IM」「SPF」を導入・管理する「DMARC Manager」を紹介しま
 す。是非お立ち寄りください。\n\n\n日本マイクロソフ
 ト株式会社（OEM）\n決定次第ご案内いたします。\n\n\n
 日本マイクロソフト株式会社 Microsoft Surface\nMicrosoft Surf
 ace の最新の Copilot+PC の展示。\n\n\n 日本マイクロソフ
 ト株式会社 Microsoft CSP\n 決定次第ご案内いたします。\
 n\n\nrakumo株式会社\nrakumoは、グループウェアの「Google Wo
 rkspace」とシームレスに連携するクラウド拡張ツールで
 す。\n\n\n株式会社ラネクシー\n内部脅威による情報漏
 洩対策と業務効率の向上を両立できる、ラネクシーの
 セキュリティソリューション。業務の無駄を削減し、
 セキュリティリスクを軽減することで、企業の生産性
 向上に貢献します。\n\n\n株式会社ラネット（株式会社
 シーテック）\n 最新技術を生かしたリン酸鉄リチウム
 イオンバッテリー「ポポフ」をご紹介します。ハイパ
 ワー、長寿命、安全性の高い「ポポフ」の可能性を体
 感してください。\n\n\nレノボ・ジャパン合同会社\n今
 話題のAIPC（Copilot＋PC）、CPUにQualcomm Snapdragon®X シリー
 ズプロセッサーを搭載したThinkPad T14s Gen 6 Snapdragonを展
 示、他PC周りの周辺機器も展示しております。\n\n\n\n出
 展企業\n
LOCATION:グランドハイアット福岡 3階 ザ・グランド・ボー
 ルルームB・C 〒812-0018　福岡県福岡市博多区住吉1丁目2
 -82
URL:https://techplay.jp/event/982860?utm_medium=referral&utm_source=ics&utm
 _campaign=ics
END:VEVENT
END:VCALENDAR
