BEGIN:VCALENDAR
VERSION:2.0
PRODID:-//https://techplay.jp//JP
CALSCALE:GREGORIAN
METHOD:PUBLISH
X-WR-CALDESC:地方銀行・信用金庫を変えるインクルーシブ
 戦略― 高齢化・多文化・DX時代の新たな金融体験とは
X-WR-CALNAME:地方銀行・信用金庫を変えるインクルーシブ
 戦略― 高齢化・多文化・DX時代の新たな金融体験とは
X-WR-TIMEZONE:Asia/Tokyo
BEGIN:VTIMEZONE
TZID:Asia/Tokyo
BEGIN:STANDARD
DTSTART:19700101T000000
TZOFFSETFROM:+0900
TZOFFSETTO:+0900
TZNAME:JST
END:STANDARD
END:VTIMEZONE
BEGIN:VEVENT
UID:982952@techplay.jp
SUMMARY:地方銀行・信用金庫を変えるインクルーシブ戦略
 ― 高齢化・多文化・DX時代の新たな金融体験とは
DTSTART;TZID=Asia/Tokyo:20250717T160000
DTEND;TZID=Asia/Tokyo:20250717T170000
DTSTAMP:20260422T154455Z
CREATED:20250625T233538Z
DESCRIPTION:イベント詳細はこちら\nhttps://techplay.jp/event/98295
 2?utm_medium=referral&utm_source=ics&utm_campaign=ics\n\n概要\n高齢
 化や人口流出、デジタル格差など、構造的な課題に直
 面する地方銀行・信用金庫。地方銀行や信用金庫が、
 従来の“誰もが使えるようで実は偏っている”金融サ
 ービスを見直し、多様な生活者の視点を取り込む取り
 組みが始まっています。本セミナーでは、高齢者や外
 国人などを取り巻く生活環境の変化と、それに対応す
 るUX設計、非対面チャネルの改善など、インクルーシ
 ブデザインの考え方を活用した地域金融の実践事例を
 紹介します。またDXを進める中で「使えない人が増え
 る」という矛盾にどう立ち向かうか、先行事例を交え
 ながら読み解きます。金融という日常インフラにおい
 て、なぜ今この視点が必要なのか、そして地方銀行・
 信用金庫がこれからの顧客基盤をどう築いていくか、
 その視点を見直すきっかけとなる内容をお届けします
 。\n\nタイムスケジュール\n\n\n\n時間\n内容\n\n\n\n\n16:00 -
  16:10\nオープニングトーク / CULUMU のご紹介\n\n\n16:10 - 17
 :00\nセミナー / 地方銀行・信用金庫を変えるインクル
 ーシブ戦略― 高齢化・多文化・DX時代の新たな金融体
 験とは\n\n\n\n※ 当日予告なく時間配分・内容が変更に
 なる可能性がございます。\n登壇者\n\nデザインスタジ
 オCULUMU / CEO室 室長\n佐藤 徹（さとう とおる）\n株式会
 社STYZにて、SDGs・CSR・パーパスを軸とした企業向けコ
 ンサルティングや新規事業開発支援を手掛ける。医療
 ・福祉、文化・芸術継承など多岐にわたる非営利団体
 の運営支援にも従事し、幅広い視点でクライアントの
 課題解決に取り組む。 インクルーシブデザインスタジ
 オCULUMUでは、調査研究・新規事業開発、コンテンツマ
 ーケティングや啓発に従事している。\n\nこんな方にお
 すすめ\n\n自社製品のアップデートを、多様な視点を取
 り入れて実践したい方\nユーザーと共創してプロダク
 ト開発することに興味がある方\n新規事業、プロダク
 ト・サービス開発、イノベーションに関わる方\n現在
 のプロダクト・サービスに新たな視点を必要としてい
 る方\n\nインクルーシブデザインスタジオCULUMUについて
 \nインクルーシブデザインスタジオCULUMUは、高齢者や
 障がい者、外国人やマタニティ、Z世代・α世代など多
 様なユーザー、当事者と共創するインクルーシブデザ
 インスタジオです。ビジネスコンサルタント、UXデザ
 イナー、UIデザイナー 、プロダクトマネージャー、エ
 ンジニアなど多数スペシャリストが在籍しているので
 、さまざまな事業開発の支援が可能です。また5\,000団
 体以上の非営利団体との繋がりを通じた希少なN=1が多
 く集まる調査パネルを基に、これまでリーチが困難で
 あった人々を含む多様な人々とマッチングと定性的な
 調査が提供可能です。当サービスは公益財団法人日本
 デザイン振興会より「NPOやNGOと連携し、当事者との距
 離が近く洗練されたプロダクト開発の手助けになる」
 と評価いただき、「2024年度グッドデザイン賞」を受賞
 しました。これまでデザイン＆開発案件で大手企業か
 らスタートアップまで過去100件以上の幅広い取引実績
 があります。また、NPO・研究機関など多様なユーザー
 を支援するD&Iパートナーや開発パートナーも豊富で、
 従来の事業開発のみならず、社会課題への専門性やD&I
 に取り組むプロジェクトも豊富な経験があります。\n
 参加費\n無料\n注意事項\n\n欠席される場合は、お手数
 ですが速やかにキャンセル処理をお願い致します。\n
 無断キャンセルや欠席が続く場合、次回以降の参加を
 お断りさせていただく場合がございます。\n
LOCATION:
URL:https://techplay.jp/event/982952?utm_medium=referral&utm_source=ics&utm
 _campaign=ics
END:VEVENT
END:VCALENDAR
