BEGIN:VCALENDAR
VERSION:2.0
PRODID:-//https://techplay.jp//JP
CALSCALE:GREGORIAN
METHOD:PUBLISH
X-WR-CALDESC:GA4の「探索レポート」の使い方を学ぶ！アク
 セス解析セミナー
X-WR-CALNAME:GA4の「探索レポート」の使い方を学ぶ！アク
 セス解析セミナー
X-WR-TIMEZONE:Asia/Tokyo
BEGIN:VTIMEZONE
TZID:Asia/Tokyo
BEGIN:STANDARD
DTSTART:19700101T000000
TZOFFSETFROM:+0900
TZOFFSETTO:+0900
TZNAME:JST
END:STANDARD
END:VTIMEZONE
BEGIN:VEVENT
UID:982985@techplay.jp
SUMMARY:GA4の「探索レポート」の使い方を学ぶ！アクセス
 解析セミナー
DTSTART;TZID=Asia/Tokyo:20250710T130000
DTEND;TZID=Asia/Tokyo:20250710T140000
DTSTAMP:20260420T144228Z
CREATED:20250626T060145Z
DESCRIPTION:イベント詳細はこちら\nhttps://techplay.jp/event/98298
 5?utm_medium=referral&utm_source=ics&utm_campaign=ics\n\n\n\n本セミナ
 ーの参加にはDoorkeeperでのお申込み後、開催10分前まで
 にセミナー申し込みフォームへ必要事項をご記入いた
 だく必要がございます。申し込みフォームへのリンク
 は申し込み完了メールに記載しております。\n\n\n\n\n\n\
 n\n\n\n\n\n直近開催回の参加者の声\n\n\n\n\n\n\n\n\n\n\n\n※
 講演内容は予告なく変更される場合がございます。予
 めご了承くださいますようお願いします。\n※競合に
 あたる企業の方の申し込みはお断りをさせて頂いてお
 ります。ご了承ください\n※本セミナーは事前に録画
 した内容を配信します。\n\n参加費\n\n無料\n\n開催概要\
 n\n本セミナーはZoomでの配信となります。\n本セミナー
 の参加にはDoorkeeperでのお申込み後にセミナー申し込み
 フォームへ必要事項をご記入いただく必要がございま
 す。申し込みフォームへのリンクは申し込み完了メー
 ルに記載しております。\n\nセミナー参加URLは開催前日
 に（no-reply@zoom.us）より、当日朝8:00と開催10分前には（
 seminar@symmetric.co.jp）よりお送りしています。\n\n※セミ
 ナー登録フォームへ必要事項を記入済みで、参加URLが
 配信されていない場合はお手数ですが「お名前」「メ
 ールアドレス」を明記の上、シンメトリックセミナー
 事務局(seminar@symmetric.co.jp)までご連絡ください。\n\n注
 意事項\n\nリクルーティング、勧誘など、採用目的での
 イベント参加はお断りしております。\n\n個人情報の取
 り扱いについて\n\n申し込み時にご提供いただいた情報
 は、イベント受付管理や各種ご案内（サービス・イベ
 ント等）に利用させていただきます。\n\n主催社につい
 て\n\n株式会社シンメトリック(https://www.symmetric.co.jp)\n\n
 SEOコンサルティングやWEBサイト分析ツール「アナトミ
 ー」の提供など、Webマーケティング支援全般を手がけ
 ています。SEO対策の専門家として、Googleアナリティク
 スやサーチコンソールのデータからサイトの課題点を
 発見し、改善案の策定を支援するためのセミナーを定
 期開催しています。\n​\nシンメトリックが主催するSEO
 セミナーには、年間で合計2\,000名以上の方が参加して
 います。\n\nwebサイト分析ツール『アナトミー』(https://
 siteanatomy.com/)\n\nアナトミーはGA4とサーチコンソールを
 統合して、データを可視化します。それぞれのツール
 のデータを集約することで、素早くデータにアクセス
 ができ、アクセス解析・SEO分析にかかる時間を短縮で
 きます。
LOCATION:オンライン
URL:https://techplay.jp/event/982985?utm_medium=referral&utm_source=ics&utm
 _campaign=ics
END:VEVENT
END:VCALENDAR
