BEGIN:VCALENDAR
VERSION:2.0
PRODID:-//https://techplay.jp//JP
CALSCALE:GREGORIAN
METHOD:PUBLISH
X-WR-CALDESC:東京：第2木曜日開催　オンライン/リアル【IT
 ・ブログ・WordPress・Chat-GPT】グループレッスン
X-WR-CALNAME:東京：第2木曜日開催　オンライン/リアル【IT
 ・ブログ・WordPress・Chat-GPT】グループレッスン
X-WR-TIMEZONE:Asia/Tokyo
BEGIN:VTIMEZONE
TZID:Asia/Tokyo
BEGIN:STANDARD
DTSTART:19700101T000000
TZOFFSETFROM:+0900
TZOFFSETTO:+0900
TZNAME:JST
END:STANDARD
END:VTIMEZONE
BEGIN:VEVENT
UID:983174@techplay.jp
SUMMARY:東京：第2木曜日開催　オンライン/リアル【IT・ブ
 ログ・WordPress・Chat-GPT】グループレッスン
DTSTART;TZID=Asia/Tokyo:20250814T190000
DTEND;TZID=Asia/Tokyo:20250814T220000
DTSTAMP:20260420T034205Z
CREATED:20250701T060147Z
DESCRIPTION:イベント詳細はこちら\nhttps://techplay.jp/event/98317
 4?utm_medium=referral&utm_source=ics&utm_campaign=ics\n\n🔴AI（Chat-GP
 T）で「ITが苦手」から「ITが面白い」にシフトする時
 間\n\nITがどうも苦手・・という方、ぜひご参加くださ
 い。\nものくろキャンプを主催している"ものくろ"こと
 大東信仁は、IT・ブログ・WordPress・Chat-GPTに精通し、\n
 わかりやすく教えることを得意としています。\n\n苦手
 だからこそ、最新の機能やAI（Chat-GPT）におかませする
 方法もお伝えしていきます。\n\n🔴ブログを書くモチ
 ベーションにしよう\n\nブログ、滞っていませんか？\n
 書きたいと思っていながらも、後回しにしていません
 か？\nブロググループレッスンに参加して「書く」と
 いうことをもう一度意識してみませんか。\n\n🔴”仲
 間に合ってブログの話しをしたい”\n\n”ちょうど出張
 するタイミングと合うのでリアル参加したい”\nでもOK
 ☆彡\nやっぱり会ってコミュニケーションをすること
 は、元気が出てくる源にもなります。\n\nそして、\n・
 ブログの疑問や\n・文章をどう書くといい？\n・記事を
 書くのが止まった\n・書いているけど、実は、、\nを一
 緒に感じて、前に進んでいきましょう！\n\n🔴WordPress
 の質問もOKブログやホームページをカッコ良く！\n\nWord
 Pressをもっとかっこ良くしたい、\nWordPressでホームペー
 ジを作っているけどもっとこうしたい、\nというお悩
 みや疑問を持っている方もぜひご参加ください。\n\n最
 新トレンドや、便利機能もお伝えします。\nぜひ、な
 〜んだこんなに簡単にできるんだ！というのを体験し
 てください。\n\n🔴オーダーメイドのカリキュラム\n\n
 少人数・グループレッスンです。\n特にコレといった
 カリキュラムはありません。\nその場その場の質問に
 応じて進んでいく内容になっています。\nあなたの「
 疑問」そのものがカリキュラムとなります。\n\nもちろ
 ん、疑問質問が無くても一緒にいる”空気”を感じる
 ためにご参加でもOKです。\n\n🔴チケットは2種類\n\nチ
 ケットは2種類をご用意しております。\n1)単発チケッ
 ト 11\,000円(消費税込)\n2)継続チケット   9\,900円(消費税
 込)\n継続チケットは、初回は本チケットをご購入頂き
 ます。その後毎月ペイパルにて自動支払となります。\
 nお手続きの方法は、お申込み後お知らせいたします。
 \n「平日木曜 東京ブロググループレッスン」は毎月に
 第2木曜日に開催予定です。継続チケットは年間13\,200
 円お得！\n木曜日のブロググループレッスンに参加出
 来ない時は、毎月第4金曜日開催のグループレッスンへ
 も振替可能です。\n\n🔴グループセッションは3部構成\
 n\n\n参加者さんからの個別質問にお答え\n毎月テーマを
 決めてじっくり学ぶ\nブログ記事に相互フィードバッ
 クで高め合う\n\n\nグループレッスンについて雰囲気は
 こちらの記事をご覧ください。\n\n🔴ご参加のお声\n\n
 ご参加いただいた方からブログでご紹介いただきまし
 た！\n\n\nものくろキャンプ グループセッション初参加
 して超やる気になった。初心者でも安心。 | Ayami Yamamot
 o\nブロググループレッスンをオススメする３つの理由
 【ものくろキャンプ】〜私たちのブログという小さな
 卵が孵化してきたわけ | しあわせ満ちる ♪\nものくろ
 キャンプ開催報告：2月の東京グループレッスン！チー
 ム江戸前 | さゆりっぷ\n\n\n🔴お持ち物リスト\n\n□ 【
 重要】レンタルサーバーアカウント・パスワード メー
 ル\n □ ノートPC もしくは iPadなどのタブレット\n □ 電
 源\n □ 筆記用具\n □ リラックスできる服装でお越し
 ください\n\n電源と無線LANは使い放題です！\n\n🔴キャ
 ンセルポリシー\n\nお客様のご都合によりキャンセルを
 される場合のキャンセル料は以下の通りです。\n\n\n20
 日前〜8日前：20%\n7日前〜2日前：50%\n前日・当日：100%\n
 \n\n🔴ご参加上のルール\n\n参加お申し込みされた場合
 、下記の規約に同意したものとみなさせていただきま
 す。ご理解よろしくお願いします。\n\nワークショップ
 参加規約 | ものくろキャンプ
LOCATION:キッチンスタジオ Kitchen Bee 東京都台東区浅草橋1-
 8-6 KIRIKU BOX 202
URL:https://techplay.jp/event/983174?utm_medium=referral&utm_source=ics&utm
 _campaign=ics
END:VEVENT
END:VCALENDAR
