BEGIN:VCALENDAR
VERSION:2.0
PRODID:-//https://techplay.jp//JP
CALSCALE:GREGORIAN
METHOD:PUBLISH
X-WR-CALDESC:各社の実サービスを支えるMLモデル開発者勉強
 会～各社の取り組みや課題から学ぶ会～
X-WR-CALNAME:各社の実サービスを支えるMLモデル開発者勉強
 会～各社の取り組みや課題から学ぶ会～
X-WR-TIMEZONE:Asia/Tokyo
BEGIN:VTIMEZONE
TZID:Asia/Tokyo
BEGIN:STANDARD
DTSTART:19700101T000000
TZOFFSETFROM:+0900
TZOFFSETTO:+0900
TZNAME:JST
END:STANDARD
END:VTIMEZONE
BEGIN:VEVENT
UID:983208@techplay.jp
SUMMARY:各社の実サービスを支えるMLモデル開発者勉強会
 ～各社の取り組みや課題から学ぶ会～
DTSTART;TZID=Asia/Tokyo:20250820T193000
DTEND;TZID=Asia/Tokyo:20250820T210000
DTSTAMP:20260422T182252Z
CREATED:20250701T120132Z
DESCRIPTION:イベント詳細はこちら\nhttps://techplay.jp/event/98320
 8?utm_medium=referral&utm_source=ics&utm_campaign=ics\n\n各社の実サ
 ービスを支えるMLモデル開発者勉強会～各社の取り組
 みや課題から学ぶ会～\nITテクノロジーに関する様々な
 職種やテーマで「他社・他の人ってどうしてるの?」を
 学ぶ、 TECH Streetコミュニティ恒例の事例・知見共有勉
 強会。\n実サービスの中で本当に価値を生み出す機械
 学習モデルとは、どのように開発・運用されているの
 か？今回は、推薦、時系列予測、異常検知、画像分類
 など、多様なMLモデルを実プロダクトで活用している
 企業の開発者が登壇し、「実装上の工夫」「運用で見
 えてきた課題」「事業へのインパクト」など、現場の
 リアルな知見を共有します。\n主催／IT・テクノロジー
 人材のためのコミュニティTECH Streetパーソルキャリア
 株式会社https://www.tech-street.jp/\n\n\n本イベントは後日イ
 ベントレポートを公開いたします。\n公式Webサイトに
 読者登録いただくと、イベントレポートの更新通知が
 早く届きます。読者登録／はてなIDをお持ちの方はぜ
 ひご登録ください。\nイベントはZoomのミーティング機
 能を利用して開催予定です。\nSNS・イベントレポート
 等にお名前やお顔が映り込む可能性がございます。映
 り込みがNGの方は、ビデオオフやZoom表示名変更の上で
 ご参加ください。\nイベントの様子を録画いたします
 。レポート記事作成用の記録のために利用いたします
 。\nイベント動画を公開する場合は、参加者の情報（
 お名前やお顔）が映らないよう編集いたします。\nイ
 ベント中にいただいた質問内容はイベントレポートに
 掲載いたします。不適切なコメントやイベント内容に
 全く関係のないものについては除外いたします。\nイ
 ベント参加用URLについて参加申込者のみに表示される
 「申込者への連絡」エリアをご確認ください。\n\nタイ
 ムスケジュール\n\n\n\n時間\n内容\n\n\n\n\n19:30〜19:40\nオ
 ープニング\n\n\n19:40〜21:00\n転職希望者と求人のマッチ
 ングモデル開発について～これまでと今後の展望～パ
 ーソルキャリア株式会社浦山 昌生さんMLによって自己
 進化するFAQシステムの話エムスリー株式会社鴨田 将来
 さん質問回答コーナー\n\n\n21:00\nイベント終了\n\n\n\n※ 
 当日予告なく時間配分・内容が変更になる可能性がご
 ざいます。\n登壇者\n\n浦山 昌生 (Masao Urayama)\nパーソル
 キャリア株式会社シニアデータアナリスト\nAI ベンダ
 ーでデータサイエンティスト兼PL（プロジェクトリー
 ダー）として機械学習モデルの開発やデータ分析の受
 託業務に従事。それまでは、ネットワークエンジニア
 、情報セキュリティエンジニアとして顧客の課題解決
 に対応。2021年10月にパーソルキャリアに入社し、推薦
 モデルの開発、情報検索システムの開発等、先進的な
 データの活用を実践。\n\n\n\n鴨田 将来（Masayuki Kamoda）\
 nエムスリー株式会社AI・機械学習エンジニア\n自動運
 転向け機械学習システムや大量文書RAGシステムの構築
 などを経験。2024年にM3にJoin。主に製薬企業向け機械学
 習システムを担当\n\nファシリテーター\n\nチャラ電Mitz\
 nTECH Streetコミュニティエバンジェリスト株式会社コミ
 ュカル 代表取締役\n「コミュニティ × メディア × テ
 クノロジー」で日本を盛り上げるべく活動。\n元シス
 テムエンジニアでエンジニア歴は10年以上。エンジニ
 ア上がりのコミュニティプロデューサーとして様々なI
 TコミュニティやITイベントを主催・プロデュース。\n\n
 テック系コミュニティを中心に常時20以上のコミュニ
 ティを運営しています\n\n参加対象\n・実サービスへの
 機械学習モデル導入・運用に関心のあるエンジニア・
 推薦・異常検知・時系列予測など、応用モデルの実践
 知を深めたい方・MLを用いたプロダクト開発に携わる
 データサイエンティストやPdM・その他、本テーマに興
 味関心がある方\n※実務レベルのセッションが中心の
 ため、基礎知識や初級編の内容は含まれておりません
 。\nイベントレポート\n読者登録いただくと、イベント
 レポートの更新通知が早く届きます。はてなIDをお持
 ちの方はぜひご登録ください。\n読者登録\n公式SNS\n■X
 ■Facebookページ\n参加費\n無料\nハッシュタグ\n#テック
 ストリート\n注意事項\n\n参加を辞退する場合は、詳細
 ページより申込のキャンセルをお願い致します。\n配
 信映像や音声は各自の通信環境に依存します。なるべ
 く通信環境の良い状態で視聴ください。\n\nTECH Streetに
 ついて\nTECH Streetは、さまざまなテーマで事例や知見を
 学ぶ IT・テクノロジー人材のための勉強会コミュニテ
 ィです。\n\n主催\n主催／IT・テクノロジー人材のため
 のコミュニティTECH Streethttps://www.tech-street.jp/パーソル
 キャリア株式会社
LOCATION:
URL:https://techplay.jp/event/983208?utm_medium=referral&utm_source=ics&utm
 _campaign=ics
END:VEVENT
END:VCALENDAR
