BEGIN:VCALENDAR
VERSION:2.0
PRODID:-//https://techplay.jp//JP
CALSCALE:GREGORIAN
METHOD:PUBLISH
X-WR-CALDESC:【8/6オンライン開催】  日本IBM　成長戦略統括
 事業部 アプリケーション・オペレーションズ事業  キ
 ャリア採用セミナー
X-WR-CALNAME:【8/6オンライン開催】  日本IBM　成長戦略統括
 事業部 アプリケーション・オペレーションズ事業  キ
 ャリア採用セミナー
X-WR-TIMEZONE:Asia/Tokyo
BEGIN:VTIMEZONE
TZID:Asia/Tokyo
BEGIN:STANDARD
DTSTART:19700101T000000
TZOFFSETFROM:+0900
TZOFFSETTO:+0900
TZNAME:JST
END:STANDARD
END:VTIMEZONE
BEGIN:VEVENT
UID:983259@techplay.jp
SUMMARY:【8/6オンライン開催】  日本IBM　成長戦略統括事
 業部 アプリケーション・オペレーションズ事業  キャ
 リア採用セミナー
DTSTART;TZID=Asia/Tokyo:20250806T190000
DTEND;TZID=Asia/Tokyo:20250806T200000
DTSTAMP:20260423T084839Z
CREATED:20250702T113554Z
DESCRIPTION:イベント詳細はこちら\nhttps://techplay.jp/event/98325
 9?utm_medium=referral&utm_source=ics&utm_campaign=ics\n\n8/6（水）オ
 ンライン開催】日本IBMキャリアセミナー\n成長戦略統
 括事業部 アプリケーション・オペレーションズ事業紹
 介\n本年4月1日に日本IBM コンサルティング事業本部は
 組織改編を行い、新たに成長戦略統括事業部を創設致
 しました。今回は、成長戦略統括事業部の組織の１つ
 である、アプリケーション・オペレーションズ事業に
 おけるキャリアセミナーを開催いたします。 当日は
 現在のIBMのビジネス戦略からアプリケーション・オペ
 レーションズ事業のミッション、各ポジションのご紹
 介や求めている人材などについてざっくばらんにお話
 をさせていただきます。 当セミナーは、選考は含ま
 れておりません。まだご転職の意向が固まっていない
 方も、どうぞお気軽に参加ください。\nみなさまのご
 参加を心よりお待ちしております！\n登壇者\n\n井上　
 裕美\n取締役執行役員コンサルティング事業本部 成長
 戦略統括事業部 アプリケーション・オペレーションズ
 事業担当\n2003年日本アイ・ビー・エム株式会社入社。
 官公庁業界を中心としたお客様のコンサルティング、
 システム開発、保守運用に携わる。 官公庁業界のリー
 ダーを経て、2020年7月より日本アイ・ビー・エム株式
 会社 執行役員および日本アイ・ビー・エムデジタルサ
 ービス株式会社（IJDS）代表取締役社長に就任。 2022年
 日本アイ・ビー・エム取締役に就任。2025年1月日本IBM
 取締役執行役員就任。アウトソーシング、開発保守、
 運用保守、子会社変革などを手掛けるHybrid Cloud Managemen
 t担当。2025年4月Application Operations事業担当。専門領域は
 基幹系およびDXに関わるシステム全般、プロジェクト
 マネジメント。若手技術者や女性技術者コミュニティ
 など、様々なコミュニティ活動を実施し、プライベー
 トでは二児の母。\nその他、各部門リーダーも登壇致
 します。\n\nタイムスケジュール\n\n\n\n\n時間\n内容\n\n\n
 \n\n18:45〜\n受付開始\n\n\n19:00〜19:03\nオープニング\n\n\n19
 :03〜19:20\nコンサルティング事業本部アプリケーション
 オペレーションズ事業紹介\n\n\n19:20〜19:45\n各組織リー
 ダーによるポジション紹介\n\n\n19:45〜19:55\n質疑応答\n\n
 \n19:55〜20:00\nクロージング\n\n\n\n※ 当日予告なく時間
 配分・内容が変更になる可能性がございます。\n【募
 集ポジション】\n・エージェントAI for アプリケーショ
 ンマネジメントサービス・開発の高度化・自動化・運
 用の高度化・自動化・Zero Ops・SAP\,Oracle\,Salesforceの保守
 サービス・プラットフォームエンジニアリング（マル
 チクラウド）\nIT戦略コンサル/PM/インフラアーキテク
 ト/インフラスペシャリスト等\n参加費\n無料\nハッシュ
 タグ\n#techplayjp
LOCATION:
URL:https://techplay.jp/event/983259?utm_medium=referral&utm_source=ics&utm
 _campaign=ics
END:VEVENT
END:VCALENDAR
