BEGIN:VCALENDAR
VERSION:2.0
PRODID:-//https://techplay.jp//JP
CALSCALE:GREGORIAN
METHOD:PUBLISH
X-WR-CALDESC:【プロンプトも公開！】2025年最新生成AIを活
 用したSEO記事作成セミナー開催！
X-WR-CALNAME:【プロンプトも公開！】2025年最新生成AIを活
 用したSEO記事作成セミナー開催！
X-WR-TIMEZONE:Asia/Tokyo
BEGIN:VTIMEZONE
TZID:Asia/Tokyo
BEGIN:STANDARD
DTSTART:19700101T000000
TZOFFSETFROM:+0900
TZOFFSETTO:+0900
TZNAME:JST
END:STANDARD
END:VTIMEZONE
BEGIN:VEVENT
UID:983333@techplay.jp
SUMMARY:【プロンプトも公開！】2025年最新生成AIを活用し
 たSEO記事作成セミナー開催！
DTSTART;TZID=Asia/Tokyo:20250710T150000
DTEND;TZID=Asia/Tokyo:20250710T154500
DTSTAMP:20260425T190855Z
CREATED:20250703T145813Z
DESCRIPTION:イベント詳細はこちら\nhttps://techplay.jp/event/98333
 3?utm_medium=referral&utm_source=ics&utm_campaign=ics\n\n▌セミナー
 概要\n2025年最新検索上位を獲得するためのSEO記事作成
 方法を徹底解説！\nSEO記事を書くうえで、適切なキー
 ワードの選定、検索意図を踏まえた構成作成、読みや
 すく訴求力のあるライティングは欠かせません。本セ
 ミナーでは、最新のSEOトレンドを押さえながら、検索
 エンジンに評価されやすい記事作成のポイントを学び
 ます。\nさらに、今話題の生成AIを活用し、記事作成の
 効率を大幅に向上させる手法もご紹介！SEOライティン
 グ初心者の方はもちろん、さらに質の高い記事を作り
 たい方にも役立つ内容となっています。\n【お申込み
 はこちら】https://allweb-consulting.co.jp/information/20250710_semin
 ar/\n＼このセミナーで学べること／✅ 効果的なキーワ
 ード選定のコツ✅ 検索上位を狙う記事構成案の作成方
 法✅ SEOに強いライティングテクニック✅ 生成AIを活用
 した記事作成の実践法\n▌講師紹介\n●江守 義樹 （株
 式会社ALL WEB CONSULTING 代表取締役社長）ネットショップ
 店長として出店から運営までを経験。EC出店から約1年
 で月商1\,000万円達成。2017年よりECサイト専門のコンサ
 ル会社にジョインし小規模～大規模サイトまで規模問
 わず数百サイト以上の支援を行う。2020年株式会社ALL WE
 B CONSULTINGを創業。WEBアナリストとして1\,000サイト以上
 のデータ分析を行ってきた知見を活用しWEBマーケティ
 ング全般のスペシャリストとして活動中\n▌株式会社AL
 L WEB CONSULTINGについて\nネットショップ・ECサイトの支
 援に特化したマーケティング会社です。戦略立案、サ
 イト解析などのECコンサルティングからWEB広告運用、SE
 O対策、SNSマーケティングなどの集客施策、サイト構築
 、LP制作などのWEB制作、ショップブランディングまでEC
 運営に関わることはすべてワンストップで行っており
 ます。また、楽天、Yahoo！、AmazonなどのECショッピング
 モールから自社ECサイトまで幅広く対応。過去1\,000サ
 イト以上のECサイトで売上向上支援、サイト分析を行
 っておりノウハウも豊富です。\n＜会社概要＞会社名
 ：株式会社ALL WEB CONSULTING所在地：東京都渋谷区恵比寿
 西２丁目１９−９代表者：代表取締役　江守 義樹URL 
 ：https://allweb-consulting.co.jp\n事業内容：-ネットショップ
 （ECサイト）の運営支援及びコンサルティング-ネット
 ショップ（ECサイト）運営支援ツールの開発・ご提供-
 ネットショップ（ECサイト）の運営代行-ECサイト制作-
 商品撮影・商品登録代行-SEO対策-広告運用代行-インフ
 ルエンサーマーケティング\n▌ 本件に関するお問合せ\
 n株式会社ALL WEB CONSULTINGセミナー運営事務局\nTEL：03-6276
 -8654（代表）MAIL：info@allweb-consulting.co.jpURL：https://allweb-
 consulting.co.jp
LOCATION:株式会社ビービット　オフィス内 〒100-0004 東京
 都千代田区大手町2-2-1 新大手町ビル10階 ※新大手町ビ
 ル10階へ行くのはビル正面口入って手前右のエレベー
 タ 　2基のみですので、ご注意ください
URL:https://techplay.jp/event/983333?utm_medium=referral&utm_source=ics&utm
 _campaign=ics
END:VEVENT
END:VCALENDAR
