BEGIN:VCALENDAR
VERSION:2.0
PRODID:-//https://techplay.jp//JP
CALSCALE:GREGORIAN
METHOD:PUBLISH
X-WR-CALDESC:「なぜ売上が伸び悩むのか？」カギはポジシ
 ョニング！マーケティング実践セミナー
X-WR-CALNAME:「なぜ売上が伸び悩むのか？」カギはポジシ
 ョニング！マーケティング実践セミナー
X-WR-TIMEZONE:Asia/Tokyo
BEGIN:VTIMEZONE
TZID:Asia/Tokyo
BEGIN:STANDARD
DTSTART:19700101T000000
TZOFFSETFROM:+0900
TZOFFSETTO:+0900
TZNAME:JST
END:STANDARD
END:VTIMEZONE
BEGIN:VEVENT
UID:983343@techplay.jp
SUMMARY:「なぜ売上が伸び悩むのか？」カギはポジショニ
 ング！マーケティング実践セミナー
DTSTART;TZID=Asia/Tokyo:20250911T130000
DTEND;TZID=Asia/Tokyo:20250911T150000
DTSTAMP:20260424T172115Z
CREATED:20250704T013423Z
DESCRIPTION:イベント詳細はこちら\nhttps://techplay.jp/event/98334
 3?utm_medium=referral&utm_source=ics&utm_campaign=ics\n\n参加者限定
 ！　無料で受け取れる豪華5大特典\n「このセミナーを
 受けた人だけが手にできる、超実践的な5つの特典をプ
 レゼント！」セミナー受講者限定 で、 ビジネスの成
 果を劇的に向上させる厳選特典 を 完全無料 でご提供
 します！どれも 今すぐ実践できるノウハウ ばかり。
 この機会を逃すと、二度と手に入らない可能性も……
 ！セミナーで学び、特典を活用することで、より深く
 実践できる内容になっています！\n【マーケティング
 戦略の核心「ポジショニング設計」セミナー】\n\n\n\n\n
 \n\n\n\n\nプログラム名\nマーケティング戦略の核心「ポ
 ジショニング設計」セミナー\n\n\n日時\n〇　9月11日(木)
  13:00〜15:00 ＠ZOOM　残席14 (9/3現在)〇　9月16日(火) 13:00
 〜15:00 ＠ZOOM　残席14 (9/3現在) この日程のお申し込みは
 コチラ⇒https://techplay.jp/event/984202\n\n\n料金\n無料\n\n\n場
 所\nZOOM\n\n\n参加対象\n※経営者・個人事業様向け・通
 販ビジネス経営者、WEBサイトオーナー・ECサイト店長
 ・集客サイトを所有する経営者\n\n\nプログラム内容\n
 ■ガイダンス & 講師紹介・セミナーの概要説明・講師
 の経歴や実績の紹介■受講生の成功事例紹介・月商90
 万円だった3代目女性経営者が、商品をほぼ変えずに2
 年で年商1億2千万円を達成・普通預金残高39円から事業
 を開始し、1年目で年商1億円超えを実現■オンライン
 トレーニング成功事例を基に、実践的なポジショニン
 グ戦略を解説・後発でも市場で勝つ方法キユーピーや
 アサヒビールなどの大手企業がひしめく市場に参入し
 、広告費を抑えながら市場2位を獲得した戦略・超大手
 通販企業に挑み、勝利する秘訣やずやなどの大手通販
 企業に対し、新商品で挑戦し、Amazon・楽天・Yahoo!の各
 プラットフォームで成功した方法・高額商品の短期間
 爆売れ戦略60\,000円超えのポータブル電源が、Amazonプラ
 イムデーでわずか30時間で1億円以上売れた施策を解説
 ■まとめ・質疑応答・特別なご案内\n\n\n参加特典\n①
 『経営禁則』ビジネスマネジメントやってはいけない1
 1の法則②売上が死ぬ前にたった2文字で救う方法③ク
 リック必至！　思わず押したくなるボタン事例集④伝
 え方を変えるだけで結果が変わる10の質問テンプレー
 ト⑤たったこれだけ！　成約率が75.2%upしたクリックの
 仕掛け動画\n\n\n\n本セミナーは、「広告を打っても反
 応がない」「差別化できず苦しい」と感じていた経営
 者が多数申し込み中です。\n同じようなお悩みを抱え
 る方は、ぜひご参加ください。\n【限定開催】19\,800円
 の人気セミナーがこの秋再び開催決定！\n「売れる仕
 組み」を作りたい経営者必見！市場で埋もれず、ライ
 バルに負けないポジショニング戦略を手に入れるチャ
 ンス！過去に2022年1月・2025年4月と開催し、いずれも大
 好評だった19800円のセミナーが2025年9月、ついに再登場
 ！今回の開催を記念して、今だけ無料で受講可能。毎
 回満席の人気セミナーのため、お申し込みはお早めに
 ！\nなぜ、19\,800円のセミナーが無料なのか？\n前回は 
 満席御礼 だった人気セミナー。人気講座の再開催を記
 念して 特別無料 で受講できます！無料の理由は3つ①
 最新の市場変化 に対応した新コンテンツを公開② 参
 加者の フィードバックを基にアップデート した内容
 を提供③「再受講したい！」という多数のリクエスト
 に応えて開催※今回だけの特別オファー。次回以降は
 有料の可能性が高いため、お早めに！\nこんなお悩み
 ありませんか？\n❌ 価格競争に巻き込まれ、利益が出
 ない…❌ 競合との差別化ができず、埋もれてしまう…
 ❌ どんなメッセージを発信すれば、お客様に響くのか
 わからない…このセミナーで解決できます！✔ 「売れ
 るビジネスの3大原則」 を学び、独自の強みを明確化
 ✔ 競争に巻き込まれないポジショニング戦略の作り方
 を解説✔ 成功事例を交えながら、すぐに使える実践策
  を伝授あなたの商品・サービスを「選ばれるブランド
 」に変える方法を学びましょう！\nセミナーで学べる
 こと\n・後発中小企業でも成功できるポジショニング
 戦略の具体的手法・少ない予算で確実にヒット商品を
 生み出す「弱者の戦略」・価格競争から抜け出し、高
 利益を生む戦略・AIを活用した即時分析と在庫リスク
 を抑えた商品企画手法・3秒で商品をプレゼンできる効
 果的なセールス手法・成功事例と失敗事例から学ぶ、
 実践的なポジショニング戦略の応用\n成果を実感した
 中小企業経営者の声\n年商1億円突破、V字回復、そして
 前年比150％成長を実現！受講後にここまで成果が出ま
 した\n\n1年目で年商1億円を突破！\nコロナ禍で一時的
 に売上が停滞するも、組織の力でV字回復\n前年比130%、
 そして今年度は150%成長を達成！\n\nお客様のリアルな
 声を動画で公開中！➡https://www.youtube.com/watch?v=SgzhyBqXBLk
 \n過去の取り組み事例はこちら\nオレコン式では、理論
 学習と並行して、各自の課題に合わせた戦略の土台作
 りをサポートします。\n講師プロフィール\n81業種、3\,2
 78社以上の企業に174.8億円超えの売上UPをもたらした男\
 nデジタルマーケティングビジネス効率の専門家『　山
 本琢磨(やまもとたくま)　』\n\n\nこれまでにWebデザイ
 ン、マイクロコピー、トラストフォーマットなど、\n
 ウェブページのA/Bテストやデータ分析に裏付けた改善
 方法で、\n3\,278社以上の企業にトレーニング、企業研
 修を実施。\n2017年からは、国内初となるマイクロコピ
 ーライティングの\nワークショップを開催。全国の経
 営者、通販ビジネス事業者を中心に、\nクライアント
 企業2\,364社以上でテストを実施し、\n自社においては
 国内外の1\,663を超える事例検証を行っている。\nこれ
 まで81業種を超えるクライアントにもたらした売上の
 伸びは、\n報告のあったものだけでも174.8億円以上。\n
 過去14年間で実施したWEBテストの回数は2\,000回を超え
 た。\n※出典：株式会社オレコン調査（2022年現在）\n\n
 ・日経 BPベストショップ2位連続受賞。・楽天ショップ
 ・オブ・ザ・イヤー2年連続/総合2位受賞。・『Webコピ
 ーライティングの新常識 ザ・マイクロコピー』Amazon3
 冠ベストセラー著者。・Yahoo!インターネットコミュ二
 ケーションアドバイザー全国1位。\n\n著書に専門書で
 は異例のAmazon3冠ベストセラーを記録した・「ザ・マイ
 クロコピー」（秀和システム）・米国マーケター・ダ
 ンケネディとの共著『常識を変えた15人の「売れる仕
 組み」』（ミラクルマインド出版）DVDに・「社長のた
 めの悪魔の時間管理術」（K.Eメディア）がある。\nご
 予定に合わせて選べます！\n「この日は厳しい…」と
 思った方へ。他の日程もあります！　満席になる前に
 、お早めにご確認ください。9月16日(火)13:00〜15:00　お
 申し込みはコチラ⇒https://techplay.jp/event/984202\n※本セミ
 ナーはすでに、“売上が伸び悩んでいる中小企業経営
 者”から多くの申込をいただいています。\n「同じ悩
 みだった」「ようやく道筋が見えた」との声も。\nご
 希望の方はお早めにお申し込みください。\n\n#経営戦
 略 #売上アップ #ポジショニング戦略 #EC売上アップ #経
 営者向けセミナー #売れる仕組み #D2Cマーケティング #
 通販ビジネス #マーケティング戦略 #競合との差別化 #
 顧客獲得 #ECマーケティング #売れる商品開発 #インク
 ルーシブ #マーケティング #パーソナライズドマーケテ
 ィング\n注意事項\n\nリクルーティング、勧誘など、採
 用目的でのイベント参加はお断りしております。\nキ
 ャンセル待ち・補欠・落選の方はご参加いただくこと
 が出来ませんのでご了承ください。\n欠席される場合
 は、お手数ですが速やかにキャンセル処理をお願い致
 します。\n無断キャンセルや欠席が続く場合、次回以
 降の参加をお断りさせていただく場合がございます。\
 n
LOCATION:
URL:https://techplay.jp/event/983343?utm_medium=referral&utm_source=ics&utm
 _campaign=ics
END:VEVENT
END:VCALENDAR
